Set-Object v1.40 Perl 5 v5.18.4 darwin-thread-multi-2level

Status
Pass
From
Gintautas Grigelionis
Dist
Set-Object v1.40
Platform
Perl 5 v5.18.4 darwin-thread-multi-2level
Date
2020-02-08 11:41:49
ID
fe6e151c-4a67-11ea-a80c-d5e757956d92
This distribution has been tested as part of the CPAN Testers
project, supporting the Perl programming language.  See
http://wiki.cpantesters.org/ for more information or email
questions to cpan-testers-discuss@perl.org


--
Dear Reini Urban,

This is a computer-generated report for Set-Object-1.40
on perl 5.18.4, created by CPAN-Reporter-1.2018.

Thank you for uploading your work to CPAN.  Congratulations!
All tests were successful.

Sections of this report:

    * Tester comments
    * Program output
    * Prerequisites
    * Environment and other context

------------------------------
TESTER COMMENTS
------------------------------

Additional comments from tester:

none provided

------------------------------
PROGRAM OUTPUT
------------------------------

Output from '/usr/bin/make test':

"/usr/bin/perl" -MExtUtils::Command::MM -e 'cp_nonempty' -- Object.bs blib/arch/auto/Set/Object/Object.bs 644
PERL_DL_NONLAZY=1 "/usr/bin/perl" "-MExtUtils::Command::MM" "-MTest::Harness" "-e" "undef *Test::Harness::Switches; test_harness(0, 'blib/lib', 'blib/arch')" t/ingy/arrayref.t t/misc/kwalitee.t t/misc/leaks.t t/misc/leaktrace.t t/misc/manifest.t t/misc/meta.t t/misc/more_leaks.t t/misc/perl_minimum_version.t t/misc/pod.t t/misc/pod_coverage.t t/misc/segfault.t t/misc/threads.t t/misc/undef.t t/object/abuse.t t/object/clear.t t/object/difference.t t/object/equal.t t/object/flags.t t/object/includes.t t/object/insert.t t/object/intersection.t t/object/magic.t t/object/members.t t/object/properties.t t/object/refcount.t t/object/remove.t t/object/set_subclass.t t/object/storable.t t/object/subsuper.t t/object/symmetric_difference.t t/object/union.t t/object/weakref.t t/scalar/basic.t t/scalar/basic_overload.t t/scalar/boolean.t t/scalar/clear.t t/scalar/compare.t t/scalar/custom_display.t t/scalar/difference.t t/scalar/each.t t/scalar/has.t t/scalar/intersection.t t/scalar/member.t t/scalar/misc.t t/scalar/rt131354.t t/scalar/set_set.t t/scalar/storable.t t/scalar/symmdiff.t t/scalar/union.t t/scalar/unique.t
t/ingy/arrayref.t ................ ok
t/misc/kwalitee.t ................ skipped: This test is only run for the module author
t/misc/leaks.t ................... ok
t/misc/leaktrace.t ............... ok
t/misc/manifest.t ................ skipped: Author tests not required for installation
t/misc/meta.t .................... skipped: This test is only run for the module author
t/misc/more_leaks.t .............. ok
t/misc/perl_minimum_version.t .... skipped: Author tests not required for installation
t/misc/pod.t ..................... ok
t/misc/pod_coverage.t ............ ok
t/misc/segfault.t ................ ok
Attempt to free nonexistent shared string '3', Perl interpreter: 0x7fc0cfb2a200 at t/misc/threads.t line 56.
Attempt to free nonexistent shared string '4', Perl interpreter: 0x7fc0cfb2a200 at t/misc/threads.t line 56.
Attempt to free nonexistent shared string '5', Perl interpreter: 0x7fc0cfb2a200 at t/misc/threads.t line 56.
Attempt to free nonexistent shared string '6', Perl interpreter: 0x7fc0cfb2a200 at t/misc/threads.t line 56.
Attempt to free nonexistent shared string '7', Perl interpreter: 0x7fc0cfb2a200 at t/misc/threads.t line 56.
Attempt to free nonexistent shared string '8', Perl interpreter: 0x7fc0cfb2a200 at t/misc/threads.t line 56.
Attempt to free nonexistent shared string '9', Perl interpreter: 0x7fc0cfb2a200 at t/misc/threads.t line 56.
Unbalanced string table refcount: (1) for "7" during global destruction.
Unbalanced string table refcount: (1) for "9" during global destruction.
Unbalanced string table refcount: (1) for "5" during global destruction.
Unbalanced string table refcount: (1) for "3" during global destruction.
Unbalanced string table refcount: (1) for "6" during global destruction.
Unbalanced string table refcount: (1) for "4" during global destruction.
Unbalanced string table refcount: (1) for "8" during global destruction.
t/misc/threads.t ................. ok
t/misc/undef.t ................... ok
t/object/abuse.t ................. ok
t/object/clear.t ................. ok
t/object/difference.t ............ ok
t/object/equal.t ................. ok
t/object/flags.t ................. ok
t/object/includes.t .............. ok
t/object/insert.t ................ ok
t/object/intersection.t .......... ok
t/object/magic.t ................. ok
t/object/members.t ............... ok
t/object/properties.t ............ ok
t/object/refcount.t .............. ok
t/object/remove.t ................ ok
t/object/set_subclass.t .......... ok
t/object/storable.t .............. ok
t/object/subsuper.t .............. ok
t/object/symmetric_difference.t .. ok
t/object/union.t ................. ok
t/object/weakref.t ............... ok
t/scalar/basic.t ................. ok
t/scalar/basic_overload.t ........ ok
t/scalar/boolean.t ............... ok
t/scalar/clear.t ................. ok
t/scalar/compare.t ............... ok
t/scalar/custom_display.t ........ ok
t/scalar/difference.t ............ ok
t/scalar/each.t .................. skipped: TO-DO
t/scalar/has.t ................... ok
t/scalar/intersection.t .......... ok
t/scalar/member.t ................ ok
t/scalar/misc.t .................. ok
t/scalar/rt131354.t .............. ok
t/scalar/set_set.t ............... ok
t/scalar/storable.t .............. ok
t/scalar/symmdiff.t .............. ok
t/scalar/union.t ................. ok
t/scalar/unique.t ................ ok
All tests successful.
Files=50, Tests=463,  4 wallclock secs ( 0.16 usr  0.09 sys +  2.84 cusr  0.58 csys =  3.67 CPU)
Result: PASS

------------------------------
PREREQUISITES
------------------------------

Prerequisite modules loaded:

requires:

    Module              Need Have    
    ------------------- ---- --------
    Scalar::Util        0    1.54    
    Test::More          0    1.302171

build_requires:

    Module              Need Have    
    ------------------- ---- --------
    ExtUtils::MakeMaker 0    7.42    

configure_requires:

    Module              Need Have    
    ------------------- ---- --------
    ExtUtils::MakeMaker 0    7.42    


------------------------------
ENVIRONMENT AND OTHER CONTEXT
------------------------------

Environment variables:

    LANG = sv_SE.UTF-8
    PATH = /usr/local/bin:/usr/bin:/bin:/usr/sbin:/sbin:/Library/TeX/texbin:/usr/local/MacGPG2/bin:/opt/X11/bin
    PERL5LIB = 
    PERL5OPT = 
    PERL5_CPANPLUS_IS_RUNNING = 37462
    PERL5_CPAN_IS_RUNNING = 37462
    SHELL = /bin/bash
    TERM = xterm-256color
    TMPDIR = /var/folders/y9/7vddvyqs64j1pfp28_p_6dfm0000gn/T/
    VERSIONER_PERL_VERSION = 5.18

Perl special variables (and OS-specific diagnostics, for MSWin32):

    $^X = /usr/bin/perl
    $UID/$EUID = 501 / 501
    $GID = 20 20 12 61 79 80 81 98 33 100 204 250 395 398 399 400
    $EGID = 20 20 12 61 79 80 81 98 33 100 204 250 395 398 399 400

Perl module toolchain versions installed:

    Module              Have    
    ------------------- --------
    CPAN                2.00    
    CPAN::Meta          2.150010
    Cwd                 3.75    
    ExtUtils::CBuilder  0.280231
    ExtUtils::Command   7.42    
    ExtUtils::Install   2.14    
    ExtUtils::MakeMaker 7.42    
    ExtUtils::Manifest  1.72    
    ExtUtils::ParseXS   3.35    
    File::Spec          3.75    
    JSON                4.02    
    JSON::PP            4.04    
    Module::Build       0.4229  
    Module::Signature   0.83    
    Parse::CPAN::Meta   2.150010
    Test::Harness       3.42    
    Test::More          1.302171
    YAML                1.30    
    YAML::Syck          1.31    
    version             0.9924  


--

Summary of my perl5 (revision 5 version 18 subversion 4) configuration:
   
  Platform:
    osname=darwin, osvers=19.0, archname=darwin-thread-multi-2level
    uname='darwin osx374.sd.apple.com 19.0 darwin kernel version 18.0.0: tue jul 9 11:12:08 pdt 2019; root:xnu-4903.201.2.100.7~1release_x86_64 x86_64 '
    config_args='-ds -e -Dprefix=/usr -Dccflags=-g  -pipe  -Dldflags= -Dman3ext=3pm -Duseithreads -Duseshrplib -Dinc_version_list=none -Dcc=cc'
    hint=recommended, useposix=true, d_sigaction=define
    useithreads=define, usemultiplicity=define
    useperlio=define, d_sfio=undef, uselargefiles=define, usesocks=undef
    use64bitint=define, use64bitall=define, uselongdouble=undef
    usemymalloc=n, bincompat5005=undef
  Compiler:
    cc='cc', ccflags =' -g -pipe -fno-common -DPERL_DARWIN -fno-strict-aliasing -fstack-protector',
    optimize='-Os',
    cppflags='-g -pipe -fno-common -DPERL_DARWIN -fno-strict-aliasing -fstack-protector'
    ccversion='', gccversion='4.2.1 Compatible Apple LLVM 11.0.0 (clang-1100.0.32.4) (-macos10.15-objc-selector-opts)', gccosandvers=''
    intsize=4, longsize=8, ptrsize=8, doublesize=8, byteorder=12345678
    d_longlong=define, longlongsize=8, d_longdbl=define, longdblsize=16
    ivtype='long', ivsize=8, nvtype='double', nvsize=8, Off_t='off_t', lseeksize=8
    alignbytes=8, prototype=define
  Linker and Libraries:
    ld='cc', ldflags =' -fstack-protector'
    libpth=/usr/lib /usr/local/lib
    libs= 
    perllibs=
    libc=, so=dylib, useshrplib=true, libperl=libperl.dylib
    gnulibc_version=''
  Dynamic Linking:
    dlsrc=dl_dlopen.xs, dlext=bundle, d_dlsymun=undef, ccdlflags=' '
    cccdlflags=' ', lddlflags=' -bundle -undefined dynamic_lookup -fstack-protector'


Characteristics of this binary (from libperl): 
  Compile-time options: HAS_TIMES MULTIPLICITY PERLIO_LAYERS
                        PERL_DONT_CREATE_GVSV
                        PERL_HASH_FUNC_ONE_AT_A_TIME_HARD
                        PERL_IMPLICIT_CONTEXT PERL_MALLOC_WRAP
                        PERL_PRESERVE_IVUV PERL_SAWAMPERSAND USE_64_BIT_ALL
                        USE_64_BIT_INT USE_ITHREADS USE_LARGE_FILES
                        USE_LOCALE USE_LOCALE_COLLATE USE_LOCALE_CTYPE
                        USE_LOCALE_NUMERIC USE_PERLIO USE_PERL_ATOF
                        USE_REENTRANT_API
  Locally applied patches:
	/Library/Perl/Updates/<version> comes before system perl directories
	installprivlib and installarchlib points to the Updates directory
  Built under darwin
  Compiled at Dec 13 2019 14:54:45
  %ENV:
    PERL5LIB=""
    PERL5OPT=""
    PERL5_CPANPLUS_IS_RUNNING="37462"
    PERL5_CPAN_IS_RUNNING="37462"
  @INC:
    /Library/Perl/5.18/darwin-thread-multi-2level
    /Library/Perl/5.18
    /Network/Library/Perl/5.18/darwin-thread-multi-2level
    /Network/Library/Perl/5.18
    /Library/Perl/Updates/5.18.4/darwin-thread-multi-2level
    /Library/Perl/Updates/5.18.4
    /System/Library/Perl/5.18/darwin-thread-multi-2level
    /System/Library/Perl/5.18
    /System/Library/Perl/Extras/5.18/darwin-thread-multi-2level
    /System/Library/Perl/Extras/5.18
    .