Benchmark-Timer v0.7112 Perl 5 v5.32.1 i386-openbsd
- Status
- Pass
- From
- Alceu Rodrigues de Freitas Junior
- Dist
-
Benchmark-Timer v0.7112
- Platform
- Perl 5 v5.32.1 i386-openbsd
- Date
- 2022-06-26 18:22:53
- ID
- fe792732-f57c-11ec-b737-db65ffa5fe2c
This distribution has been tested as part of the CPAN Testers
project, supporting the Perl programming language. See
http://wiki.cpantesters.org/ for more information or email
questions to cpan-testers-discuss@perl.org
--
Dear David Coppit,
This is a computer-generated report for Benchmark-Timer-0.7112
on perl 5.32.1, created by CPAN-Reporter-1.2018.
Thank you for uploading your work to CPAN. Congratulations!
All tests were successful.
Sections of this report:
* Tester comments
* Program output
* Prerequisites
* Environment and other context
------------------------------
TESTER COMMENTS
------------------------------
Additional comments from tester:
this report is from an automated smoke testing program
and was not reviewed by a human for accuracy
If you would like to try to reproduce this report results or even to work with
the same environment for a bug fix, please refer to
https://github.com/glasswalk3r/cpan-openbsd-smoker to see how to use the
prebuilt virtual machines available.
------------------------------
PROGRAM OUTPUT
------------------------------
Output from '/usr/bin/make test':
PERL_DL_NONLAZY=1 "/usr/bin/perl" "-MExtUtils::Command::MM" "-MTest::Harness" "-e" "undef *Test::Harness::Switches; test_harness(1, 'blib/lib', 'blib/arch')" t/*.t
t/000_standard__compile.t .......
1..1
ok 1 - blib/lib/Benchmark/Timer.pm compiles
ok
t/000_standard__perl_critic.t ... skipped: Author test. Set $ENV{TEST_AUTHOR} to a true value to run.
t/000_standard__pod.t ...........
1..2
ok 1 - POD test for blib/lib/Benchmark/Timer.pm
ok 2 - POD test for blib/lib/Benchmark/delta.pl
ok
t/000_standard__pod_coverage.t ..
1..1
ok 1 - Pod coverage on Benchmark::Timer
ok
t/01_basic.t ....................
1..11
ok 1 - use Benchmark::Timer;
ok 2 - Construct Benchmark::Timer
ok 3 - reset
ok 4 - Start/stop a tag
ok 5 - Nonzero single result
ok 6 - Multiple results
ok 7 - 'Array ref results' isa 'ARRAY'
ok 8 - tag data array
ok 9 - 'Array ref data' isa 'ARRAY'
ok 10 - all tags data array
ok 11 - 'all tags data ref' isa 'ARRAY'
ok
t/02_skip.t .....................
1..5
ok 1 - Data size two tags
ok 2 - Data size skip 1
ok 3 - Data size 1 trial only
ok 4 - Data size no trials
ok 5 - Data size no trials (n+1)
ok
t/03_statistical.t ..............
1..4
ok 1 - Created Benchmark::Timer
1 trial of tag (1.009s total)
Error: +/- 0.00000 with 97.5 confidence
2 trials of tag (2.017s total), 1.009s/trial
Error: +/- 0.01741 with 97.5 confidence
3 trials of tag (3.025s total), 1.008s/trial
Error: +/- 0.00336 with 97.5 confidence
ok 2 - Finished collecting data
ok 3 - Statistical results
Data:
$VAR1 = [
'1.009267',
'1.007899',
'1.00747'
];
ok 4 - More than 2 trials
ok
t/04_reports.t ..................
1..10
ok 1 - Start/stop a tag
ok 2 - Single timing report
ok 3 - Multiple timing report
ok 4 - Multiple timing report--scalar
ok 5 - Multiple timing report--hash
ok 6 - Single timing report--last tag used
ok 7 - Multiple timing report--scalar
ok 8 - Multiple timing report--hash
ok 9 - Multiple timing report--hash element 1
ok 10 - Multiple timing report--hash element 2
ok
t/99_errors.t ...................
1..6
ok 1 - Must call start first
ok 2 - Out of sync
ok 3 - Argument skip 1
ok 4 - Argument skip 2
ok 5 - Argument skip 3
ok 6 - Invalid argument
ok
All tests successful.
Files=9, Tests=40, 5 wallclock secs ( 0.05 usr 0.06 sys + 0.95 cusr 0.57 csys = 1.63 CPU)
Result: PASS
------------------------------
PREREQUISITES
------------------------------
Prerequisite modules loaded:
requires:
Module Need Have
------------------- ----- ---------
perl 5.005 5.032001
Time::HiRes 0 1.9764_02
build_requires:
Module Need Have
------------------- ----- ---------
ExtUtils::MakeMaker 6.36 7.65_01
Test::Compile 0 v3.1.0
Test::More 0 1.302190
UNIVERSAL::require 0 0.19
URI::Escape 0 5.10
configure_requires:
Module Need Have
------------------- ----- ---------
ExtUtils::MakeMaker 6.36 7.65_01
URI::Escape 0 5.10
------------------------------
ENVIRONMENT AND OTHER CONTEXT
------------------------------
Environment variables:
AUTOMATED_TESTING = 1
PATH = /home/goku/perl5/bin:/usr/bin:/bin:/usr/sbin:/sbin:/usr/X11R6/bin:/usr/local/bin:/usr/local/sbin
PERL5LIB = /home/goku/perl5/lib/perl5
PERL5OPT =
PERL5_CPANPLUS_IS_RUNNING = 17936
PERL5_CPAN_IS_RUNNING = 17936
PERL5_CPAN_IS_RUNNING_IN_RECURSION = 1201,17936
PERL_CR_SMOKER_CURRENT = Benchmark-Timer-0.7112
PERL_EXTUTILS_AUTOINSTALL = --defaultdeps
PERL_LOCAL_LIB_ROOT = /home/goku/perl5
PERL_MB_OPT = --install_base "/home/goku/perl5"
PERL_MM_OPT = INSTALL_BASE=/home/goku/perl5
PERL_MM_USE_DEFAULT = 1
PERL_USE_UNSAFE_INC = 1
SHELL = /bin/ksh
TERM = xterm-256color
Perl special variables (and OS-specific diagnostics, for MSWin32):
$^X = /usr/bin/perl
$UID/$EUID = 1001 / 1001
$GID = 1002 1002 1001
$EGID = 1002 1002 1001
Perl module toolchain versions installed:
Module Have
------------------- --------
CPAN 2.34
CPAN::Meta 2.150010
Cwd 3.78
ExtUtils::CBuilder 0.280236
ExtUtils::Command 7.65_01
ExtUtils::Install 2.20
ExtUtils::MakeMaker 7.65_01
ExtUtils::Manifest 1.73
ExtUtils::ParseXS 3.44
File::Spec 3.78
JSON 4.06
JSON::PP 4.09
Module::Build 0.4231
Module::Signature n/a
Parse::CPAN::Meta 2.150010
Test::Harness 3.44
Test::More 1.302190
YAML 1.30
YAML::Syck 1.34
version 0.9929
--
Summary of my perl5 (revision 5 version 32 subversion 1) configuration:
Platform:
osname=openbsd
osvers=7.1
archname=i386-openbsd
uname='openbsd'
config_args='-dse -Dopenbsd_distribution=defined -Dmksymlinks'
hint=recommended
useposix=true
d_sigaction=define
useithreads=undef
usemultiplicity=undef
use64bitint=undef
use64bitall=undef
uselongdouble=undef
usemymalloc=n
default_inc_excludes_dot=define
bincompat5005=undef
Compiler:
cc='cc'
ccflags ='-DNO_LOCALE_NUMERIC -DNO_LOCALE_COLLATE -fno-strict-aliasing -fno-delete-null-pointer-checks -pipe -fstack-protector-strong -I/usr/local/include'
optimize='-O2'
cppflags='-DBIG_TIME -DNO_LOCALE_NUMERIC -DNO_LOCALE_COLLATE -fno-strict-aliasing -fno-delete-null-pointer-checks -pipe -fstack-protector-strong -I/usr/local/include'
ccversion=''
gccversion='OpenBSD Clang 13.0.0'
gccosandvers=''
intsize=4
longsize=4
ptrsize=4
doublesize=8
byteorder=1234
doublekind=3
d_longlong=define
longlongsize=8
d_longdbl=define
longdblsize=12
longdblkind=3
ivtype='long'
ivsize=4
nvtype='double'
nvsize=8
Off_t='off_t'
lseeksize=8
alignbytes=4
prototype=define
Linker and Libraries:
ld='cc'
ldflags ='-Wl,-E -fstack-protector-strong -L/usr/local/lib'
libpth=/usr/lib /usr/lib/clang/13.0.0/lib /usr/lib
libs=-lm -lc
perllibs=-lm -lc
libc=/usr/lib/libc.so.96.1
so=so
useshrplib=true
libperl=libperl.so.22.0
gnulibc_version=''
Dynamic Linking:
dlsrc=dl_dlopen.xs
dlext=so
d_dlsymun=undef
ccdlflags='-Wl,-R/usr/libdata/perl5/i386-openbsd/CORE'
cccdlflags='-DPIC -fpic '
lddlflags='-shared -fpic -fstack-protector-strong -L/usr/local/lib'
Characteristics of this binary (from libperl):
Compile-time options:
HAS_TIMES
PERLIO_LAYERS
PERL_COPY_ON_WRITE
PERL_DONT_CREATE_GVSV
PERL_MALLOC_WRAP
PERL_OP_PARENT
PERL_PRESERVE_IVUV
USE_LARGE_FILES
USE_LOCALE
USE_LOCALE_CTYPE
USE_LOCALE_TIME
USE_PERLIO
USE_PERL_ATOF
Built under openbsd
%ENV:
PERL5LIB="/home/goku/perl5/lib/perl5"
PERL5OPT=""
PERL5_CPANPLUS_IS_RUNNING="17936"
PERL5_CPAN_IS_RUNNING="17936"
PERL5_CPAN_IS_RUNNING_IN_RECURSION="1201,17936"
PERL_CR_SMOKER_CURRENT="Benchmark-Timer-0.7112"
PERL_EXTUTILS_AUTOINSTALL="--defaultdeps"
PERL_LOCAL_LIB_ROOT="/home/goku/perl5"
PERL_MB_OPT="--install_base "/home/goku/perl5""
PERL_MM_OPT="INSTALL_BASE=/home/goku/perl5"
PERL_MM_USE_DEFAULT="1"
PERL_USE_UNSAFE_INC="1"
@INC:
/home/goku/perl5/lib/perl5/i386-openbsd
/home/goku/perl5/lib/perl5
/usr/local/libdata/perl5/site_perl/i386-openbsd
/usr/local/libdata/perl5/site_perl
/usr/libdata/perl5/i386-openbsd
/usr/libdata/perl5
.