Report for JSON-Any-1.36

Back
From: metabase:user:5d3557d2-3c72-11e3-a020-0dfbcd73216e
Subject: PASS JSON-Any-1.36 v5.20.0 Mac OS X
Date: 2014-09-06T08:37:10Z

This distribution has been tested as part of the CPAN Testers
project, supporting the Perl programming language.  See
http://wiki.cpantesters.org/ for more information or email
questions to cpan-testers-discuss@perl.org


--
Dear Karen Etheridge,

This is a computer-generated report for JSON-Any-1.36
on perl 5.20.0, created by CPAN-Reporter-1.2011.

Thank you for uploading your work to CPAN.  Congratulations!
All tests were successful.

Sections of this report:

    * Tester comments
    * Program output
    * Prerequisites
    * Environment and other context

------------------------------
TESTER COMMENTS
------------------------------

Additional comments from tester:

none provided

------------------------------
PROGRAM OUTPUT
------------------------------

Output from '/usr/bin/make test':

PERL_DL_NONLAZY=1 /Users/sno/perl5/perlbrew/perls/perl-5.20.0/bin/perl "-MExtUtils::Command::MM" "-MTest::Harness" "-e" "undef *Test::Harness::Switches; test_harness(0, 'blib/lib', 'blib/arch')" t/*.t
# Testing JSON::Any 1.36 Perl 5.020000, /Users/sno/perl5/perlbrew/perls/perl-5.20.0/bin/perl
t/00-load.t ............ ok
# 
# Versions for all modules listed in MYMETA.json (including optional ones):
# 
# === Configure Requires ===
# 
#     Module              Want Have
#     ------------------- ---- ----
#     ExtUtils::MakeMaker  any 6.98
# 
# === Build Requires ===
# 
#     Module              Want Have
#     ------------------- ---- ----
#     ExtUtils::MakeMaker  any 6.98
# 
# === Test Requires ===
# 
#     Module                 Want     Have
#     --------------------- ----- --------
#     Data::Dumper            any    2.151
#     ExtUtils::MakeMaker     any     6.98
#     File::Spec              any     3.47
#     Storable                any     2.51
#     Test::Fatal             any    0.013
#     Test::More              any 1.001006
#     Test::Requires          any     0.08
#     Test::Warnings        0.009    0.016
#     Test::Without::Module   any     0.18
#     utf8                    any     1.13
# 
# === Test Recommends ===
# 
#     Module         Want     Have
#     ---------- -------- --------
#     CPAN::Meta 2.120900 2.142060
# 
# === Runtime Requires ===
# 
#     Module           Want   Have
#     ---------------- ---- ------
#     Carp              any 1.3301
#     constant          any   1.31
#     namespace::clean  any   0.25
#     strict            any   1.08
#     warnings          any   1.23
# 
# === Other Modules ===
# 
#     Module           Want     Have
#     ---------------- ---- --------
#     Cpanel::JSON::XS  any  missing
#     JSON              any     2.90
#     JSON::DWIW        any     0.47
#     JSON::MaybeXS     any 1.002002
#     JSON::PP          any  2.27203
#     JSON::Syck        any     1.27
#     JSON::XS          any     3.01
# 
t/00-report-prereqs.t .. ok
# Testing JSON.pm backend
t/01-JSON.t ............ ok
# Testing JSON::XS backend
t/02-JSON-XS.t ......... ok
# Testing JSON::DWIW backend
t/03-JSON-DWIW.t ....... ok
t/04-ENV.t ............. ok
Found deprecated package JSON::Syck. Please upgrade to Cpanel::JSON::XS, JSON::XS, JSON::PP, JSON or JSON::DWIW at (eval 4) line 1.
t/05-JSON-Syck.t ....... ok
# Testing JSON::PP backend
t/06-JSON-PP.t ......... ok
t/07-CPanel-JSON-XS.t .. skipped: Cpanel::JSON::XS not installed: Couldn't find a JSON package. Need Cpanel::JSON::XS at (eval 4) line 1.
t/10_unicode.t ......... ok
t/11-string-escape.t ... ok
t/12-boolean.t ......... ok
t/13-no-backends.t ..... ok
t/14-deprecated.t ...... ok
All tests successful.
Files=14, Tests=200,  1 wallclock secs ( 0.08 usr  0.04 sys +  1.13 cusr  0.18 csys =  1.43 CPU)
Result: PASS

------------------------------
PREREQUISITES
------------------------------

Prerequisite modules loaded:

requires:

    Module                Need  Have    
    --------------------- ----- --------
    Carp                  0     1.3301  
    constant              0     1.31    
    namespace::clean      0     0.25    
    strict                0     1.08    
    warnings              0     1.23    

build_requires:

    Module                Need  Have    
    --------------------- ----- --------
    Data::Dumper          0     2.151   
    ExtUtils::MakeMaker   0     6.98    
    File::Spec            0     3.47    
    Storable              0     2.51    
    Test::Fatal           0     0.013   
    Test::More            0     1.001006
    Test::Requires        0     0.08    
    Test::Warnings        0.009 0.016   
    Test::Without::Module 0     0.18    
    utf8                  0     1.13    

configure_requires:

    Module                Need  Have    
    --------------------- ----- --------
    ExtUtils::MakeMaker   0     6.98    


------------------------------
ENVIRONMENT AND OTHER CONTEXT
------------------------------

Environment variables:

    LANG = de_DE.UTF-8
    PATH = /Users/sno/perl5/perlbrew/bin:/Users/sno/perl5/perlbrew/perls/perl-5.20.0/bin:/Users/sno/bin:/opt/pkg/bin:/opt/pkg/sbin:/usr/bin:/bin:/usr/sbin:/sbin:/usr/local/bin:/opt/X11/bin
    PERL5LIB = 
    PERL5OPT = 
    PERL5_CPANPLUS_IS_RUNNING = 50791
    PERL5_CPAN_IS_RUNNING = 50791
    PERLBREW_BASHRC_VERSION = 0.54
    PERLBREW_HOME = /Users/sno/.perlbrew
    PERLBREW_MANPATH = /Users/sno/perl5/perlbrew/perls/perl-5.20.0/man
    PERLBREW_PATH = /Users/sno/perl5/perlbrew/bin:/Users/sno/perl5/perlbrew/perls/perl-5.20.0/bin
    PERLBREW_PERL = perl-5.20.0
    PERLBREW_ROOT = /Users/sno/perl5/perlbrew
    PERLBREW_VERSION = 0.64
    SHELL = /bin/bash
    TERM = xterm
    TMPDIR = /var/folders/5s/sk58jrwj7jj73phc9lcx9nh80000gn/T/

Perl special variables (and OS-specific diagnostics, for MSWin32):

    $^X = /Users/sno/perl5/perlbrew/perls/perl-5.20.0/bin/perl
    $UID/$EUID = 501 / 501
    $GID = 20 20 501 12 61 79 80 81 98 33 100 204 398 399
    $EGID = 20 20 501 12 61 79 80 81 98 33 100 204 398 399

Perl module toolchain versions installed:

    Module              Have    
    ------------------- --------
    CPAN                2.05    
    CPAN::Meta          2.142060
    Cwd                 3.47    
    ExtUtils::CBuilder  0.280216
    ExtUtils::Command   1.18    
    ExtUtils::Install   1.68    
    ExtUtils::MakeMaker 6.98    
    ExtUtils::Manifest  1.63    
    ExtUtils::ParseXS   3.24    
    File::Spec          3.47    
    JSON                2.90    
    JSON::PP            2.27203 
    Module::Build       0.4210  
    Module::Signature   n/a     
    Parse::CPAN::Meta   1.4414  
    Test::Harness       3.33    
    Test::More          1.001006
    YAML                1.11    
    YAML::Syck          1.27    
    version             0.9909  


--

Summary of my perl5 (revision 5 version 20 subversion 0) configuration:
   
  Platform:
    osname=darwin, osvers=13.2.0, archname=darwin-2level
    uname='darwin ernie.muppets.liwing.de 13.2.0 darwin kernel version 13.2.0: thu apr 17 23:03:13 pdt 2014; root:xnu-2422.100.13~1release_x86_64 x86_64 '
    config_args='-de -Dprefix=/Users/sno/perl5/perlbrew/perls/perl-5.20.0 -Aeval:scriptdir=/Users/sno/perl5/perlbrew/perls/perl-5.20.0/bin'
    hint=recommended, useposix=true, d_sigaction=define
    useithreads=undef, usemultiplicity=undef
    use64bitint=define, use64bitall=define, uselongdouble=undef
    usemymalloc=n, bincompat5005=undef
  Compiler:
    cc='cc', ccflags ='-fno-common -DPERL_DARWIN -fno-strict-aliasing -pipe -fstack-protector',
    optimize='-O3',
    cppflags='-fno-common -DPERL_DARWIN -fno-strict-aliasing -pipe -fstack-protector'
    ccversion='', gccversion='4.2.1 Compatible Apple LLVM 5.1 (clang-503.0.40)', gccosandvers=''
    intsize=4, longsize=8, ptrsize=8, doublesize=8, byteorder=12345678
    d_longlong=define, longlongsize=8, d_longdbl=define, longdblsize=16
    ivtype='long', ivsize=8, nvtype='double', nvsize=8, Off_t='off_t', lseeksize=8
    alignbytes=8, prototype=define
  Linker and Libraries:
    ld='env MACOSX_DEPLOYMENT_TARGET=10.3 cc', ldflags =' -fstack-protector'
    libpth=/Applications/Xcode.app/Contents/Developer/Toolchains/XcodeDefault.xctoolchain/usr/bin/../lib/clang/5.1/lib /Applications/Xcode.app/Contents/Developer/Toolchains/XcodeDefault.xctoolchain/usr/lib /Applications/Xcode.app/Contents/Developer/Platforms/MacOSX.platform/Developer/SDKs/MacOSX10.9.sdk/usr/lib /usr/lib
    libs=-ldbm -ldl -lm -lutil -lc
    perllibs=-ldl -lm -lutil -lc
    libc=, so=dylib, useshrplib=false, libperl=libperl.a
    gnulibc_version=''
  Dynamic Linking:
    dlsrc=dl_dlopen.xs, dlext=bundle, d_dlsymun=undef, ccdlflags=' '
    cccdlflags=' ', lddlflags=' -bundle -undefined dynamic_lookup -fstack-protector'


Characteristics of this binary (from libperl): 
  Compile-time options: HAS_TIMES PERLIO_LAYERS PERL_DONT_CREATE_GVSV
                        PERL_HASH_FUNC_ONE_AT_A_TIME_HARD PERL_MALLOC_WRAP
                        PERL_NEW_COPY_ON_WRITE PERL_PRESERVE_IVUV
                        USE_64_BIT_ALL USE_64_BIT_INT USE_LARGE_FILES
                        USE_LOCALE USE_LOCALE_COLLATE USE_LOCALE_CTYPE
                        USE_LOCALE_NUMERIC USE_PERLIO USE_PERL_ATOF
  Built under darwin
  Compiled at May 29 2014 08:40:28
  %ENV:
    PERL5LIB=""
    PERL5OPT=""
    PERL5_CPANPLUS_IS_RUNNING="50791"
    PERL5_CPAN_IS_RUNNING="50791"
    PERLBREW_BASHRC_VERSION="0.54"
    PERLBREW_HOME="/Users/sno/.perlbrew"
    PERLBREW_MANPATH="/Users/sno/perl5/perlbrew/perls/perl-5.20.0/man"
    PERLBREW_PATH="/Users/sno/perl5/perlbrew/bin:/Users/sno/perl5/perlbrew/perls/perl-5.20.0/bin"
    PERLBREW_PERL="perl-5.20.0"
    PERLBREW_ROOT="/Users/sno/perl5/perlbrew"
    PERLBREW_VERSION="0.64"
  @INC:
    /Users/sno/perl5/perlbrew/perls/perl-5.20.0/lib/site_perl/5.20.0/darwin-2level
    /Users/sno/perl5/perlbrew/perls/perl-5.20.0/lib/site_perl/5.20.0
    /Users/sno/perl5/perlbrew/perls/perl-5.20.0/lib/5.20.0/darwin-2level
    /Users/sno/perl5/perlbrew/perls/perl-5.20.0/lib/5.20.0
    .