Eval-Reversible vv0.900.1 Perl 5 v5.18.2 x86_64-linux-thread-multi
- Status
- Pass
- From
- Andreas J. König (ANDK)
- Dist
-
Eval-Reversible vv0.900.1
- Platform
- Perl 5 v5.18.2 x86_64-linux-thread-multi
- Date
- 2024-10-15 05:47:42
- ID
- fe8288ee-8ab8-11ef-932f-d8af2ec14e7e
This distribution has been tested as part of the CPAN Testers
project, supporting the Perl programming language. See
http://wiki.cpantesters.org/ for more information or email
questions to cpan-testers-discuss@perl.org
--
Dear Grant Street Group,
This is a computer-generated report for Eval-Reversible-v0.900.1
on perl 5.18.2, created by CPAN-Reporter-1.2019.
Thank you for uploading your work to CPAN. Congratulations!
All tests were successful.
Sections of this report:
* Tester comments
* Program output
* Prerequisites
* Environment and other context
------------------------------
TESTER COMMENTS
------------------------------
Additional comments from tester:
this report is from an automated smoke testing program
and was not reviewed by a human for accuracy
------------------------------
PROGRAM OUTPUT
------------------------------
Output from '/usr/bin/make test':
PERL_DL_NONLAZY=1 "/home/sand/src/perl/repoperls/installed-perls/host/k93msid/v5.18.2/29fb/bin/perl" "-MExtUtils::Command::MM" "-MTest::Harness" "-e" "undef *Test::Harness::Switches; test_harness(0, 'blib/lib', 'blib/arch')" t/*.t
t/00-compile.t ........... ok
#
# Versions for all modules listed in MYMETA.json (including optional ones):
#
# === Configure Requires ===
#
# Module Want Have
# ------------------- ------ ----
# ExtUtils::MakeMaker 7.1101 7.70
#
# === Build Requires ===
#
# Module Want Have
# ------------------- ---- ----
# ExtUtils::MakeMaker any 7.70
#
# === Test Requires ===
#
# Module Want Have
# ----------------------- ---- --------
# ExtUtils::MakeMaker any 7.70
# File::Spec any 3.75
# IO::Handle any 1.55
# IPC::Open3 any 1.13
# Test2::Bundle::More any 1.302201
# Test2::Tools::Exception any 1.302201
# Test::More any 1.302201
# strict any 1.07
# warnings any 1.18
#
# === Test Recommends ===
#
# Module Want Have
# ---------- -------- --------
# CPAN::Meta 2.120900 2.150010
#
# === Runtime Requires ===
#
# Module Want Have
# ---------------- ---- --------
# Exporter any 5.77
# Moo any 2.005005
# MooX::HandlesVia any 0.001009
# Scalar::Util any 1.63
# Types::Standard any 2.006000
# namespace::clean any 0.27
#
t/00-report-prereqs.t .... ok
t/author-boilerplate.t ... skipped: these tests are for testing by the author
t/author-pod-coverage.t .. skipped: these tests are for testing by the author
t/author-pod.t ........... skipped: these tests are for testing by the author
t/author-strict.t ........ skipped: these tests are for testing by the author
t/author-version.t ....... skipped: these tests are for testing by the author
t/reversibly.t ........... ok
t/run_reversibly.t ....... ok
All tests successful.
Files=9, Tests=10, 3 wallclock secs ( 0.05 usr 0.02 sys + 0.86 cusr 0.19 csys = 1.12 CPU)
Result: PASS
------------------------------
PREREQUISITES
------------------------------
Prerequisite modules loaded:
requires:
Module Need Have
----------------------- ------ --------
Exporter 0 5.77
Moo 0 2.005005
MooX::HandlesVia 0 0.001009
namespace::clean 0 0.27
Scalar::Util 0 1.63
Types::Standard 0 2.006000
build_requires:
Module Need Have
----------------------- ------ --------
ExtUtils::MakeMaker 0 7.70
File::Spec 0 3.75
IO::Handle 0 1.55
IPC::Open3 0 1.13
strict 0 1.07
Test2::Bundle::More 0 1.302201
Test2::Tools::Exception 0 1.302201
Test::More 0 1.302201
warnings 0 1.18
configure_requires:
Module Need Have
----------------------- ------ --------
ExtUtils::MakeMaker 7.1101 7.70
------------------------------
ENVIRONMENT AND OTHER CONTEXT
------------------------------
Environment variables:
AUTOMATED_TESTING = 1
LANG = en_US.UTF-8
LANGUAGE = en_US:en
PATH = /home/sand/bin:/usr/local/bin:/usr/bin:/bin:/usr/games:/usr/local/perl/bin:/usr/X11/bin:/sbin:/usr/sbin
PERL5LIB =
PERL5OPT =
PERL5_CPANPLUS_IS_RUNNING = 3635339
PERL5_CPAN_IS_RUNNING = 3635339
PERL_CANARY_STABILITY_NOPROMPT = 1
PERL_MM_USE_DEFAULT = 1
PERL_USE_UNSAFE_INC = 1
SHELL = /usr/bin/zsh
TERM = screen
Perl special variables (and OS-specific diagnostics, for MSWin32):
$^X = /home/sand/src/perl/repoperls/installed-perls/host/k93msid/v5.18.2/29fb/bin/perl
$UID/$EUID = 1005 / 1005
$GID = 1005 1005
$EGID = 1005 1005
Perl module toolchain versions installed:
Module Have
------------------- --------
CPAN 2.36
CPAN::Meta 2.150010
Cwd 3.75
ExtUtils::CBuilder 0.280236
ExtUtils::Command 7.70
ExtUtils::Install 2.06
ExtUtils::MakeMaker 7.70
ExtUtils::Manifest 1.75
ExtUtils::ParseXS 3.51
File::Spec 3.75
JSON 4.10
JSON::PP 4.16
Module::Build 0.4234
Module::Signature 0.88
Parse::CPAN::Meta 2.150010
Test2 1.302201
Test::Harness 3.48
Test::More 1.302201
YAML 1.30
YAML::Syck 1.34
version 0.9930
--
Summary of my perl5 (revision 5 version 18 subversion 2) configuration:
Derived from: e2a4306ace4a19cb3a434e4eb9fedad6ff1248b4
Platform:
osname=linux, osvers=6.5.0-4-amd64, archname=x86_64-linux-thread-multi
uname='linux k93msid 6.5.0-4-amd64 #1 smp preempt_dynamic debian 6.5.10-1 (2023-11-03) x86_64 gnulinux '
config_args='-Dprefix=/home/sand/src/perl/repoperls/installed-perls/host/k93msid/v5.18.2/29fb -Dmyhostname=k93msid -Dinstallusrbinperl=n -Uversiononly -Dusedevel -des -Ui_db -Dlibswanted=cl pthread socket inet nsl gdbm dbm malloc dl ld sun m crypt sec util c cposix posix ucb BSD gdbm_compat -Duseithreads -Uuselongdouble -DEBUGGING=both'
hint=recommended, useposix=true, d_sigaction=define
useithreads=define, usemultiplicity=define
useperlio=define, d_sfio=undef, uselargefiles=define, usesocks=undef
use64bitint=define, use64bitall=define, uselongdouble=undef
usemymalloc=n, bincompat5005=undef
Compiler:
cc='cc', ccflags ='-D_REENTRANT -D_GNU_SOURCE -fwrapv -DDEBUGGING -fno-strict-aliasing -pipe -fstack-protector -I/usr/local/include -D_LARGEFILE_SOURCE -D_FILE_OFFSET_BITS=64',
optimize='-O2 -g',
cppflags='-D_REENTRANT -D_GNU_SOURCE -fwrapv -DDEBUGGING -fno-strict-aliasing -pipe -fstack-protector -I/usr/local/include'
ccversion='', gccversion='13.2.0', gccosandvers=''
intsize=4, longsize=8, ptrsize=8, doublesize=8, byteorder=12345678
d_longlong=define, longlongsize=8, d_longdbl=define, longdblsize=16
ivtype='long', ivsize=8, nvtype='double', nvsize=8, Off_t='off_t', lseeksize=8
alignbytes=8, prototype=define
Linker and Libraries:
ld='cc', ldflags =' -fstack-protector -L/usr/local/lib'
libpth=/usr/local/lib /lib/x86_64-linux-gnu /lib/../lib /usr/lib/x86_64-linux-gnu /usr/lib/../lib /lib /usr/lib /lib64 /usr/lib64
libs=-lpthread -lnsl -ldl -lm -lcrypt -lutil -lc
perllibs=-lpthread -lnsl -ldl -lm -lcrypt -lutil -lc
libc=/lib/x86_64-linux-gnu/libc.so.6, so=so, useshrplib=false, libperl=libperl.a
gnulibc_version='2.37'
Dynamic Linking:
dlsrc=dl_dlopen.xs, dlext=so, d_dlsymun=undef, ccdlflags='-Wl,-E'
cccdlflags='-fPIC', lddlflags='-shared -O2 -g -L/usr/local/lib -fstack-protector'
Characteristics of this binary (from libperl):
Compile-time options: DEBUGGING HAS_TIMES MULTIPLICITY PERLIO_LAYERS
PERL_DONT_CREATE_GVSV
PERL_HASH_FUNC_ONE_AT_A_TIME_HARD
PERL_IMPLICIT_CONTEXT PERL_MALLOC_WRAP
PERL_PRESERVE_IVUV PERL_SAWAMPERSAND
PERL_TRACK_MEMPOOL PERL_USE_DEVEL USE_64_BIT_ALL
USE_64_BIT_INT USE_ITHREADS USE_LARGE_FILES
USE_LOCALE USE_LOCALE_COLLATE USE_LOCALE_CTYPE
USE_LOCALE_NUMERIC USE_PERLIO USE_PERL_ATOF
USE_REENTRANT_API
Locally applied patches:
uncommitted-changes
Built under linux
Compiled at Nov 26 2023 19:49:17
%ENV:
PERL5LIB=""
PERL5OPT=""
PERL5_CPANPLUS_IS_RUNNING="3635339"
PERL5_CPAN_IS_RUNNING="3635339"
PERL_CANARY_STABILITY_NOPROMPT="1"
PERL_MM_USE_DEFAULT="1"
PERL_USE_UNSAFE_INC="1"
@INC:
/home/sand/src/perl/repoperls/installed-perls/host/k93msid/v5.18.2/29fb/lib/site_perl/5.18.2/x86_64-linux-thread-multi
/home/sand/src/perl/repoperls/installed-perls/host/k93msid/v5.18.2/29fb/lib/site_perl/5.18.2
/home/sand/src/perl/repoperls/installed-perls/host/k93msid/v5.18.2/29fb/lib/5.18.2/x86_64-linux-thread-multi
/home/sand/src/perl/repoperls/installed-perls/host/k93msid/v5.18.2/29fb/lib/5.18.2
.