Report for Data-Session-1.15

Back
From: metabase:user:320bfe00-2aae-11df-837a-5e0a49663a4f
Subject: PASS Data-Session-1.15 v5.19.3 GNU/Linux
Date: 2013-07-25T22:53:17Z

This distribution has been tested as part of the CPAN Testers
project, supporting the Perl programming language.  See
http://wiki.cpantesters.org/ for more information or email
questions to cpan-testers-discuss@perl.org


--
Dear Ron Savage,

This is a computer-generated report for Data-Session-1.15
on perl 5.19.3, created by CPAN-Reporter-1.2010.

Thank you for uploading your work to CPAN.  Congratulations!
All tests were successful.

Sections of this report:

    * Tester comments
    * Program output
    * Prerequisites
    * Environment and other context

------------------------------
TESTER COMMENTS
------------------------------

Additional comments from tester:

this report is from an automated smoke testing program
and was not reviewed by a human for accuracy

------------------------------
PROGRAM OUTPUT
------------------------------

Output from './Build test':

Module::Build will be removed from the Perl core distribution in the next major release. Please install it from CPAN. It is being used at ./Build, line 40.
# Test: File.1. DSN: dbi:File:. ID generator: AutoIncrement. Serializer: DataDumper
# id 1: 1392
# Test: File.1. DSN: dbi:File:. ID generator: AutoIncrement. Serializer: FreezeThaw
# id 1: 1398
# Test: File.1. DSN: dbi:File:. ID generator: AutoIncrement. Serializer: JSON
# id 1: 1404
# Test: File.1. DSN: dbi:File:. ID generator: AutoIncrement. Serializer: Storable
# id 1: 1410
# Test: File.1. DSN: dbi:File:. ID generator: AutoIncrement. Serializer: YAML
# id 1: 1416
# Test: File.1. DSN: dbi:File:. ID generator: MD5. Serializer: DataDumper
# id 1: 932a0c6ca823e3625c97adfc65573b11
# Test: File.1. DSN: dbi:File:. ID generator: MD5. Serializer: FreezeThaw
# id 1: 3362621af5c02937c250ea76f4fcc8f1
# Test: File.1. DSN: dbi:File:. ID generator: MD5. Serializer: JSON
# id 1: 7d1be81489b001489ec0f15dd8ec4484
# Test: File.1. DSN: dbi:File:. ID generator: MD5. Serializer: Storable
# id 1: d582c69c166f6ef06d80f07155de42ae
# Test: File.1. DSN: dbi:File:. ID generator: MD5. Serializer: YAML
# id 1: a813d521b93d73589c5193ae804226fc
# Test: File.1. DSN: dbi:File:. ID generator: SHA1. Serializer: DataDumper
# id 1: f8a8b2fcc0f8824f02bd75ff49594cb2fb14caa1
# Test: File.1. DSN: dbi:File:. ID generator: SHA1. Serializer: FreezeThaw
# id 1: 82e725ac97ad6a60de1373e7660201fe94903840
# Test: File.1. DSN: dbi:File:. ID generator: SHA1. Serializer: JSON
# id 1: 124e2a7093dda0eecba4eb915063468c0a950d05
# Test: File.1. DSN: dbi:File:. ID generator: SHA1. Serializer: Storable
# id 1: c34f427aa3504b4a35120ae43e11c33df2aa033a
# Test: File.1. DSN: dbi:File:. ID generator: SHA1. Serializer: YAML
# id 1: 7af355e25afb83623c72a8e3017efe1502ed6c9d
# Test: File.1. DSN: dbi:File:. ID generator: SHA256. Serializer: DataDumper
# id 1: 21f3a49f5cc098a164eb0e00133104009ae78599b36b3e5df890a7babd9cae46
# Test: File.1. DSN: dbi:File:. ID generator: SHA256. Serializer: FreezeThaw
# id 1: 989a618f4d03fc1e17b173a3b8ba32159597fc3f6e156b57b137b7d7f4464aeb
# Test: File.1. DSN: dbi:File:. ID generator: SHA256. Serializer: JSON
# id 1: 0bc61181b45ee15df6fc36d43cc7b8b3aeba7fbb0b107945befb95af6f4b7e9a
# Test: File.1. DSN: dbi:File:. ID generator: SHA256. Serializer: Storable
# id 1: 13b7c2ddabfd11bcf6af9f11883ca187f445e96cdcea92ea8c910b3166e1b1d8
# Test: File.1. DSN: dbi:File:. ID generator: SHA256. Serializer: YAML
# id 1: b4e6f2153ec5e4db9a368c6b2acc86fc465dd6601291c67de1373d2ac2a7e8d3
# Test: File.1. DSN: dbi:File:. ID generator: SHA512. Serializer: DataDumper
# id 1: 9d53e2e2d7e5be45f465650233167a728589a8fe9be22813ab6c319317ffebbe59ff0084cc97cfc6ccb6b6ec6eb857ba2866f76721f4cbfb46a8a1332d8f9575
# Test: File.1. DSN: dbi:File:. ID generator: SHA512. Serializer: FreezeThaw
# id 1: 45f153f5ca49fd7436c8b5c4ed884db02eff7feedda7aad2e921ca2739a06ef83b32a570407c9cb2ebadaf4efdaef8783cee52e9e0f10cb5d371aa3a475d8028
# Test: File.1. DSN: dbi:File:. ID generator: SHA512. Serializer: JSON
# id 1: 30f5ba13468909b391563391c1b0c03d631fb5177b3c6479c742af9bddd29c79c62730c72658567997f3784ed9b82a1772648963e7d6112955f607f76b3715d8
# Test: File.1. DSN: dbi:File:. ID generator: SHA512. Serializer: Storable
# id 1: 6394afd7b6e346546a1d0bda66865ada5e1ccc22196b98e3275f8ff5188bba8775019afe00810f5ced9a3b3f85fe7f6a73dfcce0ef9d36aa1eddbcb4007608bd
# Test: File.1. DSN: dbi:File:. ID generator: SHA512. Serializer: YAML
# id 1: d3952eb7880876ef8bc00239516c452f6fb81553ae1a5d1ea2fa118c0cba6833dd682cd2ec313b05c03d15e521e9140c6981cc8091ee29ac6bb6435f83690049
# Test: File.1. DSN: dbi:File:. ID generator: Static. Serializer: DataDumper
# id 1: 1234
# Test: File.1. DSN: dbi:File:. ID generator: Static. Serializer: FreezeThaw
# id 1: 1234
# Test: File.1. DSN: dbi:File:. ID generator: Static. Serializer: JSON
# id 1: 1234
# Test: File.1. DSN: dbi:File:. ID generator: Static. Serializer: Storable
# id 1: 1234
# Test: File.1. DSN: dbi:File:. ID generator: Static. Serializer: YAML
# id 1: 1234
# Test: File.1. DSN: dbi:File:. ID generator: UUID34. Serializer: DataDumper
# id 1: 0xF65A954AF57C11E2846262E2F1FF63FB
# Test: File.1. DSN: dbi:File:. ID generator: UUID34. Serializer: FreezeThaw
# id 1: 0xF65BA85EF57C11E2846262E2F1FF63FB
# Test: File.1. DSN: dbi:File:. ID generator: UUID34. Serializer: JSON
# id 1: 0xF65C61EAF57C11E2846262E2F1FF63FB
# Test: File.1. DSN: dbi:File:. ID generator: UUID34. Serializer: Storable
# id 1: 0xF65D0D20F57C11E2846262E2F1FF63FB
# Test: File.1. DSN: dbi:File:. ID generator: UUID34. Serializer: YAML
# id 1: 0xF65DBB30F57C11E2846262E2F1FF63FB
# Test: File.1. DSN: dbi:File:. ID generator: UUID36. Serializer: DataDumper
# id 1: F65E8D12-F57C-11E2-8462-62E2F1FF63FB
# Test: File.1. DSN: dbi:File:. ID generator: UUID36. Serializer: FreezeThaw
# id 1: F65F8DD4-F57C-11E2-8462-62E2F1FF63FB
# Test: File.1. DSN: dbi:File:. ID generator: UUID36. Serializer: JSON
# id 1: F66043B4-F57C-11E2-8462-62E2F1FF63FB
# Test: File.1. DSN: dbi:File:. ID generator: UUID36. Serializer: Storable
# id 1: F660F188-F57C-11E2-8462-62E2F1FF63FB
# Test: File.1. DSN: dbi:File:. ID generator: UUID36. Serializer: YAML
# id 1: F661B19A-F57C-11E2-8462-62E2F1FF63FB
# Skipping dsn 'dbi:SQLite:dbname=/tmp/sessions.sqlite' because the SQLite directory does not exist
# 
# Testing HTTP header generation
# 
# Testing expire the session. Sleeping for 1 second ...
# Expiring id: F662E844-F57C-11E2-8462-62E2F1FF63FB
# 
# Testing expire a session parameter. Sleeping for 1 second ...
t/basic.t ..... ok
t/pod.t ....... ok
# DSN name: File.1. DSN: dbi:File:. ID generator: MD5. Serializer: DataDumper
# id1: 4d914fb92cf4cb154a02c1a6b67fd760
# 1: Recovered known id 3d24d6429186b9f66a1458c3c203a785 from traverse
# 2: Recovered known id 91879229eebe495bc5ea94500e875013 from traverse
# 3: Recovered known id f77b526b0a3e0e21f972080e286310d8 from traverse
# 4: Recovered known id 120b9a41d3bb277285f8d6821b695736 from traverse
# Skipping dsn 'dbi:SQLite:dbname=/tmp/sessions.sqlite' because the SQLite directory does not exist
t/traverse.t .. ok
All tests successful.
Files=3, Tests=80,  7 wallclock secs ( 0.06 usr  0.01 sys +  0.65 cusr  0.02 csys =  0.74 CPU)
Result: PASS

------------------------------
PREREQUISITES
------------------------------

Prerequisite modules loaded:

requires:

    Module                   Need    Have   
    ------------------------ ------- -------
    autovivification         0       0.11   
    CGI                      3.63    3.63   
    Class::Load              0.19    0.20   
    Config::Tiny             2.14    2.14   
    Data::Dumper             2.145   2.148  
    Data::UUID               1.218   1.219  
    DBD::SQLite              1.39    1.39   
    DBI                      1.627   1.628  
    DBIx::Admin::CreateTable 2.07    2.07   
    Digest::MD5              2.52    2.53   
    Digest::SHA              5.84    5.85   
    Fcntl                    1.06    1.11   
    File::Basename           2.77    2.85   
    File::Path               2.07    2.09   
    File::Slurp              9999.19 9999.19
    File::Spec               3.3     3.41   
    File::Temp               0.22    0.2301 
    FreezeThaw               0.5001  0.5001 
    Hash::FieldHash          0.14    0.14   
    JSON                     2.59    2.59   
    overload                 0       1.22   
    parent                   0       0.225  
    Safe                     2.35    2.37   
    Scalar::Util             1.27    1.27   
    Storable                 2.39    2.46   
    strict                   0       1.08   
    Try::Tiny                0.12    0.16   
    vars                     0       1.03   
    warnings                 0       1.18   
    YAML::Tiny               1.51    1.51   

build_requires:

    Module                   Need    Have   
    ------------------------ ------- -------
    Config::Tiny             2.14    2.14   
    DBIx::Admin::CreateTable 2.07    2.07   
    Test::More               0.92    0.98   

configure_requires:

    Module                   Need    Have   
    ------------------------ ------- -------
    Module::Build            0.38    0.4007 


------------------------------
ENVIRONMENT AND OTHER CONTEXT
------------------------------

Environment variables:

    AUTOMATED_TESTING = 1
    LANG = en_US.UTF-8
    LANGUAGE = en_US:en
    PATH = /usr/lib/ccache:/home/sand/bin:/usr/local/bin:/usr/bin:/bin:/usr/bin/X11:/usr/games:/usr/local/perl/bin:/usr/X11/bin:/sbin:/usr/sbin
    PERL5LIB = 
    PERL5OPT = 
    PERL5_CPANPLUS_IS_RUNNING = 1703
    PERL5_CPAN_IS_RUNNING = 1703
    PERL_MM_USE_DEFAULT = 1
    SHELL = /usr/bin/zsh
    TERM = screen

Perl special variables (and OS-specific diagnostics, for MSWin32):

    $^X = /tmp/basesmoker-reloperl-WbBa/bin/perl
    $UID/$EUID = 1005 / 1005
    $GID = 1005 1005
    $EGID = 1005 1005

Perl module toolchain versions installed:

    Module              Have    
    ------------------- --------
    CPAN                2.00    
    CPAN::Meta          2.131560
    Cwd                 3.41    
    ExtUtils::CBuilder  0.280210
    ExtUtils::Command   1.17    
    ExtUtils::Install   1.60    
    ExtUtils::MakeMaker 6.72    
    ExtUtils::Manifest  1.63    
    ExtUtils::ParseXS   3.21    
    File::Spec          3.41    
    JSON                2.59    
    JSON::PP            2.27202 
    Module::Build       0.4007  
    Module::Signature   0.73    
    Parse::CPAN::Meta   1.4405  
    Test::Harness       3.28    
    Test::More          0.98    
    YAML                0.84    
    YAML::Syck          1.27    
    version             0.9902  


--

Summary of my perl5 (revision 5 version 19 subversion 3) configuration:
  Commit id: d10894c88dd9594f894165e862889054b81758bd
  Platform:
    osname=linux, osvers=3.9-1-amd64, archname=x86_64-linux-ld
    uname='linux k83 3.9-1-amd64 #1 smp debian 3.9.8-1 x86_64 gnulinux '
    config_args='-Dprefix=/home/sand/src/perl/repoperls/installed-perls/perl/v5.19.2-96-gd10894c/127e -Dmyhostname=k83 -Dinstallusrbinperl=n -Uversiononly -Dusedevel -des -Ui_db -Uuseithreads -Duselongdouble -DDEBUGGING=-g'
    hint=recommended, useposix=true, d_sigaction=define
    useithreads=undef, usemultiplicity=undef
    useperlio=define, d_sfio=undef, uselargefiles=define, usesocks=undef
    use64bitint=define, use64bitall=define, uselongdouble=define
    usemymalloc=n, bincompat5005=undef
  Compiler:
    cc='cc', ccflags ='-fno-strict-aliasing -pipe -fstack-protector -I/usr/local/include -D_LARGEFILE_SOURCE -D_FILE_OFFSET_BITS=64',
    optimize='-O2 -g',
    cppflags='-fno-strict-aliasing -pipe -fstack-protector -I/usr/local/include'
    ccversion='', gccversion='4.8.1', gccosandvers=''
    intsize=4, longsize=8, ptrsize=8, doublesize=8, byteorder=12345678
    d_longlong=define, longlongsize=8, d_longdbl=define, longdblsize=16
    ivtype='long', ivsize=8, nvtype='long double', nvsize=16, Off_t='off_t', lseeksize=8
    alignbytes=16, prototype=define
  Linker and Libraries:
    ld='cc', ldflags =' -fstack-protector -L/usr/local/lib'
    libpth=/usr/local/lib /lib/x86_64-linux-gnu /lib/../lib /usr/lib/x86_64-linux-gnu /usr/lib/../lib /lib /usr/lib
    libs=-lnsl -lgdbm -ldb -ldl -lm -lcrypt -lutil -lc -lgdbm_compat
    perllibs=-lnsl -ldl -lm -lcrypt -lutil -lc
    libc=, so=so, useshrplib=false, libperl=libperl.a
    gnulibc_version='2.17'
  Dynamic Linking:
    dlsrc=dl_dlopen.xs, dlext=so, d_dlsymun=undef, ccdlflags='-Wl,-E'
    cccdlflags='-fPIC', lddlflags='-shared -O2 -g -L/usr/local/lib -fstack-protector'


Characteristics of this binary (from libperl): 
  Compile-time options: HAS_TIMES PERLIO_LAYERS PERL_DONT_CREATE_GVSV
                        PERL_HASH_FUNC_ONE_AT_A_TIME_HARD PERL_MALLOC_WRAP
                        PERL_NEW_COPY_ON_WRITE PERL_PRESERVE_IVUV
                        PERL_USE_DEVEL USE_64_BIT_ALL USE_64_BIT_INT
                        USE_LARGE_FILES USE_LOCALE USE_LOCALE_COLLATE
                        USE_LOCALE_CTYPE USE_LOCALE_NUMERIC USE_LONG_DOUBLE
                        USE_PERLIO USE_PERL_ATOF
  Built under linux
  Compiled at Jul 24 2013 23:45:35
  %ENV:
    PERL5LIB=""
    PERL5OPT=""
    PERL5_CPANPLUS_IS_RUNNING="1703"
    PERL5_CPAN_IS_RUNNING="1703"
    PERL_MM_USE_DEFAULT="1"
  @INC:
    /home/sand/src/perl/repoperls/installed-perls/perl/v5.19.2-96-gd10894c/127e/lib/site_perl/5.19.3/x86_64-linux-ld
    /home/sand/src/perl/repoperls/installed-perls/perl/v5.19.2-96-gd10894c/127e/lib/site_perl/5.19.3
    /home/sand/src/perl/repoperls/installed-perls/perl/v5.19.2-96-gd10894c/127e/lib/5.19.3/x86_64-linux-ld
    /home/sand/src/perl/repoperls/installed-perls/perl/v5.19.2-96-gd10894c/127e/lib/5.19.3
    .