Net-SIP v0.829 Perl 5 v5.26.1 x86_64-linux

Status
Pass
From
Slaven Rezić
Dist
Net-SIP v0.829
Platform
Perl 5 v5.26.1 x86_64-linux
Date
2021-05-05 06:49:10
ID
fea63e8c-ad6d-11eb-ab96-a53b1f24ea8f
This distribution has been tested as part of the CPAN Testers
project, supporting the Perl programming language.  See
http://wiki.cpantesters.org/ for more information or email
questions to cpan-testers-discuss@perl.org


--
Dear Steffen Ullrich,

This is a computer-generated report for Net-SIP-0.829
on perl 5.26.1, created by CPAN-Reporter-1.2018.

Thank you for uploading your work to CPAN.  Congratulations!
All tests were successful.

Sections of this report:

    * Tester comments
    * Program output
    * Prerequisites
    * Environment and other context

------------------------------
TESTER COMMENTS
------------------------------

Additional comments from tester:

none provided

------------------------------
PROGRAM OUTPUT
------------------------------

Output from 'make test':

PERL_DL_NONLAZY=1 "/cabulja2/perl/perl-5.26.1d/bin/perl" "-MExtUtils::Command::MM" "-MTest::Harness" "-e" "undef *Test::Harness::Switches; test_harness(0, 'blib/lib', 'blib/arch')" t/*.t
t/01_load.t ............................. ok
# call created
# got ringing
# call established
# call cleaned up
# call created
# got ringing
# call established
# call cleaned up
# call created
# got ringing
# call established
# call cleaned up
# call created
# got ringing
# call established
# call cleaned up
t/02_listen_and_invite.t ................ ok
t/03_forward_stateless.t ................ ok
t/04_call_with_rtp.t .................... ok
t/05_call_with_stateless_proxy.t ........ ok
t/06_call_with_reinvite.t ............... ok
t/07_call_on_hold.t ..................... ok
t/08_register_with_auth.t ............... ok
t/11_invite_timeout.t ................... ok
# call established
# call cleaned up
# call established
# call cleaned up
# call established
# call cleaned up
# call established
# call cleaned up
t/12_maddr.t ............................ ok
t/13_maddr_proxy.t ...................... ok
# UAS   on 127.0.0.1:5062 
# UAC   on 127.0.0.1:5060 
# PROXY on 127.0.0.1:5063 
t/14_bugfix_0.51.t ...................... ok
t/15_block_invite.t ..................... ok
t/16_drop_invite.t ...................... ok
t/17_call_with_reinvite_and_auth.t ...... ok
t/18_register_with_auth_step_by_step.t .. ok
# UAS on 127.0.0.1:53361
# UAC on 127.0.0.1:54413
# call created
# call established
# call cleaned up
# received=465 lost=0 expect ca. 467.5 packets, events='1 2 D # 3 4 B *'
# UAS on 127.0.0.1:38990
# UAC on 127.0.0.1:33235
# call created
# call established
# call cleaned up
# received=466 lost=0 expect ca. 467.5 packets, events='1 2 D # 3 4 B *'
# UAS on [::1]:43786
# UAC on [::1]:60331
# call created
# call established
# call cleaned up
# received=464 lost=0 expect ca. 467.5 packets, events='1 2 D # 3 4 B *'
# UAS on [::1]:50229
# UAC on [::1]:59097
# call created
# call established
# call cleaned up
# received=465 lost=0 expect ca. 467.5 packets, events='1 2 D # 3 4 B *'
# UAS on 127.0.0.1:39110
# UAC on 127.0.0.1:49973
# call created
# call established
# call cleaned up
# received=466 lost=0 expect ca. 467.5 packets, events='1 2 D # 3 4 B *'
# UAS on 127.0.0.1:49358
# UAC on 127.0.0.1:52493
# call created
# call established
# call cleaned up
# received=466 lost=0 expect ca. 467.5 packets, events='1 2 D # 3 4 B *'
# UAS on [::1]:41637
# UAC on [::1]:38461
# call created
# call established
# call cleaned up
# received=465 lost=0 expect ca. 467.5 packets, events='1 2 D # 3 4 B *'
# UAS on [::1]:56071
# UAC on [::1]:38705
# call created
# call established
# call cleaned up
# received=467 lost=0 expect ca. 467.5 packets, events='1 2 D # 3 4 B *'
t/19_call_with_dtmf.t ................... ok
t/20_channel_on_hold.t .................. ok
t/21_channel_on_hold_stateless_proxy.t .. ok
t/22_stateless_proxy_ack_on_error.t ..... ok
t/23_valid_message.t .................... ok
t/24_dtmf_audio.t ....................... ok
t/25_register_tcp_timeout.t ............. ok
All tests successful.
Files=23, Tests=1869, 201 wallclock secs ( 0.43 usr  0.02 sys + 16.76 cusr  1.27 csys = 18.48 CPU)
Result: PASS

------------------------------
PREREQUISITES
------------------------------

Prerequisite modules loaded:

requires:

    Module              Need Have    
    ------------------- ---- --------
    Socket              1.95 2.020_03

build_requires:

    Module              Need Have    
    ------------------- ---- --------
    ExtUtils::MakeMaker 0    7.24    

configure_requires:

    Module              Need Have    
    ------------------- ---- --------
    ExtUtils::MakeMaker 0    7.24    


------------------------------
ENVIRONMENT AND OTHER CONTEXT
------------------------------

Environment variables:

    LANG = en_US.UTF-8
    PATH = /usr/local/bin:/usr/bin:/bin:/usr/local/sbin:/usr/sbin:/sbin:/home/e/eserte/bin/linux-gnu:/home/e/eserte/bin/sh:/home/e/eserte/bin:/home/e/eserte/bin/pistachio-perl/bin:/usr/games:/home/e/eserte/devel:/home/e/eserte/work2/fzf/bin:/home/e/eserte/src/srezic-misc/scripts
    PERL5LIB = 
    PERL5OPT = 
    PERL5_CPANPLUS_IS_RUNNING = 9320
    PERL5_CPAN_IS_RUNNING = 9320
    PERL5_CPAN_IS_RUNNING_IN_RECURSION = 10596,9320
    PERLDOC = -MPod::Perldoc::ToTextOverstrike
    PERL_BATCH = yes
    PERL_CANARY_STABILITY_NOPROMPT = 1
    PERL_CPAN_REPORTER_CONFIG = /var/tmp/cpansmoker-1000/2021050507/cpanreporter_000_config.ini
    PERL_EXTUTILS_AUTOINSTALL = --defaultdeps
    PERL_USE_UNSAFE_INC = 1
    SHELL = /bin/zsh
    STDPERL = perl
    TERM = xterm
    TMPDIR = /var/tmp/cpansmoker-1000/2021050507

Perl special variables (and OS-specific diagnostics, for MSWin32):

    $^X = /cabulja2/perl/perl-5.26.1d/bin/perl
    $UID/$EUID = 1000 / 1000
    $GID = 1000 4 24 25 27 29 30 33 44 46 108 111 115 128 134 1000 1024
    $EGID = 1000 4 24 25 27 29 30 33 44 46 108 111 115 128 134 1000 1024

Perl module toolchain versions installed:

    Module              Have      
    ------------------- ----------
    CPAN                2.18      
    CPAN::Meta          2.150010  
    Cwd                 3.67      
    ExtUtils::CBuilder  0.280225  
    ExtUtils::Command   7.24      
    ExtUtils::Install   2.04      
    ExtUtils::MakeMaker 7.24      
    ExtUtils::Manifest  1.70      
    ExtUtils::ParseXS   3.34      
    File::Spec          3.67      
    JSON                n/a       
    JSON::PP            2.27400_02
    Module::Build       0.4224    
    Module::Signature   n/a       
    Parse::CPAN::Meta   2.150010  
    Test::Harness       3.38      
    Test::More          1.302073  
    YAML                1.24      
    YAML::Syck          1.30      
    version             0.9917    


--

Summary of my perl5 (revision 5 version 26 subversion 1) configuration:
   
  Platform:
    osname=linux
    osvers=3.16.0-4-amd64
    archname=x86_64-linux
    uname='linux cabulja 3.16.0-4-amd64 #1 smp debian 3.16.51-3 (2017-12-13) x86_64 gnulinux '
    config_args='-ds -e -Dprefix=/opt/perl-5.26.1d -DDEBUGGING -Dcf_email=srezic@cpan.org'
    hint=recommended
    useposix=true
    d_sigaction=define
    useithreads=undef
    usemultiplicity=undef
    use64bitint=define
    use64bitall=define
    uselongdouble=undef
    usemymalloc=n
    default_inc_excludes_dot=define
    bincompat5005=undef
  Compiler:
    cc='cc'
    ccflags ='-fwrapv -DDEBUGGING -fno-strict-aliasing -pipe -fstack-protector-strong -I/usr/local/include -D_LARGEFILE_SOURCE -D_FILE_OFFSET_BITS=64 -D_FORTIFY_SOURCE=2'
    optimize='-O2 -g'
    cppflags='-fwrapv -DDEBUGGING -fno-strict-aliasing -pipe -fstack-protector-strong -I/usr/local/include'
    ccversion=''
    gccversion='4.9.2'
    gccosandvers=''
    intsize=4
    longsize=8
    ptrsize=8
    doublesize=8
    byteorder=12345678
    doublekind=3
    d_longlong=define
    longlongsize=8
    d_longdbl=define
    longdblsize=16
    longdblkind=3
    ivtype='long'
    ivsize=8
    nvtype='double'
    nvsize=8
    Off_t='off_t'
    lseeksize=8
    alignbytes=8
    prototype=define
  Linker and Libraries:
    ld='cc'
    ldflags =' -fstack-protector-strong -L/usr/local/lib'
    libpth=/usr/local/lib /usr/lib/gcc/x86_64-linux-gnu/4.9/include-fixed /usr/include/x86_64-linux-gnu /usr/lib /lib/x86_64-linux-gnu /lib/../lib /usr/lib/x86_64-linux-gnu /usr/lib/../lib /lib
    libs=-lpthread -lnsl -lgdbm -ldb -ldl -lm -lcrypt -lutil -lc -lgdbm_compat
    perllibs=-lpthread -lnsl -ldl -lm -lcrypt -lutil -lc
    libc=libc-2.19.so
    so=so
    useshrplib=false
    libperl=libperl.a
    gnulibc_version='2.19'
  Dynamic Linking:
    dlsrc=dl_dlopen.xs
    dlext=so
    d_dlsymun=undef
    ccdlflags='-Wl,-E'
    cccdlflags='-fPIC'
    lddlflags='-shared -O2 -g -L/usr/local/lib -fstack-protector-strong'


Characteristics of this binary (from libperl): 
  Compile-time options:
    DEBUGGING
    HAS_TIMES
    PERLIO_LAYERS
    PERL_COPY_ON_WRITE
    PERL_DONT_CREATE_GVSV
    PERL_MALLOC_WRAP
    PERL_OP_PARENT
    PERL_PRESERVE_IVUV
    USE_64_BIT_ALL
    USE_64_BIT_INT
    USE_LARGE_FILES
    USE_LOCALE
    USE_LOCALE_COLLATE
    USE_LOCALE_CTYPE
    USE_LOCALE_NUMERIC
    USE_LOCALE_TIME
    USE_PERLIO
    USE_PERL_ATOF
  Built under linux
  Compiled at Feb 26 2018 21:13:16
  %ENV:
    PERL5LIB=""
    PERL5OPT=""
    PERL5_CPANPLUS_IS_RUNNING="9320"
    PERL5_CPAN_IS_RUNNING="9320"
    PERL5_CPAN_IS_RUNNING_IN_RECURSION="10596,9320"
    PERLDOC="-MPod::Perldoc::ToTextOverstrike"
    PERL_BATCH="yes"
    PERL_CANARY_STABILITY_NOPROMPT="1"
    PERL_CPAN_REPORTER_CONFIG="/var/tmp/cpansmoker-1000/2021050507/cpanreporter_000_config.ini"
    PERL_EXTUTILS_AUTOINSTALL="--defaultdeps"
    PERL_USE_UNSAFE_INC="1"
  @INC:
    /opt/perl-5.26.1d/lib/site_perl/5.26.1/x86_64-linux
    /opt/perl-5.26.1d/lib/site_perl/5.26.1
    /opt/perl-5.26.1d/lib/5.26.1/x86_64-linux
    /opt/perl-5.26.1d/lib/5.26.1
    .