Back
From: metabase:user:30f4dfbe-2aae-11df-837a-5e0a49663a4f
Subject: PASS Text-Balanced-2.02 v5.8.3 FreeBSD
Date: 2014-08-30T17:49:31Z
This distribution has been tested as part of the CPAN Testers
project, supporting the Perl programming language. See
http://wiki.cpantesters.org/ for more information or email
questions to cpan-testers-discuss@perl.org
--
Dear Adam Kennedy,
This is a computer-generated report for Text-Balanced-2.02
on perl 5.8.3, created by CPAN-Reporter-1.2011.
Thank you for uploading your work to CPAN. Congratulations!
All tests were successful.
Sections of this report:
* Tester comments
* Program output
* Prerequisites
* Environment and other context
------------------------------
TESTER COMMENTS
------------------------------
Additional comments from tester:
none provided
------------------------------
PROGRAM OUTPUT
------------------------------
Output from '/usr/bin/make test':
PERL_DL_NONLAZY=1 /usr/home/njh/perl5/perlbrew/perls/perl-5.8.3/bin/perl "-MExtUtils::Command::MM" "-MTest::Harness" "-e" "undef *Test::Harness::Switches; test_harness(0, 'blib/lib', 'blib/arch')" t/*.t
t/01_compile.t .. ok
t/02_extbrk.t ... ok
t/03_extcbk.t ... ok
t/04_extdel.t ... ok
t/05_extmul.t ... ok
t/06_extqlk.t ... ok
t/07_exttag.t ... ok
t/08_extvar.t ... ok
t/09_gentag.t ... ok
t/97_meta.t ..... skipped: Author tests not required for installation
t/98_pod.t ...... skipped: Author tests not required for installation
t/99_pmv.t ...... skipped: Author tests not required for installation
All tests successful.
Files=12, Tests=560, 4 wallclock secs ( 0.73 usr 0.31 sys + 2.27 cusr 0.45 csys = 3.76 CPU)
Result: PASS
------------------------------
PREREQUISITES
------------------------------
Prerequisite modules loaded:
requires:
Module Need Have
------------------- ---- --------
Test::More 0.47 1.001003
build_requires:
Module Need Have
------------------- ---- --------
ExtUtils::MakeMaker 0 6.98
configure_requires:
Module Need Have
------------------- ---- --------
ExtUtils::MakeMaker 0 6.98
------------------------------
ENVIRONMENT AND OTHER CONTEXT
------------------------------
Environment variables:
LANG =
PATH = /home/njh/perl5/perlbrew/bin:/home/njh/perl5/perlbrew/perls/perl-5.8.3/bin:/home/njh/perl5/perlbrew/bin:/sbin:/bin:/usr/sbin:/usr/bin:/usr/games:/usr/local/sbin:/usr/local/bin:/home/njh/bin:/usr/perl5/bin
PERL5LIB =
PERL5OPT =
PERL5_CPANPLUS_IS_RUNNING = 41110
PERL5_CPAN_IS_RUNNING = 41110
PERLBREW_BASHRC_VERSION = 0.67
PERLBREW_HOME = /home/njh/.perlbrew
PERLBREW_MANPATH = /home/njh/perl5/perlbrew/perls/perl-5.8.3/man
PERLBREW_PATH = /home/njh/perl5/perlbrew/bin:/home/njh/perl5/perlbrew/perls/perl-5.8.3/bin
PERLBREW_PERL = perl-5.8.3
PERLBREW_ROOT = /home/njh/perl5/perlbrew
PERLBREW_VERSION = 0.67
SHELL = /bin/bash
TERM = xterm
TMPDIR = /tmp
Perl special variables (and OS-specific diagnostics, for MSWin32):
$^X = /usr/home/njh/perl5/perlbrew/perls/perl-5.8.3/bin/perl
$UID/$EUID = 1000 / 1000
$GID = 1000 0 1000
$EGID = 1000 0 1000
Perl module toolchain versions installed:
Module Have
------------------- --------
CPAN 2.05
CPAN::Meta 2.142060
Cwd 3.47
ExtUtils::CBuilder 0.280217
ExtUtils::Command 1.18
ExtUtils::Install 1.68
ExtUtils::MakeMaker 6.98
ExtUtils::Manifest 1.65
ExtUtils::ParseXS 3.24
File::Spec 3.47
JSON 2.90
JSON::PP 2.27203
Module::Build 0.4205
Module::Signature n/a
Parse::CPAN::Meta 1.4414
Test::Harness 3.30
Test::More 1.001003
YAML 0.90
YAML::Syck 1.27
version 0.88
--
Summary of my perl5 (revision 5.0 version 8 subversion 3) configuration:
Platform:
osname=freebsd, osvers=9.1-release, archname=i386-freebsd-thread-multi
uname='freebsd amber 9.1-release freebsd 9.1-release #0 r243826: tue dec 4 06:55:39 utc 2012 root@obrian.cse.buffalo.edu:usrobjusrsrcsysgeneric i386 '
config_args='-de -Dprefix=/home/njh/perl5/perlbrew/perls/perl-5.8.3 -Duseithreads -Dusemultiplicity -Accflags=-O2 -W -Wformat=2 -Wswitch -Wshadow -Wwrite-strings -Wuninitialized -Wall -pipe -mtune=native -march=native -fomit-frame-pointer -msse2 -msse -mmmx -mfpmath=sse -pedantic -D_FORTIFY_SOURCE=2 -Wpointer-arith -Wstrict-prototypes -fstack-protector -Wstack-protector -Wextra -Wbad-function-cast -Wcast-align -Wcast-qual -Wdisabled-optimization -Wendif-labels -Wfloat-equal -Wformat-nonliteral -Winline -Wmissing-declarations -Wmissing-prototypes -Wnested-externs -Wpointer-arith -Wundef -Wformat-security -ftree-vectorize -ftree-vectorizer-verbose=2 -Aeval:scriptdir=/home/njh/perl5/perlbrew/perls/perl-5.8.3/bin'
hint=recommended, useposix=true, d_sigaction=define
usethreads=define use5005threads=undef useithreads=define usemultiplicity=define
useperlio=define d_sfio=undef uselargefiles=define usesocks=undef
use64bitint=undef use64bitall=undef uselongdouble=undef
usemymalloc=n, bincompat5005=undef
Compiler:
cc='cc', ccflags ='-DHAS_FPSETMASK -DHAS_FLOATINGPOINT_H -O2 -W -Wformat=2 -Wswitch -Wshadow -Wwrite-strings -Wuninitialized -Wall -pipe -mtune=native -march=native -fomit-frame-pointer -msse2 -msse -mmmx -mfpmath=sse -pedantic -D_FORTIFY_SOURCE=2 -Wpointer-arith -Wstrict-prototypes -fstack-protector -Wstack-protector -Wextra -Wbad-function-cast -Wcast-align -Wcast-qual -Wdisabled-optimization -Wendif-labels -Wfloat-equal -Wformat-nonliteral -Winline -Wmissing-declarations -Wmissing-prototypes -Wnested-externs -Wpointer-arith -Wundef -Wformat-security -ftree-vectorize -ftree-vectorizer-verbose=2 -fno-strict-aliasing -I/usr/local/include',
optimize='-O',
cppflags='-DHAS_FPSETMASK -DHAS_FLOATINGPOINT_H -O2 -W -Wformat=2 -Wswitch -Wshadow -Wwrite-strings -Wuninitialized -Wall -pipe -mtune=native -march=native -fomit-frame-pointer -msse2 -msse -mmmx -mfpmath=sse -pedantic -D_FORTIFY_SOURCE=2 -Wpointer-arith -Wstrict-prototypes -fstack-protector -Wstack-protector -Wextra -Wbad-function-cast -Wcast-align -Wcast-qual -Wdisabled-optimization -Wendif-labels -Wfloat-equal -Wformat-nonliteral -Winline -Wmissing-declarations -Wmissing-prototypes -Wnested-externs -Wpointer-arith -Wundef -Wformat-security -ftree-vectorize -ftree-vectorizer-verbose=2 -fno-strict-aliasing -I/usr/local/include'
ccversion='', gccversion='4.2.1 20070831 patched [FreeBSD]', gccosandvers=''
intsize=4, longsize=4, ptrsize=4, doublesize=8, byteorder=1234
d_longlong=define, longlongsize=8, d_longdbl=define, longdblsize=12
ivtype='long', ivsize=4, nvtype='double', nvsize=8, Off_t='off_t', lseeksize=8
alignbytes=4, prototype=define
Linker and Libraries:
ld='cc', ldflags ='-pthread -Wl,-E -L/usr/local/lib'
libpth=/usr/lib /usr/local/lib
libs=-lm -lcrypt
perllibs=-lm -lcrypt
libc=, so=so, useshrplib=false, libperl=libperl.a
gnulibc_version=''
Dynamic Linking:
dlsrc=dl_dlopen.xs, dlext=so, d_dlsymun=undef, ccdlflags=' '
cccdlflags='-DPIC -fPIC', lddlflags='-shared -L/usr/local/lib'
Characteristics of this binary (from libperl):
Compile-time options: MULTIPLICITY USE_ITHREADS USE_LARGE_FILES PERL_IMPLICIT_CONTEXT
Built under freebsd
Compiled at Aug 10 2013 11:55:55
%ENV:
PERL5LIB=""
PERL5OPT=""
PERL5_CPANPLUS_IS_RUNNING="41110"
PERL5_CPAN_IS_RUNNING="41110"
PERLBREW_BASHRC_VERSION="0.67"
PERLBREW_HOME="/home/njh/.perlbrew"
PERLBREW_MANPATH="/home/njh/perl5/perlbrew/perls/perl-5.8.3/man"
PERLBREW_PATH="/home/njh/perl5/perlbrew/bin:/home/njh/perl5/perlbrew/perls/perl-5.8.3/bin"
PERLBREW_PERL="perl-5.8.3"
PERLBREW_ROOT="/home/njh/perl5/perlbrew"
PERLBREW_VERSION="0.67"
@INC:
/home/njh/perl5/perlbrew/perls/perl-5.8.3/lib/5.8.3/i386-freebsd-thread-multi
/home/njh/perl5/perlbrew/perls/perl-5.8.3/lib/5.8.3
/home/njh/perl5/perlbrew/perls/perl-5.8.3/lib/site_perl/5.8.3/i386-freebsd-thread-multi
/home/njh/perl5/perlbrew/perls/perl-5.8.3/lib/site_perl/5.8.3
/home/njh/perl5/perlbrew/perls/perl-5.8.3/lib/site_perl
.