String-Unescape vv0.0.3 Perl 5 v5.20.3 x86_64-linux-thread-multi

Status
Pass
From
Andreas J. König (ANDK)
Dist
String-Unescape vv0.0.3
Platform
Perl 5 v5.20.3 x86_64-linux-thread-multi
Date
2025-04-19 05:06:04
ID
feb62478-1cdb-11f0-8204-eb45b376a5e2
This distribution has been tested as part of the CPAN Testers
project, supporting the Perl programming language.  See
http://wiki.cpantesters.org/ for more information or email
questions to cpan-testers-discuss@perl.org


--
Dear Yasutaka ATARASHI,

This is a computer-generated report for String-Unescape-v0.0.3
on perl 5.20.3, created by CPAN-Reporter-1.2019.

Thank you for uploading your work to CPAN.  Congratulations!
All tests were successful.

Sections of this report:

    * Tester comments
    * Program output
    * Prerequisites
    * Environment and other context

------------------------------
TESTER COMMENTS
------------------------------

Additional comments from tester:

this report is from an automated smoke testing program
and was not reviewed by a human for accuracy

------------------------------
PROGRAM OUTPUT
------------------------------

Output from '/usr/bin/make test':

PERL_DL_NONLAZY=1 "/home/sand/src/perl/repoperls/installed-perls/host/k93msid/v5.20.3/29fb/bin/perl" "-MExtUtils::Command::MM" "-MTest::Harness" "-e" "undef *Test::Harness::Switches; test_harness(0, 'blib/lib', 'blib/arch')" t/*.t
t/00-compile.t ............ ok
t/author-critic.t ......... skipped: these tests are for testing by the author
Character following "\c" must be printable ASCII at (eval 16) line 1.
Character following "\c" must be printable ASCII at (eval 16) line 1.
Character following "\c" must be printable ASCII at (eval 16) line 1.
Character following "\c" must be printable ASCII at (eval 16) line 1.
Character following "\c" must be printable ASCII at (eval 16) line 1.
Character following "\c" must be printable ASCII at (eval 16) line 1.
Character following "\c" must be printable ASCII at (eval 16) line 1.
Character following "\c" must be printable ASCII at (eval 16) line 1.
Character following "\c" must be printable ASCII at (eval 16) line 1.
Character following "\c" must be printable ASCII at (eval 16) line 1.
Character following "\c" must be printable ASCII at (eval 16) line 1.
Character following "\c" must be printable ASCII at (eval 16) line 1.
Character following "\c" must be printable ASCII at (eval 16) line 1.
Character following "\c" must be printable ASCII at (eval 16) line 1.
Character following "\c" must be printable ASCII at (eval 16) line 1.
Character following "\c" must be printable ASCII at (eval 16) line 1.
Character following "\c" must be printable ASCII at (eval 16) line 1.
Character following "\c" must be printable ASCII at (eval 16) line 1.
Character following "\c" must be printable ASCII at (eval 16) line 1.
Character following "\c" must be printable ASCII at (eval 16) line 1.
Character following "\c" must be printable ASCII at (eval 16) line 1.
Character following "\c" must be printable ASCII at (eval 16) line 1.
Character following "\c" must be printable ASCII at (eval 16) line 1.
Character following "\c" must be printable ASCII at (eval 16) line 1.
Character following "\c" must be printable ASCII at (eval 16) line 1.
Character following "\c" must be printable ASCII at (eval 16) line 1.
Character following "\c" must be printable ASCII at (eval 16) line 1.
Character following "\c" must be printable ASCII at (eval 16) line 1.
Character following "\c" must be printable ASCII at (eval 16) line 1.
Character following "\c" must be printable ASCII at (eval 16) line 1.
Character following "\c" must be printable ASCII at (eval 16) line 1.
Character following "\c" must be printable ASCII at (eval 16) line 1.
Character following "\c" must be printable ASCII at (eval 16) line 1.
t/basic.t ................. ok
t/case_and_meta.t ......... ok
t/exceptional.t ........... ok
t/limitation.t ............ ok
t/quirks_in_perl.t ........ ok
t/release-kwalitee.t ...... skipped: these tests are for release candidate testing
t/release-pod-coverage.t .. skipped: these tests are for release candidate testing
t/release-pod-syntax.t .... skipped: these tests are for release candidate testing
All tests successful.
Files=10, Tests=50,  2 wallclock secs ( 0.05 usr  0.03 sys +  0.79 cusr  0.23 csys =  1.10 CPU)
Result: PASS

------------------------------
PREREQUISITES
------------------------------

Prerequisite modules loaded:

build_requires:

    Module              Need Have    
    ------------------- ---- --------
    File::Spec          0    3.75    
    IO::Handle          0    1.55    
    IPC::Open3          0    1.16    
    Test::Exception     0    0.43    
    Test::More          0    1.302201

configure_requires:

    Module              Need Have    
    ------------------- ---- --------
    ExtUtils::MakeMaker 6.30 7.72    


------------------------------
ENVIRONMENT AND OTHER CONTEXT
------------------------------

Environment variables:

    AUTOMATED_TESTING = 1
    LANG = en_US.UTF-8
    LANGUAGE = en_US:en
    PATH = /home/sand/bin:/usr/local/bin:/usr/bin:/bin:/usr/games:/usr/local/perl/bin:/usr/X11/bin:/sbin:/usr/sbin
    PERL5LIB = 
    PERL5OPT = 
    PERL5_CPANPLUS_IS_RUNNING = 1316317
    PERL5_CPAN_IS_RUNNING = 1316317
    PERL_CANARY_STABILITY_NOPROMPT = 1
    PERL_MM_USE_DEFAULT = 1
    PERL_USE_UNSAFE_INC = 1
    SHELL = /usr/bin/zsh
    TERM = screen

Perl special variables (and OS-specific diagnostics, for MSWin32):

    $^X = /home/sand/src/perl/repoperls/installed-perls/host/k93msid/v5.20.3/29fb/bin/perl
    $UID/$EUID = 1005 / 1005
    $GID = 1005 1005
    $EGID = 1005 1005

Perl module toolchain versions installed:

    Module              Have    
    ------------------- --------
    CPAN                2.36    
    CPAN::Meta          2.150010
    Cwd                 3.75    
    ExtUtils::CBuilder  0.280236
    ExtUtils::Command   7.72    
    ExtUtils::Install   2.22    
    ExtUtils::MakeMaker 7.72    
    ExtUtils::Manifest  1.70    
    ExtUtils::ParseXS   3.51    
    File::Spec          3.75    
    JSON                4.10    
    JSON::PP            4.16    
    Module::Build       0.4234  
    Module::Signature   0.88    
    Parse::CPAN::Meta   2.150010
    Test2               1.302201
    Test::Harness       3.50    
    Test::More          1.302201
    YAML                1.30    
    YAML::Syck          1.34    
    version             0.9930  


--

Summary of my perl5 (revision 5 version 20 subversion 3) configuration:
  Derived from: b67331aafd6eff33e3fd904c45e811f69cbfb0b2
  Platform:
    osname=linux, osvers=6.5.0-5-amd64, archname=x86_64-linux-thread-multi
    uname='linux k93msid 6.5.0-5-amd64 #1 smp preempt_dynamic debian 6.5.13-1 (2023-11-29) x86_64 gnulinux '
    config_args='-Dprefix=/home/sand/src/perl/repoperls/installed-perls/host/k93msid/v5.20.3/29fb -Dmyhostname=k93msid -Dinstallusrbinperl=n -Uversiononly -Dusedevel -des -Ui_db -Dlibswanted=cl pthread socket inet nsl gdbm dbm malloc dl ld sun m crypt sec util c cposix posix ucb BSD gdbm_compat -Duseithreads -Uuselongdouble -DEBUGGING=both'
    hint=recommended, useposix=true, d_sigaction=define
    useithreads=define, usemultiplicity=define
    use64bitint=define, use64bitall=define, uselongdouble=undef
    usemymalloc=n, bincompat5005=undef
  Compiler:
    cc='cc', ccflags ='-D_REENTRANT -D_GNU_SOURCE -fwrapv -DDEBUGGING -fno-strict-aliasing -pipe -fstack-protector -I/usr/local/include -D_LARGEFILE_SOURCE -D_FILE_OFFSET_BITS=64',
    optimize='-O2 -g',
    cppflags='-D_REENTRANT -D_GNU_SOURCE -fwrapv -DDEBUGGING -fno-strict-aliasing -pipe -fstack-protector -I/usr/local/include'
    ccversion='', gccversion='13.2.0', gccosandvers=''
    intsize=4, longsize=8, ptrsize=8, doublesize=8, byteorder=12345678
    d_longlong=define, longlongsize=8, d_longdbl=define, longdblsize=16
    ivtype='long', ivsize=8, nvtype='double', nvsize=8, Off_t='off_t', lseeksize=8
    alignbytes=8, prototype=define
  Linker and Libraries:
    ld='cc', ldflags =' -fstack-protector -L/usr/local/lib'
    libpth=/usr/local/lib /usr/include/x86_64-linux-gnu /usr/lib /lib/x86_64-linux-gnu /lib/../lib /usr/lib/x86_64-linux-gnu /usr/lib/../lib /lib /lib64 /usr/lib64
    libs=-lpthread -lnsl -ldl -lm -lcrypt -lutil -lc
    perllibs=-lpthread -lnsl -ldl -lm -lcrypt -lutil -lc
    libc=/lib/x86_64-linux-gnu/libc.so.6, so=so, useshrplib=false, libperl=libperl.a
    gnulibc_version='2.37'
  Dynamic Linking:
    dlsrc=dl_dlopen.xs, dlext=so, d_dlsymun=undef, ccdlflags='-Wl,-E'
    cccdlflags='-fPIC', lddlflags='-shared -O2 -g -L/usr/local/lib -fstack-protector'


Characteristics of this binary (from libperl): 
  Compile-time options: DEBUGGING HAS_TIMES MULTIPLICITY PERLIO_LAYERS
                        PERL_DONT_CREATE_GVSV
                        PERL_HASH_FUNC_ONE_AT_A_TIME_HARD
                        PERL_IMPLICIT_CONTEXT PERL_MALLOC_WRAP
                        PERL_NEW_COPY_ON_WRITE PERL_PRESERVE_IVUV
                        PERL_TRACK_MEMPOOL PERL_USE_DEVEL USE_64_BIT_ALL
                        USE_64_BIT_INT USE_ITHREADS USE_LARGE_FILES
                        USE_LOCALE USE_LOCALE_COLLATE USE_LOCALE_CTYPE
                        USE_LOCALE_NUMERIC USE_PERLIO USE_PERL_ATOF
                        USE_REENTRANT_API
  Locally applied patches:
	uncommitted-changes
  Built under linux
  Compiled at Dec 22 2023 16:52:33
  %ENV:
    PERL5LIB=""
    PERL5OPT=""
    PERL5_CPANPLUS_IS_RUNNING="1316317"
    PERL5_CPAN_IS_RUNNING="1316317"
    PERL_CANARY_STABILITY_NOPROMPT="1"
    PERL_MM_USE_DEFAULT="1"
    PERL_USE_UNSAFE_INC="1"
  @INC:
    /home/sand/src/perl/repoperls/installed-perls/host/k93msid/v5.20.3/29fb/lib/site_perl/5.20.3/x86_64-linux-thread-multi
    /home/sand/src/perl/repoperls/installed-perls/host/k93msid/v5.20.3/29fb/lib/site_perl/5.20.3
    /home/sand/src/perl/repoperls/installed-perls/host/k93msid/v5.20.3/29fb/lib/5.20.3/x86_64-linux-thread-multi
    /home/sand/src/perl/repoperls/installed-perls/host/k93msid/v5.20.3/29fb/lib/5.20.3
    .