Time-Zone-Olson v0.46 Perl 5 v5.26.2 x86_64-linux-thread-multi

Status
Pass
From
David Cantrell (DCANTRELL)
Dist
Time-Zone-Olson v0.46
Platform
Perl 5 v5.26.2 x86_64-linux-thread-multi
Date
2023-02-26 04:42:37
ID
fed7be5e-b58f-11ed-b18b-cc7eb684b16f
This distribution has been tested as part of the CPAN Testers
project, supporting the Perl programming language.  See
http://wiki.cpantesters.org/ for more information or email
questions to cpan-testers-discuss@perl.org


--
Dear David Dick,

This is a computer-generated report for Time-Zone-Olson-0.46
on perl 5.26.2, created by CPAN-Reporter-1.2018.

Thank you for uploading your work to CPAN.  Congratulations!
All tests were successful.

Sections of this report:

    * Tester comments
    * Program output
    * Prerequisites
    * Environment and other context

------------------------------
TESTER COMMENTS
------------------------------

Additional comments from tester:

this report is from an automated smoke testing program
and was not reviewed by a human for accuracy

------------------------------
PROGRAM OUTPUT
------------------------------

Output from '/usr/bin/make test':

PERL_DL_NONLAZY=1 "/home/david/cpantesting/perl-5.26.2/bin/perl" "-MExtUtils::Command::MM" "-MTest::Harness" "-e" "undef *Test::Harness::Switches; test_harness(0, 'blib/lib', 'blib/arch')" t/*.t
# Testing Time::Zone::Olson 0.46, Perl 5.026002, /home/david/cpantesting/perl-5.26.2/bin/perl
t/00-load.t ........... ok
t/boilerplate.t ....... ok
t/manifest.t .......... skipped: Author tests not required for installation
t/pod-coverage.t ...... skipped: Test::Pod::Coverage 1.08 required for testing POD coverage
t/pod.t ............... ok
# Checking https://raw.githubusercontent.com/unicode-org/cldr/master/common/supplemental/windowsZones.xml
t/windows_zones.t ..... ok
# Olson tz directory is /usr/share/zoneinfo for linux
# Local timezone has been determined to be Europe/London
# Local timezone was determined using /etc/localtime
# lrwxrwxrwx 1 root root 33 Nov  1 11:32 /etc/localtime -> /usr/share/zoneinfo/Europe/London
# Comment for 'Australia/Melbourne' is 'Victoria'
# /usr/share/zoneinfo/Europe/London  Sun Mar 26 00:59:59 2023 UT = Sun Mar 26 00:59:59 2023 GMT isdst=0 gmtoff=0
# /usr/share/zoneinfo/Europe/London  Sun Mar 26 01:00:00 2023 UT = Sun Mar 26 02:00:00 2023 BST isdst=1 gmtoff=3600
# /usr/share/zoneinfo/Europe/London  Sun Oct 29 00:59:59 2023 UT = Sun Oct 29 01:59:59 2023 BST isdst=1 gmtoff=3600
# /usr/share/zoneinfo/Europe/London  Sun Oct 29 01:00:00 2023 UT = Sun Oct 29 01:00:00 2023 GMT isdst=0 gmtoff=0
# /usr/share/zoneinfo/Europe/London  Sun Mar 31 00:59:59 2024 UT = Sun Mar 31 00:59:59 2024 GMT isdst=0 gmtoff=0
# /usr/share/zoneinfo/Europe/London  Sun Mar 31 01:00:00 2024 UT = Sun Mar 31 02:00:00 2024 BST isdst=1 gmtoff=3600
# /usr/share/zoneinfo/Europe/London  Sun Oct 27 00:59:59 2024 UT = Sun Oct 27 01:59:59 2024 BST isdst=1 gmtoff=3600
# /usr/share/zoneinfo/Europe/London  Sun Oct 27 01:00:00 2024 UT = Sun Oct 27 01:00:00 2024 GMT isdst=0 gmtoff=0
# /usr/share/zoneinfo/Europe/London  9223372036854689407 = NULL
# /usr/share/zoneinfo/Europe/London  9223372036854775807 = NULL
# gnu test of early date:1901/03/01 09:59:59 AEST
t/zoneinfo_all.t ...... ok
# Determined timezone is Europe/London
# TZDIR has not been set
# Output of gnu date command:2015/02/28 11:00:00
# Results of unpack:
# Local timezone has been determined to be Europe/London
t/zoneinfo_current.t .. ok
t/zoneinfo_taint.t .... ok
t/zoneinfo_tz_env.t ... ok
All tests successful.
Files=10, Tests=4834, 3120 wallclock secs ( 2.59 usr  0.32 sys + 634.75 cusr 34.82 csys = 672.48 CPU)
Result: PASS

------------------------------
PREREQUISITES
------------------------------

Prerequisite modules loaded:

requires:

    Module               Need  Have    
    -------------------- ----- --------
    Carp                 0     1.42    
    Config               0     5.026002
    Digest::SHA          0     5.96    
    DirHandle            0     1.04    
    Encode               0     3.19    
    English              0     1.10    
    File::Find           0     1.34    
    File::Spec           0     3.67    
    FileHandle           0     2.03    
    perl                 5.006 5.026002
    POSIX                0     1.76    
    strict               0     1.11    
    warnings             0     1.37    

build_requires:

    Module               Need  Have    
    -------------------- ----- --------
    ExtUtils::MakeMaker  0     7.24    
    Fcntl                0     1.13    
    File::Temp           0     0.2304  
    HTTP::Request        0     6.44    
    LWP::Protocol::https 6.06  6.10    
    LWP::UserAgent       0     6.67    
    Test::More           0     1.302192
    Time::Local          0     1.30    
    XML::LibXML          0     2.0208  

configure_requires:

    Module               Need  Have    
    -------------------- ----- --------
    ExtUtils::MakeMaker  0     7.24    


------------------------------
ENVIRONMENT AND OTHER CONTEXT
------------------------------

Environment variables:

    AUTOMATED_TESTING = 1
    LANG = en_GB.UTF-8
    LANGUAGE = en_GB:en
    LC_TERMINAL = iTerm2
    LC_TERMINAL_VERSION = 3.4.19
    NONINTERACTIVE_TESTING = 1
    PATH = /home/david/.nvm/versions/node/v18.13.0/bin:/home/david/.cargo/bin:/home/david/perl5/perlbrew/bin:/home/david/perl5/perlbrew/perls/perl-5.30.2/bin:/home/david/bin:/usr/local/bin:/usr/bin:/bin:/usr/local/games:/usr/games
    PERL = 5.26.2
    PERL5LIB = 
    PERL5OPT = 
    PERL5_CPANPLUS_IS_RUNNING = 1450464
    PERL5_CPAN_IS_RUNNING = 1450464
    PERLBREW_HOME = /home/david/.perlbrew
    PERLBREW_MANPATH = /home/david/perl5/perlbrew/perls/perl-5.30.2/man
    PERLBREW_PATH = /home/david/perl5/perlbrew/bin:/home/david/perl5/perlbrew/perls/perl-5.30.2/bin
    PERLBREW_PERL = perl-5.30.2
    PERLBREW_ROOT = /home/david/perl5/perlbrew
    PERLBREW_SHELLRC_VERSION = 0.89
    PERLBREW_VERSION = 0.89
    PERLVER = 5.26.2
    PERL_INLINE_DIRECTORY = /home/david/.Inline-5.26.2
    PERL_MM_USE_DEFAULT = 1
    PERL_USE_UNSAFE_INC = 0
    SHELL = /bin/bash
    TERM = screen

Perl special variables (and OS-specific diagnostics, for MSWin32):

    $^X = /home/david/cpantesting/perl-5.26.2/bin/perl
    $UID/$EUID = 1000 / 1000
    $GID = 1000 24 25 27 29 30 44 46 109 1000
    $EGID = 1000 24 25 27 29 30 44 46 109 1000

Perl module toolchain versions installed:

    Module              Have    
    ------------------- --------
    CPAN                2.18    
    CPAN::Meta          2.150010
    Cwd                 3.67    
    ExtUtils::CBuilder  0.280225
    ExtUtils::Command   7.24    
    ExtUtils::Install   2.04    
    ExtUtils::MakeMaker 7.24    
    ExtUtils::Manifest  1.70    
    ExtUtils::ParseXS   3.34    
    File::Spec          3.67    
    JSON                4.10    
    JSON::PP            4.16    
    Module::Build       0.4231  
    Module::Signature   n/a     
    Parse::CPAN::Meta   2.150010
    Test::Harness       3.38    
    Test::More          1.302192
    YAML                n/a     
    YAML::Syck          n/a     
    version             0.9917  


--

Summary of my perl5 (revision 5 version 26 subversion 2) configuration:
   
  Platform:
    osname=linux
    osvers=5.10.0-11-amd64
    archname=x86_64-linux-thread-multi
    uname='linux cpantesting-linux-utm 5.10.0-11-amd64 #1 smp debian 5.10.92-1 (2022-01-18) x86_64 gnulinux '
    config_args='-de -Dusethreads -Dprefix=/home/david/cpantesting/perl-5.26.2'
    hint=recommended
    useposix=true
    d_sigaction=define
    useithreads=define
    usemultiplicity=define
    use64bitint=define
    use64bitall=define
    uselongdouble=undef
    usemymalloc=n
    default_inc_excludes_dot=define
    bincompat5005=undef
  Compiler:
    cc='cc'
    ccflags ='-D_REENTRANT -D_GNU_SOURCE -fwrapv -fno-strict-aliasing -pipe -fstack-protector-strong -I/usr/local/include -D_LARGEFILE_SOURCE -D_FILE_OFFSET_BITS=64 -D_FORTIFY_SOURCE=2'
    optimize='-O2'
    cppflags='-D_REENTRANT -D_GNU_SOURCE -fwrapv -fno-strict-aliasing -pipe -fstack-protector-strong -I/usr/local/include'
    ccversion=''
    gccversion='10.2.1 20210110'
    gccosandvers=''
    intsize=4
    longsize=8
    ptrsize=8
    doublesize=8
    byteorder=12345678
    doublekind=3
    d_longlong=define
    longlongsize=8
    d_longdbl=define
    longdblsize=16
    longdblkind=3
    ivtype='long'
    ivsize=8
    nvtype='double'
    nvsize=8
    Off_t='off_t'
    lseeksize=8
    alignbytes=8
    prototype=define
  Linker and Libraries:
    ld='cc'
    ldflags =' -fstack-protector-strong -L/usr/local/lib'
    libpth=/usr/local/lib /usr/include/x86_64-linux-gnu /usr/lib /lib/x86_64-linux-gnu /lib/../lib /usr/lib/x86_64-linux-gnu /usr/lib/../lib /lib /lib64 /usr/lib64
    libs=-lpthread -lnsl -ldl -lm -lcrypt -lutil -lc
    perllibs=-lpthread -lnsl -ldl -lm -lcrypt -lutil -lc
    libc=libc-2.31.so
    so=so
    useshrplib=false
    libperl=libperl.a
    gnulibc_version='2.31'
  Dynamic Linking:
    dlsrc=dl_dlopen.xs
    dlext=so
    d_dlsymun=undef
    ccdlflags='-Wl,-E'
    cccdlflags='-fPIC'
    lddlflags='-shared -O2 -L/usr/local/lib -fstack-protector-strong'


Characteristics of this binary (from libperl): 
  Compile-time options:
    HAS_TIMES
    MULTIPLICITY
    PERLIO_LAYERS
    PERL_COPY_ON_WRITE
    PERL_DONT_CREATE_GVSV
    PERL_IMPLICIT_CONTEXT
    PERL_MALLOC_WRAP
    PERL_OP_PARENT
    PERL_PRESERVE_IVUV
    USE_64_BIT_ALL
    USE_64_BIT_INT
    USE_ITHREADS
    USE_LARGE_FILES
    USE_LOCALE
    USE_LOCALE_COLLATE
    USE_LOCALE_CTYPE
    USE_LOCALE_NUMERIC
    USE_LOCALE_TIME
    USE_PERLIO
    USE_PERL_ATOF
    USE_REENTRANT_API
  Locally applied patches:
    Devel::PatchPerl 2.08
  Built under linux
  Compiled at Feb  5 2022 21:06:00
  %ENV:
    PERL="5.26.2"
    PERL5LIB=""
    PERL5OPT=""
    PERL5_CPANPLUS_IS_RUNNING="1450464"
    PERL5_CPAN_IS_RUNNING="1450464"
    PERLBREW_HOME="/home/david/.perlbrew"
    PERLBREW_MANPATH="/home/david/perl5/perlbrew/perls/perl-5.30.2/man"
    PERLBREW_PATH="/home/david/perl5/perlbrew/bin:/home/david/perl5/perlbrew/perls/perl-5.30.2/bin"
    PERLBREW_PERL="perl-5.30.2"
    PERLBREW_ROOT="/home/david/perl5/perlbrew"
    PERLBREW_SHELLRC_VERSION="0.89"
    PERLBREW_VERSION="0.89"
    PERLVER="5.26.2"
    PERL_INLINE_DIRECTORY="/home/david/.Inline-5.26.2"
    PERL_MM_USE_DEFAULT="1"
    PERL_USE_UNSAFE_INC="0"
  @INC:
    /home/david/cpantesting/perl-5.26.2/lib/site_perl/5.26.2/x86_64-linux-thread-multi
    /home/david/cpantesting/perl-5.26.2/lib/site_perl/5.26.2
    /home/david/cpantesting/perl-5.26.2/lib/5.26.2/x86_64-linux-thread-multi
    /home/david/cpantesting/perl-5.26.2/lib/5.26.2