Text-Amuse v1.83 Perl 5 v5.24.4 amd64-freebsd

Status
Pass
From
Chris Williams (BINGOS)
Dist
Text-Amuse v1.83
Platform
Perl 5 v5.24.4 amd64-freebsd
Date
2023-02-20 22:22:01
ID
ff14b984-b16c-11ed-aba6-9a79f339625c
This distribution has been tested as part of the CPAN Testers
project, supporting the Perl programming language.  See
http://wiki.cpantesters.org/ for more information or email
questions to cpan-testers-discuss@perl.org


--

Dear MELMOTHX,

This is a computer-generated error report created automatically by
CPANPLUS, version 0.9914. Testers personal comments may appear
at the end of this report.


Thank you for uploading your work to CPAN.  Congratulations!
All tests were successful.

TEST RESULTS:

Below is the error stack from stage 'make test':

PERL_DL_NONLAZY=1 "/usr/home/cpan/pit/bare/perl-5.24.4/bin/perl" "-MExtUtils::Command::MM" "-MTest::Harness" "-e" "undef *Test::Harness::Switches; test_harness(0, 'blib/lib', 'blib/arch')" t/*.t
# Testing Text::Amuse 1.83, Perl 5.024004, /usr/home/cpan/pit/bare/perl-5.24.4/bin/perl
t/00-load.t ............. ok
t/bidi.t ................ ok
t/br.t .................. ok
t/breakages.t ........... ok
Forcing the closing of quote
Couldn't retrieve verse from the pile
Couldn't retrieve example from the pile
t/broken.t .............. ok
t/caching.t ............. ok
t/changes.t ............. skipped: Changes testing not required (or Test::CPAN::Changes not found)
t/context-parsing.t ..... ok
# <h2 id="toc1">Bug title</h2>
# 
# 
# <p>
# This text is not displayed
# </p>
# <h2 id="toc2"></h2>
# 
t/crash-40.t ............ ok
# \part{Bug title}
# 
# 
# This text is not displayed
# 
# \part{}
# 
# <p class="tableofcontentline toclevel1"><span class="tocprefix">&#160;&#160;</span><a href="#toc1">Bug title</a></p>
# $VAR1 = {
#           'index' => 1,
#           'level' => '1',
#           'string' => 'Bug title'
#         };
# $VAR2 = {
#           'index' => 2,
#           'level' => '1',
#           'string' => ''
#         };
t/crash-on-loops.t ...... ok
t/description-lists.t ... ok
/tmp/dWLEdnVrrJ/dash-and-underscore.muse: Overwriting directive 'testme' continuation
 with #__test__me__

t/directives.t .......... ok
/tmp/dWLEdnVrrJ/dash-and-underscore.muse: Found empty directive #______________
, it will be removed
/tmp/dWLEdnVrrJ/dash-and-underscore.muse: Found empty directive #--------------
, it will be removed
/tmp/dWLEdnVrrJ/dash-and-underscore.muse: Overwriting directive ''  with #--------------

/tmp/dWLEdnVrrJ/dash-and-underscore.muse: Overwriting directive 'testme' continuation
 with #__test__me__

/tmp/dWLEdnVrrJ/dash-and-underscore.muse: Found empty directive #______________
, it will be removed
/tmp/dWLEdnVrrJ/dash-and-underscore.muse: Found empty directive #--------------
, it will be removed
/tmp/dWLEdnVrrJ/dash-and-underscore.muse: Overwriting directive ''  with #--------------

t/elements.t ............ ok
t/false-lists.t ......... ok
t/footnotes.t ........... ok
t/french.t .............. ok
# Using /tmp/GDmmhWYOd_
t/functions.t ........... ok
# Testing line breaks
# Using /tmp/xfro69efPB
# Testing stripping
# Using /tmp/tmF3kRXOFM
# Using /tmp/8uZKYfOQq3
# Testing formats
# Using /tmp/oIMNlf2nO6
# Using /tmp/eHiprzWHuR
# Using /tmp/B1BzSpxXcx
# Using /tmp/7ldRaEUJAt
# Using /tmp/U24SZwwJVn
# Using /tmp/sS8DOL0FDX
# Using /tmp/lm0XT8zYI1
t/header-defined.t ...... ok
t/testfiles/headers.muse: Found empty directive #______________
, it will be removed
t/testfiles/headers.muse: Found empty directive #--------------
, it will be removed
t/testfiles/headers.muse: Overwriting directive ''  with #--------------

t/testfiles/headers.muse: Found empty directive #______________
, it will be removed
t/testfiles/headers.muse: Found empty directive #--------------
, it will be removed
t/testfiles/headers.muse: Overwriting directive ''  with #--------------

t/testfiles/headers.muse: Found empty directive #______________
, it will be removed
t/testfiles/headers.muse: Found empty directive #--------------
, it will be removed
t/testfiles/headers.muse: Overwriting directive ''  with #--------------

t/testfiles/headers.muse: Found empty directive #______________
, it will be removed
t/testfiles/headers.muse: Found empty directive #--------------
, it will be removed
t/testfiles/headers.muse: Overwriting directive ''  with #--------------

t/headers.t ............. ok
t/hyphenation.t ......... ok
t/images.t .............. ok
Directory traversal or hidden file found in included ../../../../../../../../../../../../../../../../../../../../../etc/passwd! at /usr/home/cpan/pit/bare/conf/perl-5.24.4/.cpanplus/5.24.4/build/qG6_2aZB2r/Text-Amuse-1.83/blib/lib/Text/Amuse/Document.pm line 418.
t/includes.t ............ ok
Directory traversal or hidden file found in included ../../../../../../../../../../../../../../../../../../../../../etc/passwd! at /usr/home/cpan/pit/bare/conf/perl-5.24.4/.cpanplus/5.24.4/build/qG6_2aZB2r/Text-Amuse-1.83/blib/lib/Text/Amuse/Document.pm line 418.
Directory traversal or hidden file found in included include/../include/pippo.muse! at /usr/home/cpan/pit/bare/conf/perl-5.24.4/.cpanplus/5.24.4/build/qG6_2aZB2r/Text-Amuse-1.83/blib/lib/Text/Amuse/Document.pm line 418.
Directory traversal or hidden file found in included include/./pippo.muse! at /usr/home/cpan/pit/bare/conf/perl-5.24.4/.cpanplus/5.24.4/build/qG6_2aZB2r/Text-Amuse-1.83/blib/lib/Text/Amuse/Document.pm line 418.
Directory traversal or hidden file found in included include/./pippo.muse! at /usr/home/cpan/pit/bare/conf/perl-5.24.4/.cpanplus/5.24.4/build/qG6_2aZB2r/Text-Amuse-1.83/blib/lib/Text/Amuse/Document.pm line 418.
# $VAR1 = [
#           'Directory traversal or hidden file found in included include/.pippo.muse! at /usr/home/cpan/pit/bare/conf/perl-5.24.4/.cpanplus/5.24.4/build/qG6_2aZB2r/Text-Amuse-1.83/blib/lib/Text/Amuse/Document.pm line 418.
# ',
#           'Invalid file or directory name (slashes?) found in included include\\pippo.muse! at /usr/home/cpan/pit/bare/conf/perl-5.24.4/.cpanplus/5.24.4/build/qG6_2aZB2r/Text-Amuse-1.83/blib/lib/Text/Amuse/Document.pm line 423.
# ',
#           'Invalid file or directory name (slashes?) found in included include/pi\\\\ppo.muse! at /usr/home/cpan/pit/bare/conf/perl-5.24.4/.cpanplus/5.24.4/build/qG6_2aZB2r/Text-Amuse-1.83/blib/lib/Text/Amuse/Document.pm line 423.
# '
#         ];
# Test *M \textbackslash{}\{\#!\_<"> e*\forcelinebreak  \texttt{code}
# Test **M \textbackslash{}\{\#!\_<"> e**\forcelinebreak 
# Test *M \{#!_&lt;&quot;&gt; e*<br /> <code>code</code>
# Test **M \{#!_&lt;&quot;&gt; e**<br />
# \emph{This is a [1] long string with \href{http://example.com}{\textbf{\emph{strong}}} emph} and some material
# <em>This is a [1] long string with <a class="text-amuse-link" href="http://example.com"><strong><em>strong</em></strong></a> emph</em> and some material
# \textbf{This \emph{is} a [1] long string} with \href{http://example.com}{\textbf{\emph{strong}}} \emph{emph} and \{3\} \texttt{some} material
# <strong>This <em>is</em> a [1] long string</strong> with <a class="text-amuse-link" href="http://example.com"><strong><em>strong</em></strong></a> <em>emph</em> and {3} <code>some</code> material
# syntax for \texttt{<example>} is \texttt{\{\{\{} \texttt{\}\}\}}:
# syntax for <code>&lt;example&gt;</code> is <code>{{{</code> <code>}}}</code>:
# Test <verbatim> <\Slash{}verbatim>
# Test &lt;verbatim&gt; &lt;/verbatim&gt;
<code> is already verbatim! in "<code><verbatim>[[link]]</verbatim></code>"
# \texttt{[[link]]}
<code> is already verbatim! in "<code><verbatim>[[link]]</verbatim></code>"
# <code>[[link]]</code>
# 
# \bigskip
# <br />
# \emph{à
# \forcelinebreak 
# đ}
# <em>à
# <br />
# đ</em>
# 0
# 0
# 
# 0
# 
# 0
# \texttt{=} there \texttt{*}
# <code>=</code> there <code>*</code>
Found open_inline tag *** in <***Hello there ***> without a matching closing tag. Leaving it as-is, but it's unlikely you want this. To suppress this warning, wrap it in <verbatim>
t/inline-elements.t ..... ok
Found unclosed tag em in string <*foo *bar*
>, closing it
Found unclosed tag em in string </*foo *bar*/
>, closing it
Found unclosed tag em in string < *foo *bar*
>, closing it
Found unclosed tag em in string < material *foo *bar* material
>, closing it
Found unclosed tag em in string <,*foo *bar*,
>, closing it
Found unclosed tag em in string <.*foo *bar*.
>, closing it
Found unclosed tag em in string <(*foo *bar*(
>, closing it
Found unclosed tag em in string <-*foo *bar*-
>, closing it
t/inline-markup.t ....... ok
t/internal-linking.t .... ok
Unknown language xx at /usr/home/cpan/pit/bare/conf/perl-5.24.4/.cpanplus/5.24.4/build/qG6_2aZB2r/Text-Amuse-1.83/blib/lib/Text/Amuse/Document.pm line 292.
# 
# Hello
# 
# \begin{otherlanguage}{croatian}
# 
# Test
# 
# \end{otherlanguage}
# 
# Test
# 
# \begin{otherlanguage}{italian}
# 
# Hello \foreignlanguage{french}{Ćao} inlined.
# 
# 
# \foreignlanguage{arabic}{Ciao}
# 
# \end{otherlanguage}
# 
# <p>
# Hello
# </p>
# <div lang="hr">
# 
# <p>
# Test
# </p>
# </div>
# 
# <p>
# Test
# </p>
# <div lang="it">
# 
# <p>
# Hello <span lang="fr">Ćao</span> inlined.
# </p>
# 
# <p>
# <span lang="ar">Ciao</span>
# </p>
# </div>
t/languages.t ........... ok
LLL doesn't map exactly to a list index!
iiii doesn't map exactly to a list index!
t/list-continuations.t .. ok
t/lists.t ............... ok
t/manifest.t ............ skipped: Author tests not required for installation
t/memory-cycles.t ....... skipped: Test::Memory::Cycle required for testing memory cycles
t/memory-size.t ......... skipped: Devel::Size required for testing memory usage
t/missing-bidi.t ........ ok
t/muse-to-object.t ...... ok
# Trying passing a ref to a scalar
t/on-the-fly.t .......... ok
Couldn't retrieve verse from the pile
Couldn't retrieve comment from the pile
Couldn't retrieve comment from the pile
Couldn't retrieve verse from the pile
Found open tag em in <<script>alert("hacked!")</script><em><strong>> without a matching closing tag. Leaving it as-is, but it's unlikely you want this. To suppress this warning, wrap it in <verbatim>
Found open tag strong in <<script>alert("hacked!")</script><em><strong>> without a matching closing tag. Leaving it as-is, but it's unlikely you want this. To suppress this warning, wrap it in <verbatim>
Found open tag em in <<script>alert("hacked!")</script><em><strong>> without a matching closing tag. Leaving it as-is, but it's unlikely you want this. To suppress this warning, wrap it in <verbatim>
Found open tag strong in <<script>alert("hacked!")</script><em><strong>> without a matching closing tag. Leaving it as-is, but it's unlikely you want this. To suppress this warning, wrap it in <verbatim>
<code> is already verbatim! in "<code><verbatim><br> *hello* <br></verbatim></code>"
<code> is already verbatim! in "<code><verbatim><br> *hello* <br></verbatim></code>"
<code> is already verbatim! in "<code><verbatim><br> *hello* <br></verbatim></code>"
<code> is already verbatim! in "<code><verbatim><br> *hello* <br></verbatim></code>"
Table width should be a percentage between 1 and 99, you provided 101
Table width should be a percentage between 1 and 99, you provided 101
t/testfiles/nbsp.muse: Found empty directive #---------------------------
, it will be removed
t/testfiles/nbsp.muse: Found empty directive #---------------------------
, it will be removed
t/testfiles/nbsp.muse: Overwriting directive ''  with #---------------------------

t/testfiles/10_theses.muse: Overwriting directive 'testme' continuation
 with #__test__me__

Forcing the closing of quote
Couldn't retrieve verse from the pile
Couldn't retrieve example from the pile
Found close tag em in <</em>
</strong>
<code>> without a matching opening tag. Leaving it as-is, but it's unlikely you want this. To suppress this warning, wrap it in <verbatim>
Found close tag strong in <</em>
</strong>
<code>> without a matching opening tag. Leaving it as-is, but it's unlikely you want this. To suppress this warning, wrap it in <verbatim>
Found close tag em in <</em>
</strong>
<code>> without a matching opening tag. Leaving it as-is, but it's unlikely you want this. To suppress this warning, wrap it in <verbatim>
Found close tag strong in <</em>
</strong>
<code>> without a matching opening tag. Leaving it as-is, but it's unlikely you want this. To suppress this warning, wrap it in <verbatim>
Found close tag em in <</em>> without a matching opening tag. Leaving it as-is, but it's unlikely you want this. To suppress this warning, wrap it in <verbatim>
Found close tag strong in <</strong>> without a matching opening tag. Leaving it as-is, but it's unlikely you want this. To suppress this warning, wrap it in <verbatim>
Found close tag em in <</em>> without a matching opening tag. Leaving it as-is, but it's unlikely you want this. To suppress this warning, wrap it in <verbatim>
Found close tag strong in <</strong>> without a matching opening tag. Leaving it as-is, but it's unlikely you want this. To suppress this warning, wrap it in <verbatim>
Forcing the closing of quote
Found close tag em in <</em>> without a matching opening tag. Leaving it as-is, but it's unlikely you want this. To suppress this warning, wrap it in <verbatim>
Found close tag strong in <</strong>> without a matching opening tag. Leaving it as-is, but it's unlikely you want this. To suppress this warning, wrap it in <verbatim>
Found close tag em in <</em>> without a matching opening tag. Leaving it as-is, but it's unlikely you want this. To suppress this warning, wrap it in <verbatim>
Found close tag strong in <</strong>> without a matching opening tag. Leaving it as-is, but it's unlikely you want this. To suppress this warning, wrap it in <verbatim>
Found open_inline tag *** in <***bolditalic   ***> without a matching closing tag. Leaving it as-is, but it's unlikely you want this. To suppress this warning, wrap it in <verbatim>
Found open_inline tag *** in <***bolditalic {3} [5] ***> without a matching closing tag. Leaving it as-is, but it's unlikely you want this. To suppress this warning, wrap it in <verbatim>
Found open_inline tag *** in <***bolditalic   ***> without a matching closing tag. Leaving it as-is, but it's unlikely you want this. To suppress this warning, wrap it in <verbatim>
Found open_inline tag *** in <***bolditalic {3} [5] ***> without a matching closing tag. Leaving it as-is, but it's unlikely you want this. To suppress this warning, wrap it in <verbatim>
Forcing the closing of quote
Couldn't retrieve quote from the pile
<code> is already verbatim! in "<code><verbatim>[[link]]</verbatim></code>"
<code> is already verbatim! in "<code><verbatim>[[link]]</verbatim></code>"
<code> is already verbatim! in "<code><verbatim>[[link]]</verbatim></code>"
<code> is already verbatim! in "<code><verbatim>[[link]]</verbatim></code>"
<code> is already verbatim! in "<code><verbatim>[[link]]</verbatim></code>"
<code> is already verbatim! in "<code><verbatim>[[link]]</verbatim></code>"
t/testfiles/headers.muse: Found empty directive #______________
, it will be removed
t/testfiles/headers.muse: Found empty directive #--------------
, it will be removed
t/testfiles/headers.muse: Overwriting directive ''  with #--------------

Found unclosed tag em in string <And. *this is
*broken* and will not compile.
>, closing it
Found unclosed tag em in string <<em>This should</em> <em> <em>compile</em>
>, closing it
<code> is already verbatim! in "<code><verbatim><code></verbatim></code>"
<code> is already verbatim! in "<code><verbatim><em></verbatim></code>"
<code> is already verbatim! in "<code><verbatim><strong></verbatim></code>"
Found unclosed tag em in string <And. *this is
*broken* and will not compile.
>, closing it
Found unclosed tag em in string <<em>This should</em> <em> <em>compile</em>
>, closing it
<code> is already verbatim! in "<code><verbatim><code></verbatim></code>"
<code> is already verbatim! in "<code><verbatim><em></verbatim></code>"
<code> is already verbatim! in "<code><verbatim><strong></verbatim></code>"
Direction already set to rtl! at /usr/home/cpan/pit/bare/conf/perl-5.24.4/.cpanplus/5.24.4/build/qG6_2aZB2r/Text-Amuse-1.83/blib/lib/Text/Amuse/Document.pm line 542.
Forcing the closing of rtl
Direction already set to ltr! at /usr/home/cpan/pit/bare/conf/perl-5.24.4/.cpanplus/5.24.4/build/qG6_2aZB2r/Text-Amuse-1.83/blib/lib/Text/Amuse/Document.pm line 542.
Forcing the closing of ltr
t/output.t .............. ok
t/partials.t ............ ok
t/pod-coverage.t ........ skipped: Test::Pod::Coverage 1.08 required for testing POD coverage
t/pod.t ................. skipped: Test::Pod 1.22 required for testing POD
t/regexp.t .............. ok
t/rewrite-header.t ...... ok
t/ruby.t ................ ok
t/short-titles.t ........ ok
t/splat.t ............... ok
t/splat_html.t .......... ok
Found unclosed tag em in string <And. *this is
*broken* and will not compile.
>, closing it
Found unclosed tag em in string <<em>This should</em> <em> <em>compile</em>
>, closing it
<code> is already verbatim! in "<code><verbatim><code></verbatim></code>"
<code> is already verbatim! in "<code><verbatim><em></verbatim></code>"
<code> is already verbatim! in "<code><verbatim><strong></verbatim></code>"
Found unclosed tag em in string <And. *this is
*broken* and will not compile.
>, closing it
Found unclosed tag em in string <<em>This should</em> <em> <em>compile</em>
>, closing it
<code> is already verbatim! in "<code><verbatim><code></verbatim></code>"
<code> is already verbatim! in "<code><verbatim><em></verbatim></code>"
<code> is already verbatim! in "<code><verbatim><strong></verbatim></code>"
Found unclosed tag em in string <And. *this is
*broken* and will not compile.
>, closing it
Found unclosed tag em in string <<em>This should</em> <em> <em>compile</em>
>, closing it
<code> is already verbatim! in "<code><verbatim><code></verbatim></code>"
<code> is already verbatim! in "<code><verbatim><em></verbatim></code>"
<code> is already verbatim! in "<code><verbatim><strong></verbatim></code>"
Found unclosed tag em in string <And. *this is
*broken* and will not compile.
>, closing it
Found unclosed tag em in string <<em>This should</em> <em> <em>compile</em>
>, closing it
<code> is already verbatim! in "<code><verbatim><code></verbatim></code>"
<code> is already verbatim! in "<code><verbatim><em></verbatim></code>"
<code> is already verbatim! in "<code><verbatim><strong></verbatim></code>"
t/testfiles/10_theses.muse: Overwriting directive 'testme' continuation
 with #__test__me__

t/testfiles/10_theses.muse: Overwriting directive 'testme' continuation
 with #__test__me__

<code> is already verbatim! in "<code><verbatim><br> *hello* <br></verbatim></code>"
<code> is already verbatim! in "<code><verbatim><br> *hello* <br></verbatim></code>"
<code> is already verbatim! in "<code><verbatim><br> *hello* <br></verbatim></code>"
<code> is already verbatim! in "<code><verbatim><br> *hello* <br></verbatim></code>"
<code> is already verbatim! in "<code><verbatim><br> *hello* <br></verbatim></code>"
<code> is already verbatim! in "<code><verbatim><br> *hello* <br></verbatim></code>"
<code> is already verbatim! in "<code><verbatim><br> *hello* <br></verbatim></code>"
<code> is already verbatim! in "<code><verbatim><br> *hello* <br></verbatim></code>"
Direction already set to ltr! at /usr/home/cpan/pit/bare/conf/perl-5.24.4/.cpanplus/5.24.4/build/qG6_2aZB2r/Text-Amuse-1.83/blib/lib/Text/Amuse/Document.pm line 542.
Forcing the closing of ltr
Direction already set to ltr! at /usr/home/cpan/pit/bare/conf/perl-5.24.4/.cpanplus/5.24.4/build/qG6_2aZB2r/Text-Amuse-1.83/blib/lib/Text/Amuse/Document.pm line 542.
Forcing the closing of ltr
Direction already set to rtl! at /usr/home/cpan/pit/bare/conf/perl-5.24.4/.cpanplus/5.24.4/build/qG6_2aZB2r/Text-Amuse-1.83/blib/lib/Text/Amuse/Document.pm line 542.
Forcing the closing of rtl
Direction already set to rtl! at /usr/home/cpan/pit/bare/conf/perl-5.24.4/.cpanplus/5.24.4/build/qG6_2aZB2r/Text-Amuse-1.83/blib/lib/Text/Amuse/Document.pm line 542.
Forcing the closing of rtl
Found close tag em in <</em>> without a matching opening tag. Leaving it as-is, but it's unlikely you want this. To suppress this warning, wrap it in <verbatim>
Found close tag strong in <</strong>> without a matching opening tag. Leaving it as-is, but it's unlikely you want this. To suppress this warning, wrap it in <verbatim>
Found close tag em in <</em>> without a matching opening tag. Leaving it as-is, but it's unlikely you want this. To suppress this warning, wrap it in <verbatim>
Found close tag strong in <</strong>> without a matching opening tag. Leaving it as-is, but it's unlikely you want this. To suppress this warning, wrap it in <verbatim>
Found close tag em in <</em>> without a matching opening tag. Leaving it as-is, but it's unlikely you want this. To suppress this warning, wrap it in <verbatim>
Found close tag strong in <</strong>> without a matching opening tag. Leaving it as-is, but it's unlikely you want this. To suppress this warning, wrap it in <verbatim>
Found close tag em in <</em>> without a matching opening tag. Leaving it as-is, but it's unlikely you want this. To suppress this warning, wrap it in <verbatim>
Found close tag strong in <</strong>> without a matching opening tag. Leaving it as-is, but it's unlikely you want this. To suppress this warning, wrap it in <verbatim>
Found open tag em in <<script>alert("hacked!")</script><em><strong>> without a matching closing tag. Leaving it as-is, but it's unlikely you want this. To suppress this warning, wrap it in <verbatim>
Found open tag strong in <<script>alert("hacked!")</script><em><strong>> without a matching closing tag. Leaving it as-is, but it's unlikely you want this. To suppress this warning, wrap it in <verbatim>
Found open tag em in <<script>alert("hacked!")</script><em><strong>> without a matching closing tag. Leaving it as-is, but it's unlikely you want this. To suppress this warning, wrap it in <verbatim>
Found open tag strong in <<script>alert("hacked!")</script><em><strong>> without a matching closing tag. Leaving it as-is, but it's unlikely you want this. To suppress this warning, wrap it in <verbatim>
Found open tag em in <<script>alert("hacked!")</script><em><strong>> without a matching closing tag. Leaving it as-is, but it's unlikely you want this. To suppress this warning, wrap it in <verbatim>
Found open tag strong in <<script>alert("hacked!")</script><em><strong>> without a matching closing tag. Leaving it as-is, but it's unlikely you want this. To suppress this warning, wrap it in <verbatim>
Found open tag em in <<script>alert("hacked!")</script><em><strong>> without a matching closing tag. Leaving it as-is, but it's unlikely you want this. To suppress this warning, wrap it in <verbatim>
Found open tag strong in <<script>alert("hacked!")</script><em><strong>> without a matching closing tag. Leaving it as-is, but it's unlikely you want this. To suppress this warning, wrap it in <verbatim>
Forcing the closing of quote
Found close tag em in <</em>> without a matching opening tag. Leaving it as-is, but it's unlikely you want this. To suppress this warning, wrap it in <verbatim>
Found close tag strong in <</strong>> without a matching opening tag. Leaving it as-is, but it's unlikely you want this. To suppress this warning, wrap it in <verbatim>
Found close tag em in <</em>> without a matching opening tag. Leaving it as-is, but it's unlikely you want this. To suppress this warning, wrap it in <verbatim>
Found close tag strong in <</strong>> without a matching opening tag. Leaving it as-is, but it's unlikely you want this. To suppress this warning, wrap it in <verbatim>
Forcing the closing of quote
Found close tag em in <</em>> without a matching opening tag. Leaving it as-is, but it's unlikely you want this. To suppress this warning, wrap it in <verbatim>
Found close tag strong in <</strong>> without a matching opening tag. Leaving it as-is, but it's unlikely you want this. To suppress this warning, wrap it in <verbatim>
Found close tag em in <</em>> without a matching opening tag. Leaving it as-is, but it's unlikely you want this. To suppress this warning, wrap it in <verbatim>
Found close tag strong in <</strong>> without a matching opening tag. Leaving it as-is, but it's unlikely you want this. To suppress this warning, wrap it in <verbatim>
t/testfiles/headers.muse: Found empty directive #______________
, it will be removed
t/testfiles/headers.muse: Found empty directive #--------------
, it will be removed
t/testfiles/headers.muse: Overwriting directive ''  with #--------------

t/testfiles/headers.muse: Found empty directive #______________
, it will be removed
t/testfiles/headers.muse: Found empty directive #--------------
, it will be removed
t/testfiles/headers.muse: Overwriting directive ''  with #--------------

t/testfiles/nbsp.muse: Found empty directive #---------------------------
, it will be removed
t/testfiles/nbsp.muse: Found empty directive #---------------------------
, it will be removed
t/testfiles/nbsp.muse: Overwriting directive ''  with #---------------------------

t/testfiles/nbsp.muse: Found empty directive #---------------------------
, it will be removed
t/testfiles/nbsp.muse: Found empty directive #---------------------------
, it will be removed
t/testfiles/nbsp.muse: Overwriting directive ''  with #---------------------------

Forcing the closing of quote
Couldn't retrieve verse from the pile
Couldn't retrieve example from the pile
Found close tag em in <</em>
</strong>
<code>> without a matching opening tag. Leaving it as-is, but it's unlikely you want this. To suppress this warning, wrap it in <verbatim>
Found close tag strong in <</em>
</strong>
<code>> without a matching opening tag. Leaving it as-is, but it's unlikely you want this. To suppress this warning, wrap it in <verbatim>
Found close tag em in <</em>
</strong>
<code>> without a matching opening tag. Leaving it as-is, but it's unlikely you want this. To suppress this warning, wrap it in <verbatim>
Found close tag strong in <</em>
</strong>
<code>> without a matching opening tag. Leaving it as-is, but it's unlikely you want this. To suppress this warning, wrap it in <verbatim>
Forcing the closing of quote
Couldn't retrieve verse from the pile
Couldn't retrieve example from the pile
Found close tag em in <</em>
</strong>
<code>> without a matching opening tag. Leaving it as-is, but it's unlikely you want this. To suppress this warning, wrap it in <verbatim>
Found close tag strong in <</em>
</strong>
<code>> without a matching opening tag. Leaving it as-is, but it's unlikely you want this. To suppress this warning, wrap it in <verbatim>
Found close tag em in <</em>
</strong>
<code>> without a matching opening tag. Leaving it as-is, but it's unlikely you want this. To suppress this warning, wrap it in <verbatim>
Found close tag strong in <</em>
</strong>
<code>> without a matching opening tag. Leaving it as-is, but it's unlikely you want this. To suppress this warning, wrap it in <verbatim>
Found open_inline tag *** in <***bolditalic   ***> without a matching closing tag. Leaving it as-is, but it's unlikely you want this. To suppress this warning, wrap it in <verbatim>
Found open_inline tag *** in <***bolditalic {3} [5] ***> without a matching closing tag. Leaving it as-is, but it's unlikely you want this. To suppress this warning, wrap it in <verbatim>
Found open_inline tag *** in <***bolditalic   ***> without a matching closing tag. Leaving it as-is, but it's unlikely you want this. To suppress this warning, wrap it in <verbatim>
Found open_inline tag *** in <***bolditalic {3} [5] ***> without a matching closing tag. Leaving it as-is, but it's unlikely you want this. To suppress this warning, wrap it in <verbatim>
Found open_inline tag *** in <***bolditalic   ***> without a matching closing tag. Leaving it as-is, but it's unlikely you want this. To suppress this warning, wrap it in <verbatim>
Found open_inline tag *** in <***bolditalic {3} [5] ***> without a matching closing tag. Leaving it as-is, but it's unlikely you want this. To suppress this warning, wrap it in <verbatim>
Found open_inline tag *** in <***bolditalic   ***> without a matching closing tag. Leaving it as-is, but it's unlikely you want this. To suppress this warning, wrap it in <verbatim>
Found open_inline tag *** in <***bolditalic {3} [5] ***> without a matching closing tag. Leaving it as-is, but it's unlikely you want this. To suppress this warning, wrap it in <verbatim>
Couldn't retrieve verse from the pile
Couldn't retrieve comment from the pile
Couldn't retrieve comment from the pile
Couldn't retrieve verse from the pile
Couldn't retrieve verse from the pile
Couldn't retrieve comment from the pile
Couldn't retrieve comment from the pile
Couldn't retrieve verse from the pile
Forcing the closing of quote
Couldn't retrieve quote from the pile
Forcing the closing of quote
Couldn't retrieve quote from the pile
Table width should be a percentage between 1 and 99, you provided 101
Table width should be a percentage between 1 and 99, you provided 101
Table width should be a percentage between 1 and 99, you provided 101
Table width should be a percentage between 1 and 99, you provided 101
<code> is already verbatim! in "<code><verbatim>[[link]]</verbatim></code>"
<code> is already verbatim! in "<code><verbatim>[[link]]</verbatim></code>"
<code> is already verbatim! in "<code><verbatim>[[link]]</verbatim></code>"
<code> is already verbatim! in "<code><verbatim>[[link]]</verbatim></code>"
<code> is already verbatim! in "<code><verbatim>[[link]]</verbatim></code>"
<code> is already verbatim! in "<code><verbatim>[[link]]</verbatim></code>"
<code> is already verbatim! in "<code><verbatim>[[link]]</verbatim></code>"
<code> is already verbatim! in "<code><verbatim>[[link]]</verbatim></code>"
<code> is already verbatim! in "<code><verbatim>[[link]]</verbatim></code>"
<code> is already verbatim! in "<code><verbatim>[[link]]</verbatim></code>"
<code> is already verbatim! in "<code><verbatim>[[link]]</verbatim></code>"
<code> is already verbatim! in "<code><verbatim>[[link]]</verbatim></code>"
t/splat_latex.t ......... ok
t/tables.t .............. ok
# Constructor
t/text-amuse.t .......... ok
# $VAR1 = [
#           {
#             'index' => 1,
#             'string' => 'Part without an anchor',
#             'level' => '1'
#           },
#           {
#             'index' => 2,
#             'named' => 'text-amuse-label-again2',
#             'string' => 'A chapter',
#             'level' => '2'
#           },
#           {
#             'level' => '3',
#             'string' => 'A chapter',
#             'named' => 'text-amuse-label-top1',
#             'index' => 3
#           },
#           {
#             'index' => 4,
#             'string' => 'A Section',
#             'level' => '4'
#           }
#         ];
t/title-anchors.t ....... ok
t/tocs-with-fn.t ........ ok
t/tocs.t ................ ok
t/unroll.t .............. ok
Couldn't retrieve example from the pile
Couldn't retrieve example from the pile
t/verbatim.t ............ ok
t/warnings.t ............ ok
All tests successful.
Files=53, Tests=3300, 11 wallclock secs ( 0.41 usr  0.12 sys +  7.65 cusr  2.04 csys = 10.21 CPU)
Result: PASS


PREREQUISITES:

Here is a list of prerequisites you specified and versions we
managed to load:

	  Module Name                        Have     Want
	  Data::Dumper                      2.160        0
	  File::Spec                         3.75        0
	  File::Temp                       0.2311        0
	  Test::More                     1.302191        0

Perl module toolchain versions installed:
	Module Name                        Have
	CPANPLUS                         0.9914
	CPANPLUS::Dist::Build              0.90
	Cwd                                3.75
	ExtUtils::CBuilder             0.280236
	ExtUtils::Command                  7.64
	ExtUtils::Install                  2.20
	ExtUtils::MakeMaker                7.64
	ExtUtils::Manifest                 1.73
	ExtUtils::ParseXS                  3.44
	File::Spec                         3.75
	Module::Build                    0.4231
	Pod::Parser                        1.63
	Pod::Simple                        3.32
	Test2                          1.302191
	Test::Harness                      3.44
	Test::More                     1.302191
	version                          0.9929

******************************** NOTE ********************************
The comments above are created mechanically, possibly without manual
checking by the sender.  As there are many people performing automatic
tests on each upload to CPAN, it is likely that you will receive
identical messages about the same problem.

If you believe that the message is mistaken, please reply to the first
one with correction and/or additional informations, and do not take
it personally.  We appreciate your patience. :)
**********************************************************************

Additional comments:


This report was machine-generated by CPANPLUS::Dist::YACSmoke 1.08.
Powered by minismokebox version 0.68

CPANPLUS is prefering Build.PL

------------------------------
ENVIRONMENT AND OTHER CONTEXT
------------------------------

Environment variables:

    AUTOMATED_TESTING = 1
    LANG = C.UTF-8
    NONINTERACTIVE_TESTING = 1
    PATH = /usr/home/cpan/pit/jail/jXAWxGvhKd/bin:/sbin:/bin:/usr/sbin:/usr/bin:/usr/local/sbin:/usr/local/bin:/home/cpan/bin
    PERL5LIB = /usr/home/cpan/pit/jail/jXAWxGvhKd/lib/perl5:/usr/home/cpan/pit/bare/conf/perl-5.24.4/.cpanplus/5.24.4/build/qG6_2aZB2r/Text-Amuse-1.83/blib/lib:/usr/home/cpan/pit/bare/conf/perl-5.24.4/.cpanplus/5.24.4/build/qG6_2aZB2r/Text-Amuse-1.83/blib/arch
    PERL5_CPANPLUS_IS_RUNNING = 89598
    PERL5_CPANPLUS_IS_VERSION = 0.9914
    PERL5_MINISMOKEBOX = 0.68
    PERL5_YACSMOKE_BASE = /usr/home/cpan/pit/bare/conf/perl-5.24.4
    PERL_EXTUTILS_AUTOINSTALL = --defaultdeps
    PERL_LOCAL_LIB_ROOT = /usr/home/cpan/pit/jail/jXAWxGvhKd
    PERL_MB_OPT = --install_base "/usr/home/cpan/pit/jail/jXAWxGvhKd"
    PERL_MM_OPT = INSTALL_BASE=/usr/home/cpan/pit/jail/jXAWxGvhKd
    PERL_MM_USE_DEFAULT = 1
    SHELL = /usr/local/bin/bash
    TERM = screen

Perl special variables (and OS-specific diagnostics, for MSWin32):

    Perl: $^X = /usr/home/cpan/pit/bare/perl-5.24.4/bin/perl
    UID:  $<  = 1002
    EUID: $>  = 1002
    GID:  $(  = 1002 1002
    EGID: $)  = 1002 1002


-------------------------------


--

Summary of my perl5 (revision 5 version 24 subversion 4) configuration:
   
  Platform:
    osname=freebsd, osvers=13.1-release, archname=amd64-freebsd
    uname='freebsd frantic 13.1-release freebsd 13.1-release releng13.1-n250148-fc952ac2212 generic amd64 '
    config_args='-des -Dprefix=/usr/home/cpan/pit/bare/perl-5.24.4'
    hint=recommended, useposix=true, d_sigaction=define
    useithreads=undef, usemultiplicity=undef
    use64bitint=define, use64bitall=define, uselongdouble=undef
    usemymalloc=n, bincompat5005=undef
  Compiler:
    cc='cc', ccflags ='-DHAS_FPSETMASK -DHAS_FLOATINGPOINT_H -fno-strict-aliasing -pipe -fstack-protector-strong -I/usr/local/include',
    optimize='-O2',
    cppflags='-DHAS_FPSETMASK -DHAS_FLOATINGPOINT_H -fno-strict-aliasing -pipe -fstack-protector-strong -I/usr/local/include'
    ccversion='', gccversion='FreeBSD Clang 13.0.0 (git@github.com:llvm/llvm-project.git llvmorg-13.0.0-0-gd7b669b3a303)', gccosandvers=''
    intsize=4, longsize=8, ptrsize=8, doublesize=8, byteorder=12345678, doublekind=3
    d_longlong=define, longlongsize=8, d_longdbl=define, longdblsize=16, longdblkind=3
    ivtype='long', ivsize=8, nvtype='double', nvsize=8, Off_t='off_t', lseeksize=8
    alignbytes=8, prototype=define
  Linker and Libraries:
    ld='cc', ldflags ='-Wl,-E  -fstack-protector-strong -L/usr/local/lib'
    libpth=/usr/lib /usr/local/lib /usr/lib/clang/13.0.0/lib /usr/lib
    libs=-lpthread -lgdbm -ldl -lm -lcrypt -lutil -lc
    perllibs=-lpthread -ldl -lm -lcrypt -lutil -lc
    libc=, so=so, useshrplib=false, libperl=libperl.a
    gnulibc_version=''
  Dynamic Linking:
    dlsrc=dl_dlopen.xs, dlext=so, d_dlsymun=undef, ccdlflags=' '
    cccdlflags='-DPIC -fPIC', lddlflags='-shared  -L/usr/local/lib -fstack-protector-strong'


Characteristics of this binary (from libperl): 
  Compile-time options: HAS_TIMES PERLIO_LAYERS PERL_COPY_ON_WRITE
                        PERL_DONT_CREATE_GVSV
                        PERL_HASH_FUNC_ONE_AT_A_TIME_HARD PERL_MALLOC_WRAP
                        PERL_PRESERVE_IVUV USE_64_BIT_ALL USE_64_BIT_INT
                        USE_LARGE_FILES USE_LOCALE USE_LOCALE_COLLATE
                        USE_LOCALE_CTYPE USE_LOCALE_NUMERIC USE_LOCALE_TIME
                        USE_PERLIO USE_PERL_ATOF
  Locally applied patches:
	Devel::PatchPerl 2.08
  Built under freebsd
  Compiled at Jul 24 2022 22:13:12
  %ENV:
    PERL5LIB="/usr/home/cpan/pit/jail/jXAWxGvhKd/lib/perl5:/usr/home/cpan/pit/bare/conf/perl-5.24.4/.cpanplus/5.24.4/build/qG6_2aZB2r/Text-Amuse-1.83/blib/lib:/usr/home/cpan/pit/bare/conf/perl-5.24.4/.cpanplus/5.24.4/build/qG6_2aZB2r/Text-Amuse-1.83/blib/arch"
    PERL5_CPANPLUS_IS_RUNNING="89598"
    PERL5_CPANPLUS_IS_VERSION="0.9914"
    PERL5_MINISMOKEBOX="0.68"
    PERL5_YACSMOKE_BASE="/usr/home/cpan/pit/bare/conf/perl-5.24.4"
    PERL_EXTUTILS_AUTOINSTALL="--defaultdeps"
    PERL_LOCAL_LIB_ROOT="/usr/home/cpan/pit/jail/jXAWxGvhKd"
    PERL_MB_OPT="--install_base "/usr/home/cpan/pit/jail/jXAWxGvhKd""
    PERL_MM_OPT="INSTALL_BASE=/usr/home/cpan/pit/jail/jXAWxGvhKd"
    PERL_MM_USE_DEFAULT="1"
  @INC:
    /usr/home/cpan/pit/jail/jXAWxGvhKd/lib/perl5/5.24.4/amd64-freebsd
    /usr/home/cpan/pit/jail/jXAWxGvhKd/lib/perl5/5.24.4
    /usr/home/cpan/pit/jail/jXAWxGvhKd/lib/perl5/amd64-freebsd
    /usr/home/cpan/pit/jail/jXAWxGvhKd/lib/perl5
    /usr/home/cpan/pit/bare/conf/perl-5.24.4/.cpanplus/5.24.4/build/qG6_2aZB2r/Text-Amuse-1.83/blib/lib
    /usr/home/cpan/pit/bare/conf/perl-5.24.4/.cpanplus/5.24.4/build/qG6_2aZB2r/Text-Amuse-1.83/blib/arch
    /usr/home/cpan/pit/bare/perl-5.24.4/lib/site_perl/5.24.4/amd64-freebsd
    /usr/home/cpan/pit/bare/perl-5.24.4/lib/site_perl/5.24.4
    /usr/home/cpan/pit/bare/perl-5.24.4/lib/5.24.4/amd64-freebsd
    /usr/home/cpan/pit/bare/perl-5.24.4/lib/5.24.4
    .