Net-Curl-Parallel v2.0.0 Perl 5 v5.24.0 amd64-freebsd

Status
Pass
From
Slaven Rezić (SREZIC)
Dist
Net-Curl-Parallel v2.0.0
Platform
Perl 5 v5.24.0 amd64-freebsd
Date
2018-09-19 11:06:02
ID
ff19ec12-bbfb-11e8-8acf-a98c89f711ea
This distribution has been tested as part of the CPAN Testers
project, supporting the Perl programming language.  See
http://wiki.cpantesters.org/ for more information or email
questions to cpan-testers-discuss@perl.org


--
Dear Rob Kinyon,

This is a computer-generated report for Net-Curl-Parallel-2.0.0
on perl 5.24.0, created by CPAN-Reporter-1.2018.

Thank you for uploading your work to CPAN.  Congratulations!
All tests were successful.

Sections of this report:

    * Tester comments
    * Program output
    * Prerequisites
    * Environment and other context

------------------------------
TESTER COMMENTS
------------------------------

Additional comments from tester:

none provided

------------------------------
PROGRAM OUTPUT
------------------------------

Output from '/usr/bin/make test':

PERL_DL_NONLAZY=1 "/usr/perl5.24.0p/bin/perl5.24.0" "-MExtUtils::Command::MM" "-MTest::Harness" "-e" "undef *Test::Harness::Switches; test_harness(0, 'blib/lib', 'blib/arch')" t/*.t t/Net/Curl/*.t t/Net/Curl/Parallel/*.t
# 
# Versions for all modules listed in MYMETA.json (including optional ones):
# 
# === Configure Requires ===
# 
#     Module              Want Have
#     ------------------- ---- ----
#     ExtUtils::MakeMaker  any 7.34
# 
# === Build Requires ===
# 
#     Module              Want Have
#     ------------------- ---- ----
#     ExtUtils::MakeMaker  any 7.34
# 
# === Test Requires ===
# 
#     Module                     Want     Have
#     -------------------------- ---- --------
#     Carp                        any     1.40
#     Exporter                    any     5.72
#     ExtUtils::MakeMaker         any     7.34
#     File::Spec                  any     3.74
#     Perl::Critic                any    1.132
#     Scalar::Util                any     1.50
#     Test2::API                  any 1.302138
#     Test2::IPC                  any 1.302138
#     Test2::Plugin::SpecDeclare  any 0.000003
#     Test2::Suite                any 0.000114
#     Test2::Todo                 any 0.000114
#     Test2::Tools::Explain       any     0.02
#     Test2::Tools::Spec          any 0.000114
#     Test2::V0                   any 0.000114
#     Test::HTTP::MockServer      any    0.0.1
#     Test::MockModule            any     0.15
#     Test::MockTime              any     0.16
#     Test::More                  any 1.302138
#     Test::Perl::Critic          any     1.04
#     Test::Pod                   any     1.52
#     namespace::autoclean        any     0.28
#     parent                      any    0.236
#     strictures                  any 2.000004
# 
# === Test Recommends ===
# 
#     Module         Want     Have
#     ---------- -------- --------
#     CPAN::Meta 2.120900 2.150010
# 
# === Runtime Requires ===
# 
#     Module           Want     Have
#     ---------------- ---- --------
#     Data::Printer     any     0.40
#     File::Find::Rule  any     0.34
#     Guard             any    1.023
#     HTTP::Parser::XS  any     0.17
#     HTTP::Response    any     6.16
#     Moo               any 2.003004
#     Net::Curl::Easy   any     0.39
#     Net::Curl::Multi  any     0.39
#     Path::Tiny        any    0.108
#     Type::Library     any 1.004002
#     Type::Utils       any 1.004002
#     Types::Standard   any 1.004002
#     URI::Fast         any     0.41
# 
t/00-report-prereqs.t ............. ok
t/Net/Curl/Parallel.t ............. ok
t/Net/Curl/Parallel/add_try.t ..... ok
t/Net/Curl/Parallel/collect.t ..... ok
t/Net/Curl/Parallel/fetch.t ....... ok
t/Net/Curl/Parallel/max_curls.t ... ok
t/Net/Curl/Parallel/perform.t ..... ok
t/Net/Curl/Parallel/Response.t .... ok
Prototype mismatch: sub Net::Curl::Easy::setopt ($$$) vs none at /usr/perl5.24.0p/lib/site_perl/5.24.0/Test/MockModule.pm line 163.
Prototype mismatch: sub Net::Curl::Easy::setopt: none vs ($$$) at /usr/perl5.24.0p/lib/site_perl/5.24.0/Test/MockModule.pm line 163.
t/Net/Curl/Parallel/setup_curl.t .. ok
t/Net/Curl/Parallel/Types.t ....... ok
t/perlcritic.t .................... skipped: Author test.  Set $ENV{TEST_AUTHOR} to a true value to run.
t/pod.t ........................... ok
All tests successful.
Files=12, Tests=48,  3 wallclock secs ( 0.00 usr  0.07 sys +  0.38 cusr  2.42 csys =  2.87 CPU)
Result: PASS

------------------------------
PREREQUISITES
------------------------------

Prerequisite modules loaded:

requires:

    Module                     Need     Have    
    -------------------------- -------- --------
    Data::Printer              0        0.40    
    File::Find::Rule           0        0.34    
    Guard                      0        1.023   
    HTTP::Parser::XS           0        0.17    
    HTTP::Response             0        6.16    
    Moo                        0        2.003004
    Net::Curl::Easy            0        0.39    
    Net::Curl::Multi           0        0.39    
    Path::Tiny                 0        0.108   
    perl                       5.014000 5.024000
    Type::Library              0        1.004002
    Type::Utils                0        1.004002
    Types::Standard            0        1.004002
    URI::Fast                  0        0.41    

build_requires:

    Module                     Need     Have    
    -------------------------- -------- --------
    Carp                       0        1.40    
    Exporter                   0        5.72    
    ExtUtils::MakeMaker        0        7.34    
    File::Spec                 0        3.74    
    namespace::autoclean       0        0.28    
    parent                     0        0.236   
    Perl::Critic               0        1.132   
    Scalar::Util               0        1.50    
    strictures                 0        2.000004
    Test2::API                 0        1.302138
    Test2::IPC                 0        1.302138
    Test2::Plugin::SpecDeclare 0        0.000003
    Test2::Suite               0        0.000114
    Test2::Todo                0        0.000114
    Test2::Tools::Explain      0        0.02    
    Test2::Tools::Spec         0        0.000114
    Test2::V0                  0        0.000114
    Test::HTTP::MockServer     0        0.0.1   
    Test::MockModule           0        0.15    
    Test::MockTime             0        0.16    
    Test::More                 0        1.302138
    Test::Perl::Critic         0        1.04    
    Test::Pod                  0        1.52    

configure_requires:

    Module                     Need     Have    
    -------------------------- -------- --------
    ExtUtils::MakeMaker        0        7.34    


------------------------------
ENVIRONMENT AND OTHER CONTEXT
------------------------------

Environment variables:

    LC_ALL = de_DE.ISO8859-1
    PATH = /usr/local/bin:/usr/bin:/bin:/usr/local/sbin:/usr/sbin:/sbin:/home/cpansand/bin/freebsd10.3:/home/cpansand/bin/sh:/home/cpansand/bin:/usr/games:/home/cpansand/devel:/home/eserte/src/srezic-misc/scripts
    PERL5LIB = /home/cpansand/.cpan/build/2018091912/Test-HTTP-MockServer-v0.0.1-0/blib/arch:/home/cpansand/.cpan/build/2018091912/Test-HTTP-MockServer-v0.0.1-0/blib/lib:/home/cpansand/.cpan/build/2018091912/Test2-Plugin-SpecDeclare-0.000003-0/blib/arch:/home/cpansand/.cpan/build/2018091912/Test2-Plugin-SpecDeclare-0.000003-0/blib/lib:/home/cpansand/.cpan/build/2018091912/App-Sandy-0.21-0/blib/arch:/home/cpansand/.cpan/build/2018091912/App-Sandy-0.21-0/blib/lib:/home/cpansand/.cpan/build/2018091912/Inline-CPP-0.75-0/blib/arch:/home/cpansand/.cpan/build/2018091912/Inline-CPP-0.75-0/blib/lib:/home/cpansand/.cpan/build/2018091912/Alien-libcmark_gfm-3.0-0/blib/arch:/home/cpansand/.cpan/build/2018091912/Alien-libcmark_gfm-3.0-0/blib/lib:/home/cpansand/.cpan/build/2018091912/Net-OneSky-0.0.3-0/blib/arch:/home/cpansand/.cpan/build/2018091912/Net-OneSky-0.0.3-0/blib/lib:/home/cpansand/.cpan/build/2018091912/ARGV-Struct-0.05-0/blib/arch:/home/cpansand/.cpan/build/2018091912/ARGV-Struct-0.05-0/blib/lib:/home/cpansand/.cpan/build/2018091912/File-Rename-1.09_03-0/blib/arch:/home/cpansand/.cpan/build/2018091912/File-Rename-1.09_03-0/blib/lib
    PERL5OPT = 
    PERL5_CPANPLUS_IS_RUNNING = 22828
    PERL5_CPAN_IS_RUNNING = 22828
    PERL5_CPAN_IS_RUNNING_IN_RECURSION = 62132,22828
    PERLDOC = -MPod::Perldoc::ToTextOverstrike
    PERL_BATCH = yes
    PERL_CANARY_STABILITY_NOPROMPT = 1
    PERL_CPAN_REPORTER_CONFIG = /var/tmp/cpansmoker-1023/2018091907/cpanreporter_000_config.ini
    PERL_EXTUTILS_AUTOINSTALL = --defaultdeps
    SHELL = /usr/local/bin/zsh
    TERM = screen
    TMPDIR = /var/tmp/cpansmoker-1023/2018091907

Perl special variables (and OS-specific diagnostics, for MSWin32):

    $^X = /usr/perl5.24.0p/bin/perl5.24.0
    $UID/$EUID = 1023 / 1023
    $GID = 1023 1023
    $EGID = 1023 1023

Perl module toolchain versions installed:

    Module              Have    
    ------------------- --------
    CPAN                2.16    
    CPAN::Meta          2.150010
    Cwd                 3.74    
    ExtUtils::CBuilder  0.280230
    ExtUtils::Command   7.34    
    ExtUtils::Install   2.14    
    ExtUtils::MakeMaker 7.34    
    ExtUtils::Manifest  1.70    
    ExtUtils::ParseXS   3.31    
    File::Spec          3.74    
    JSON                2.97001 
    JSON::PP            2.94    
    Module::Build       0.4224  
    Module::Signature   0.83    
    Parse::CPAN::Meta   2.150010
    Test::Harness       3.42    
    Test::More          1.302138
    YAML                1.26    
    YAML::Syck          1.30    
    version             0.9922  


--

Summary of my perl5 (revision 5 version 24 subversion 0) configuration:
   
  Platform:
    osname=freebsd, osvers=10.1-release, archname=amd64-freebsd
    uname='freebsd cvrsnica-freebsd-101.herceg.de 10.1-release freebsd 10.1-release #0 r274401: tue nov 11 21:02:49 utc 2014 root@releng1.nyi.freebsd.org:usrobjusrsrcsysgeneric amd64 '
    config_args='-ds -e -Dprefix=/usr/perl5.24.0p -Dcf_email=srezic@cpan.org -Doptimize=-O2 -pipe'
    hint=recommended, useposix=true, d_sigaction=define
    useithreads=undef, usemultiplicity=undef
    use64bitint=define, use64bitall=define, uselongdouble=undef
    usemymalloc=n, bincompat5005=undef
  Compiler:
    cc='cc', ccflags ='-DHAS_FPSETMASK -DHAS_FLOATINGPOINT_H -fno-strict-aliasing -pipe -fstack-protector -I/usr/local/include -D_FORTIFY_SOURCE=2',
    optimize='-O2 -pipe',
    cppflags='-DHAS_FPSETMASK -DHAS_FLOATINGPOINT_H -fno-strict-aliasing -pipe -fstack-protector -I/usr/local/include'
    ccversion='', gccversion='4.2.1 Compatible FreeBSD Clang 3.4.1 (tags/RELEASE_34/dot1-final 208032)', gccosandvers=''
    intsize=4, longsize=8, ptrsize=8, doublesize=8, byteorder=12345678, doublekind=3
    d_longlong=define, longlongsize=8, d_longdbl=define, longdblsize=16, longdblkind=3
    ivtype='long', ivsize=8, nvtype='double', nvsize=8, Off_t='off_t', lseeksize=8
    alignbytes=8, prototype=define
  Linker and Libraries:
    ld='cc', ldflags ='-pthread -Wl,-E  -fstack-protector -L/usr/local/lib'
    libpth=/usr/lib /usr/local/lib /usr/include/clang/3.4.1 /usr/lib
    libs=-lpthread -lgdbm -lm -lcrypt -lutil -lc
    perllibs=-lpthread -lm -lcrypt -lutil -lc
    libc=, so=so, useshrplib=false, libperl=libperl.a
    gnulibc_version=''
  Dynamic Linking:
    dlsrc=dl_dlopen.xs, dlext=so, d_dlsymun=undef, ccdlflags=' '
    cccdlflags='-DPIC -fPIC', lddlflags='-shared  -L/usr/local/lib -fstack-protector'


Characteristics of this binary (from libperl): 
  Compile-time options: HAS_TIMES PERLIO_LAYERS PERL_COPY_ON_WRITE
                        PERL_DONT_CREATE_GVSV
                        PERL_HASH_FUNC_ONE_AT_A_TIME_HARD PERL_MALLOC_WRAP
                        PERL_PRESERVE_IVUV USE_64_BIT_ALL USE_64_BIT_INT
                        USE_LARGE_FILES USE_LOCALE USE_LOCALE_COLLATE
                        USE_LOCALE_CTYPE USE_LOCALE_NUMERIC USE_LOCALE_TIME
                        USE_PERLIO USE_PERL_ATOF
  Built under freebsd
  Compiled at May 10 2016 08:49:38
  %ENV:
    PERL5LIB="/home/cpansand/.cpan/build/2018091912/Test-HTTP-MockServer-v0.0.1-0/blib/arch:/home/cpansand/.cpan/build/2018091912/Test-HTTP-MockServer-v0.0.1-0/blib/lib:/home/cpansand/.cpan/build/2018091912/Test2-Plugin-SpecDeclare-0.000003-0/blib/arch:/home/cpansand/.cpan/build/2018091912/Test2-Plugin-SpecDeclare-0.000003-0/blib/lib:/home/cpansand/.cpan/build/2018091912/App-Sandy-0.21-0/blib/arch:/home/cpansand/.cpan/build/2018091912/App-Sandy-0.21-0/blib/lib:/home/cpansand/.cpan/build/2018091912/Inline-CPP-0.75-0/blib/arch:/home/cpansand/.cpan/build/2018091912/Inline-CPP-0.75-0/blib/lib:/home/cpansand/.cpan/build/2018091912/Alien-libcmark_gfm-3.0-0/blib/arch:/home/cpansand/.cpan/build/2018091912/Alien-libcmark_gfm-3.0-0/blib/lib:/home/cpansand/.cpan/build/2018091912/Net-OneSky-0.0.3-0/blib/arch:/home/cpansand/.cpan/build/2018091912/Net-OneSky-0.0.3-0/blib/lib:/home/cpansand/.cpan/build/2018091912/ARGV-Struct-0.05-0/blib/arch:/home/cpansand/.cpan/build/2018091912/ARGV-Struct-0.05-0/blib/lib:/home/cpansand/.cpan/build/2018091912/File-Rename-1.09_03-0/blib/arch:/home/cpansand/.cpan/build/2018091912/File-Rename-1.09_03-0/blib/lib"
    PERL5OPT=""
    PERL5_CPANPLUS_IS_RUNNING="22828"
    PERL5_CPAN_IS_RUNNING="22828"
    PERL5_CPAN_IS_RUNNING_IN_RECURSION="62132,22828"
    PERLDOC="-MPod::Perldoc::ToTextOverstrike"
    PERL_BATCH="yes"
    PERL_CANARY_STABILITY_NOPROMPT="1"
    PERL_CPAN_REPORTER_CONFIG="/var/tmp/cpansmoker-1023/2018091907/cpanreporter_000_config.ini"
    PERL_EXTUTILS_AUTOINSTALL="--defaultdeps"
  @INC:
    /home/cpansand/.cpan/build/2018091912/Test-HTTP-MockServer-v0.0.1-0/blib/arch
    /home/cpansand/.cpan/build/2018091912/Test-HTTP-MockServer-v0.0.1-0/blib/lib
    /home/cpansand/.cpan/build/2018091912/Test2-Plugin-SpecDeclare-0.000003-0/blib/arch
    /home/cpansand/.cpan/build/2018091912/Test2-Plugin-SpecDeclare-0.000003-0/blib/lib
    /home/cpansand/.cpan/build/2018091912/App-Sandy-0.21-0/blib/arch
    /home/cpansand/.cpan/build/2018091912/App-Sandy-0.21-0/blib/lib
    /home/cpansand/.cpan/build/2018091912/Inline-CPP-0.75-0/blib/arch
    /home/cpansand/.cpan/build/2018091912/Inline-CPP-0.75-0/blib/lib
    /home/cpansand/.cpan/build/2018091912/Alien-libcmark_gfm-3.0-0/blib/arch
    /home/cpansand/.cpan/build/2018091912/Alien-libcmark_gfm-3.0-0/blib/lib
    /home/cpansand/.cpan/build/2018091912/Net-OneSky-0.0.3-0/blib/arch
    /home/cpansand/.cpan/build/2018091912/Net-OneSky-0.0.3-0/blib/lib
    /home/cpansand/.cpan/build/2018091912/ARGV-Struct-0.05-0/blib/arch
    /home/cpansand/.cpan/build/2018091912/ARGV-Struct-0.05-0/blib/lib
    /home/cpansand/.cpan/build/2018091912/File-Rename-1.09_03-0/blib/arch
    /home/cpansand/.cpan/build/2018091912/File-Rename-1.09_03-0/blib/lib
    /usr/perl5.24.0p/lib/site_perl/5.24.0/amd64-freebsd
    /usr/perl5.24.0p/lib/site_perl/5.24.0
    /usr/perl5.24.0p/lib/5.24.0/amd64-freebsd
    /usr/perl5.24.0p/lib/5.24.0
    .