Starman v0.4017 Perl 5 v5.39.2 x86_64-linux-multi
- Status
- Pass
- From
- Andreas J. König (ANDK)
- Dist
-
Starman v0.4017
- Platform
- Perl 5 v5.39.2 x86_64-linux-multi
- Date
- 2023-10-18 01:45:20
- ID
- ff228bca-6d57-11ee-a16b-61a1411ac642
This distribution has been tested as part of the CPAN Testers
project, supporting the Perl programming language. See
http://wiki.cpantesters.org/ for more information or email
questions to cpan-testers-discuss@perl.org
--
Dear Tatsuhiko Miyagawa,
This is a computer-generated report for Starman-0.4017
on perl 5.39.2, created by CPAN-Reporter-1.2019.
Thank you for uploading your work to CPAN. Congratulations!
All tests were successful.
Sections of this report:
* Tester comments
* Program output
* Prerequisites
* Environment and other context
------------------------------
TESTER COMMENTS
------------------------------
Additional comments from tester:
this report is from an automated smoke testing program
and was not reviewed by a human for accuracy
------------------------------
PROGRAM OUTPUT
------------------------------
Output from './Build test':
t/00_compile.t ........... ok
t/author-pod-syntax.t .... skipped: these tests are for testing by the author
2023/10/18-03:44:21 Starman::Server (type Net::Server::PreFork) starting! pid(2977241)
Binding to TCP port 44335 on host 127.0.0.1 with IPv4
Setting gid to "1005 1005 1005"
2023/10/18-03:44:21 Server closing!
t/chunked_req.t .......... ok
t/chunked_termination.t .. ok
2023/10/18-03:44:22 Starman::Server (type Net::Server::PreFork) starting! pid(2977249)
Binding to TCP port 38567 on host 127.0.0.1 with IPv4
Setting gid to "1005 1005 1005"
2023/10/18-03:44:22 Server closing!
t/chunked_zero_length.t .. ok
2023/10/18-03:44:22 Starman::Server (type Net::Server::PreFork) starting! pid(2977256)
Binding to TCP port 39717 on host 127.0.0.1 with IPv4
Setting gid to "1005 1005 1005"
2023/10/18-03:44:22 Server closing!
t/early-hints.t .......... ok
2023/10/18-03:44:23 Starman::Server (type Net::Server::PreFork) starting! pid(2977263)
Binding to TCP port 35245 on host 127.0.0.1 with IPv4
Setting gid to "1005 1005 1005"
2023/10/18-03:44:24 Server closing!
t/eintr.t ................ ok
2023/10/18-03:44:24 Starman::Server (type Net::Server::PreFork) starting! pid(2977271)
Binding to TCP port 35983 on host 127.0.0.1 with IPv4
Setting gid to "1005 1005 1005"
2023/10/18-03:44:24 Server closing!
t/expect.t ............... ok
2023/10/18-03:44:24 Starman::Server (type Net::Server::PreFork) starting! pid(2977278)
Binding to TCP port 36717 on host 127.0.0.1 with IPv4
Setting gid to "1005 1005 1005"
2023/10/18-03:44:24 Server closing!
2023/10/18-03:44:24 Starman::Server (type Net::Server::PreFork) starting! pid(2977284)
Binding to TCP port 41733 on host 127.0.0.1 with IPv4
Setting gid to "1005 1005 1005"
2023/10/18-03:44:25 Server closing!
Accept failed with 29 tries left: Invalid argument
Accept failed with 28 tries left: Invalid argument
Accept failed with 27 tries left: Invalid argument
Accept failed with 26 tries left: Invalid argument
Accept failed with 25 tries left: Invalid argument
Accept failed with 24 tries left: Invalid argument
Accept failed with 23 tries left: Invalid argument
Accept failed with 22 tries left: Invalid argument
Accept failed with 21 tries left: Invalid argument
Accept failed with 20 tries left: Invalid argument
Accept failed with 19 tries left: Invalid argument
Accept failed with 18 tries left: Invalid argument
Accept failed with 17 tries left: Invalid argument
Accept failed with 16 tries left: Invalid argument
Accept failed with 15 tries left: Invalid argument
Accept failed with 14 tries left: Invalid argument
Accept failed with 13 tries left: Invalid argument
Accept failed with 12 tries left: Invalid argument
Accept failed with 11 tries left: Invalid argument
Accept failed with 10 tries left: Invalid argument
Accept failed with 9 tries left: Invalid argument
Accept failed with 8 tries left: Invalid argument
Accept failed with 7 tries left: Invalid argument
Accept failed with 6 tries left: Invalid argument
Accept failed with 5 tries left: Invalid argument
Accept failed with 4 tries left: Invalid argument
Accept failed with 3 tries left: Invalid argument
Accept failed with 2 tries left: Invalid argument
Accept failed with 1 tries left: Invalid argument
Accept failed with 0 tries left: Invalid argument
Ran out of accept retries!
t/harakiri.t ............. ok
2023/10/18-03:44:55 Starman::Server (type Net::Server::PreFork) starting! pid(2977311)
Binding to TCP port 43709 on host 127.0.0.1 with IPv4
Setting gid to "1005 1005 1005"
2023/10/18-03:44:55 Server closing!
t/lf_only_request.t ...... ok
2023/10/18-03:44:55 Starman::Server (type Net::Server::PreFork) starting! pid(2977325)
Binding to TCP port 38127 on host 127.0.0.1 with IPv4
Setting gid to "1005 1005 1005"
2023/10/18-03:44:55 Server closing!
t/no_chunked_head.t ...... ok
t/release-findbin.t ...... skipped: these tests are for release candidate testing
t/release-rand.t ......... skipped: these tests are for release candidate testing
2023/10/18-03:44:56 Starman::Server (type Net::Server::PreFork) starting! pid(2977341)
Binding to TCP port 33593 on host 127.0.0.1 with IPv4
Setting gid to "1005 1005 1005"
2023/10/18-03:44:56 Server closing!
t/single_zero.t .......... ok
2023/10/18-03:44:57 Starman::Server (type Net::Server::PreFork) starting! pid(2977348)
Resolved [localhost]:45325 to [::1]:45325, IPv6
Resolved [localhost]:45325 to [127.0.0.1]:45325, IPv4
Binding to SSL port 45325 on host ::1 with IPv6
Binding to SSL port 45325 on host 127.0.0.1 with IPv4
Setting gid to "1005 1005 1005"
Passed serialize value of none is incompatible with multiple ports - using default serialize
Could not finalize SSL connection with client handle (SSL accept attempt failed error:0A000126:SSL routines::unexpected eof while reading)
2023/10/18-03:44:57 Server closing!
t/ssl.t .................. ok
2023/10/18-03:44:57 Starman::Server (type Net::Server::PreFork) starting! pid(2977356)
Resolved [localhost]:33751 to [::1]:33751, IPv6
Resolved [localhost]:33751 to [127.0.0.1]:33751, IPv4
Binding to SSL port 33751 on host ::1 with IPv6
Binding to SSL port 33751 on host 127.0.0.1 with IPv4
Setting gid to "1005 1005 1005"
Passed serialize value of none is incompatible with multiple ports - using default serialize
Could not finalize SSL connection with client handle (SSL accept attempt failed error:0A000126:SSL routines::unexpected eof while reading)
2023/10/18-03:44:58 Server closing!
t/ssl_largebody.t ........ ok
2023/10/18-03:44:58 Starman::Server (type Net::Server::PreFork) starting! pid(2977364)
Binding to TCP port 45193 on host 127.0.0.1 with IPv4
Setting gid to "1005 1005 1005"
2023/10/18-03:44:58 Server closing!
t/suite.t ................ ok
All tests successful.
Files=17, Tests=125, 37 wallclock secs ( 0.06 usr 0.05 sys + 3.31 cusr 1.44 csys = 4.86 CPU)
Result: PASS
------------------------------
PREREQUISITES
------------------------------
Prerequisite modules loaded:
requires:
Module Need Have
------------------- -------- --------
Data::Dump 0 1.25
HTTP::Date 0 6.06
HTTP::Parser::XS 0 0.17
HTTP::Status 0 6.44
Net::Server 2.007 2.014
parent 0 0.241
perl 5.008001 5.039002
Plack 0.9971 1.0050
Test::TCP 2.00 2.22
build_requires:
Module Need Have
------------------- -------- --------
LWP::UserAgent 0 6.72
Test::More 0 1.302195
Test::Requires 0 0.11
configure_requires:
Module Need Have
------------------- -------- --------
Module::Build::Tiny 0.034 0.046
------------------------------
ENVIRONMENT AND OTHER CONTEXT
------------------------------
Environment variables:
AUTOMATED_TESTING = 1
LANG = en_US.UTF-8
LANGUAGE = en_US:en
PATH = /home/sand/bin:/usr/local/bin:/usr/bin:/bin:/usr/games:/usr/local/perl/bin:/usr/X11/bin:/sbin:/usr/sbin
PERL5LIB =
PERL5OPT =
PERL5_CPANPLUS_IS_RUNNING = 2974901
PERL5_CPAN_IS_RUNNING = 2974901
PERL_CANARY_STABILITY_NOPROMPT = 1
PERL_MM_USE_DEFAULT = 1
PERL_USE_UNSAFE_INC = 1
SHELL = /usr/bin/zsh
TERM = screen
Perl special variables (and OS-specific diagnostics, for MSWin32):
$^X = /home/sand/src/perl/repoperls/installed-perls/host/k93msid/v5.39.2/4da5/bin/perl
$UID/$EUID = 1005 / 1005
$GID = 1005 1005
$EGID = 1005 1005
Perl module toolchain versions installed:
Module Have
------------------- --------
CPAN 2.36
CPAN::Meta 2.150010
Cwd 3.90
ExtUtils::CBuilder 0.280239
ExtUtils::Command 7.70
ExtUtils::Install 2.22
ExtUtils::MakeMaker 7.70
ExtUtils::Manifest 1.75
ExtUtils::ParseXS 3.51
File::Spec 3.90
JSON 4.10
JSON::PP 4.17_01
Module::Build 0.4234
Module::Signature 0.88
Parse::CPAN::Meta 2.150010
Test2 1.302195
Test::Harness 3.47
Test::More 1.302195
YAML 1.30
YAML::Syck 1.34
version 0.9929
--
Summary of my perl5 (revision 5 version 39 subversion 2) configuration:
Commit id: e246fd63c3ad4034efc21113d44231047f6b2909
Platform:
osname=linux
osvers=6.1.0-7-amd64
archname=x86_64-linux-multi
uname='linux k93msid 6.1.0-7-amd64 #1 smp preempt_dynamic debian 6.1.20-1 (2023-03-19) x86_64 gnulinux '
config_args='-Dprefix=/home/sand/src/perl/repoperls/installed-perls/host/k93msid/v5.39.2/4da5 -Dmyhostname=k93msid -Dinstallusrbinperl=n -Uversiononly -Dusedevel -des -Ui_db -Dlibswanted=cl pthread socket inet nsl gdbm dbm malloc dl ld sun m crypt sec util c cposix posix ucb BSD gdbm_compat -Uuseithreads -Uuselongdouble -DEBUGGING=both -Dusemultiplicity'
hint=recommended
useposix=true
d_sigaction=define
useithreads=undef
usemultiplicity=define
use64bitint=define
use64bitall=define
uselongdouble=undef
usemymalloc=n
default_inc_excludes_dot=define
Compiler:
cc='cc'
ccflags ='-fwrapv -DDEBUGGING -fno-strict-aliasing -pipe -fstack-protector-strong -I/usr/local/include -D_LARGEFILE_SOURCE -D_FILE_OFFSET_BITS=64 -D_FORTIFY_SOURCE=2'
optimize='-O2 -g'
cppflags='-fwrapv -DDEBUGGING -fno-strict-aliasing -pipe -fstack-protector-strong -I/usr/local/include'
ccversion=''
gccversion='12.2.0'
gccosandvers=''
intsize=4
longsize=8
ptrsize=8
doublesize=8
byteorder=12345678
doublekind=3
d_longlong=define
longlongsize=8
d_longdbl=define
longdblsize=16
longdblkind=3
ivtype='long'
ivsize=8
nvtype='double'
nvsize=8
Off_t='off_t'
lseeksize=8
alignbytes=8
prototype=define
Linker and Libraries:
ld='cc'
ldflags =' -fstack-protector-strong -L/usr/local/lib'
libpth=/usr/local/lib /usr/lib/x86_64-linux-gnu /usr/lib /usr/lib64
libs=-lpthread -lnsl -ldl -lm -lcrypt -lutil -lc
perllibs=-lpthread -lnsl -ldl -lm -lcrypt -lutil -lc
libc=/lib/x86_64-linux-gnu/libc.so.6
so=so
useshrplib=false
libperl=libperl.a
gnulibc_version='2.36'
Dynamic Linking:
dlsrc=dl_dlopen.xs
dlext=so
d_dlsymun=undef
ccdlflags='-Wl,-E'
cccdlflags='-fPIC'
lddlflags='-shared -O2 -g -L/usr/local/lib -fstack-protector-strong'
Characteristics of this binary (from libperl):
Compile-time options:
DEBUGGING
HAS_LONG_DOUBLE
HAS_STRTOLD
HAS_TIMES
MULTIPLICITY
PERLIO_LAYERS
PERL_COPY_ON_WRITE
PERL_DONT_CREATE_GVSV
PERL_HASH_FUNC_SIPHASH13
PERL_HASH_USE_SBOX32
PERL_MALLOC_WRAP
PERL_OP_PARENT
PERL_PRESERVE_IVUV
PERL_TRACK_MEMPOOL
PERL_USE_DEVEL
PERL_USE_SAFE_PUTENV
USE_64_BIT_ALL
USE_64_BIT_INT
USE_LARGE_FILES
USE_LOCALE
USE_LOCALE_COLLATE
USE_LOCALE_CTYPE
USE_LOCALE_NUMERIC
USE_LOCALE_TIME
USE_PERLIO
USE_PERL_ATOF
Built under linux
Compiled at Aug 21 2023 08:09:39
%ENV:
PERL5LIB=""
PERL5OPT=""
PERL5_CPANPLUS_IS_RUNNING="2974901"
PERL5_CPAN_IS_RUNNING="2974901"
PERL_CANARY_STABILITY_NOPROMPT="1"
PERL_MM_USE_DEFAULT="1"
PERL_USE_UNSAFE_INC="1"
@INC:
/home/sand/src/perl/repoperls/installed-perls/host/k93msid/v5.39.2/4da5/lib/site_perl/5.39.2/x86_64-linux-multi
/home/sand/src/perl/repoperls/installed-perls/host/k93msid/v5.39.2/4da5/lib/site_perl/5.39.2
/home/sand/src/perl/repoperls/installed-perls/host/k93msid/v5.39.2/4da5/lib/5.39.2/x86_64-linux-multi
/home/sand/src/perl/repoperls/installed-perls/host/k93msid/v5.39.2/4da5/lib/5.39.2
.