Report for Catalyst-Engine-Stomp-0.17

Back
From: metabase:user:31d414ea-2aae-11df-837a-5e0a49663a4f
Subject: PASS Catalyst-Engine-Stomp-0.17 v5.10.1 Mac OS X
Date: 2011-10-19T12:15:13Z

This distribution has been tested as part of the CPAN Testers
project, supporting the Perl programming language.  See
http://wiki.cpantesters.org/ for more information or email
questions to cpan-testers-discuss@perl.org


--
Dear Paul Mooney,

This is a computer-generated report for Catalyst-Engine-Stomp-0.17
on perl 5.10.1, created by CPAN-Reporter-1.1902.

Thank you for uploading your work to CPAN.  Congratulations!
All tests were successful.

Sections of this report:

    * Tester comments
    * Program output
    * Prerequisites
    * Environment and other context

------------------------------
TESTER COMMENTS
------------------------------

Additional comments from tester:

this report is from an automated smoke testing program
and was not reviewed by a human for accuracy

------------------------------
PROGRAM OUTPUT
------------------------------

Output from 'make test':

PERL_DL_NONLAZY=1 /Users/david/cpantesting/perl-5.10.1/bin/perl "-MExtUtils::Command::MM" "-e" "test_harness(0, 'inc', 'blib/lib', 'blib/arch')" t/00_use.t t/01_notabs.t t/02_pod.t t/03_pod_coverage.t t/10_good-message.t t/11_bad-action.t t/12_json-message.t t/13_message-driven-request.t t/14_message-catch-error.t t/15_utf8.t t/16_old_config.t t/17_new_style_subscriptions.t t/18_jmstype.t
t/00_use.t ...................... ok
t/01_notabs.t ................... skipped: NoTabs test only for developers.
t/02_pod.t ...................... skipped: Test::Pod 1.14 required
t/03_pod_coverage.t ............. skipped: Pod::Coverage 0.19 required
t/10_good-message.t ............. skipped: No ActiveMQ server installed by Alien::ActiveMQ, try running the "install-activemq" command
t/11_bad-action.t ............... skipped: No ActiveMQ server installed by Alien::ActiveMQ, try running the "install-activemq" command
t/12_json-message.t ............. skipped: No ActiveMQ server installed by Alien::ActiveMQ, try running the "install-activemq" command
Use of uninitialized value in string eq at /Users/david/cpantesting/perl-5.10.1/lib/site_perl/5.10.1/Catalyst/Engine.pm line 481.
Use of uninitialized value in string eq at /Users/david/cpantesting/perl-5.10.1/lib/site_perl/5.10.1/Catalyst.pm line 1802.
Use of uninitialized value in string eq at /Users/david/cpantesting/perl-5.10.1/lib/site_perl/5.10.1/Catalyst/Engine.pm line 481.
Use of uninitialized value in string eq at /Users/david/cpantesting/perl-5.10.1/lib/site_perl/5.10.1/Catalyst.pm line 1802.
[error] no message type specified
t/13_message-driven-request.t ... ok
Use of uninitialized value in string eq at /Users/david/cpantesting/perl-5.10.1/lib/site_perl/5.10.1/Catalyst/Engine.pm line 481.
Use of uninitialized value in string eq at /Users/david/cpantesting/perl-5.10.1/lib/site_perl/5.10.1/Catalyst.pm line 1802.
Use of uninitialized value in string eq at /Users/david/cpantesting/perl-5.10.1/lib/site_perl/5.10.1/Catalyst/Engine.pm line 481.
Use of uninitialized value in string eq at /Users/david/cpantesting/perl-5.10.1/lib/site_perl/5.10.1/Catalyst.pm line 1802.
[error] Exception thrown: StompTestApp::Error=HASH(0xe7bb90)
t/14_message-catch-error.t ...... ok
t/15_utf8.t ..................... skipped: No ActiveMQ server installed by Alien::ActiveMQ, try running the "install-activemq" command
t/16_old_config.t ............... skipped: No ActiveMQ server installed by Alien::ActiveMQ, try running the "install-activemq" command
t/17_new_style_subscriptions.t .. skipped: No ActiveMQ server installed by Alien::ActiveMQ, try running the "install-activemq" command
t/18_jmstype.t .................. skipped: No ActiveMQ server installed by Alien::ActiveMQ, try running the "install-activemq" command
All tests successful.
Files=13, Tests=12,  9 wallclock secs ( 0.07 usr  0.05 sys +  8.29 cusr  0.64 csys =  9.05 CPU)
Result: PASS

------------------------------
PREREQUISITES
------------------------------

Prerequisite modules loaded:

requires:

    Module                         Need    Have    
    ------------------------------ ------- --------
    Alien::ActiveMQ                0.00003 0.00004 
    Catalyst::Engine::Embeddable   v0.0.1  0.000003
    Catalyst::Plugin::ConfigLoader 0       0.30    
    Catalyst::Runtime              5.80004 5.90004 
    Data::Serializer               0.49    0.59    
    Moose                          0       2.0205  
    MooseX::Types                  0       0.30    
    MooseX::Workers                0.05    0.16    
    namespace::autoclean           0.05    0.13    
    Net::Stomp                     0.34    0.42    
    YAML                           0       0.77    
    YAML::XS                       0.32    0.37    

build_requires:

    Module                         Need    Have    
    ------------------------------ ------- --------
    Alien::ActiveMQ                0.00003 0.00004 
    Catalyst::Plugin::ConfigLoader 0       0.30    
    ExtUtils::MakeMaker            6.42    6.59    

configure_requires:

    Module                         Need    Have    
    ------------------------------ ------- --------
    ExtUtils::MakeMaker            6.42    6.59    


------------------------------
ENVIRONMENT AND OTHER CONTEXT
------------------------------

Environment variables:

    AUTOMATED_TESTING = 1
    PATH = /usr/bin:/bin:/usr/sbin:/sbin
    PERL5LIB = /Users/david/cpantesting/perl-5.10.1/.cpan/build/Alien-ActiveMQ-0.00004-UmHB5W/blib/arch:/Users/david/cpantesting/perl-5.10.1/.cpan/build/Alien-ActiveMQ-0.00004-UmHB5W/blib/lib
    PERL5OPT = 
    PERL5_CPANPLUS_IS_RUNNING = 72195
    PERL5_CPAN_IS_RUNNING = 72195
    PERLVER = 5.10.1
    SHELL = /bin/bash
    TERM = screen

Perl special variables (and OS-specific diagnostics, for MSWin32):

    $^X = /Users/david/cpantesting/perl-5.10.1/bin/perl
    $UID/$EUID = 501 / 501
    $GID = 20 20 204 100 98 81 80 79 61 12 402 401
    $EGID = 20 20 204 100 98 81 80 79 61 12 402 401

Perl module toolchain versions installed:

    Module              Have    
    ------------------- --------
    CPAN                1.9600  
    Cwd                 3.30    
    ExtUtils::CBuilder  0.280202
    ExtUtils::Command   1.16    
    ExtUtils::Install   1.54    
    ExtUtils::MakeMaker 6.59    
    ExtUtils::Manifest  1.58    
    ExtUtils::ParseXS   3.05    
    File::Spec          3.30    
    Module::Build       0.3800  
    Module::Signature   n/a     
    Test::Harness       3.17    
    Test::More          0.98    
    YAML                0.77    
    YAML::Syck          n/a     
    version             0.94    


--

Summary of my perl5 (revision 5 version 10 subversion 1) configuration:
   
  Platform:
    osname=darwin, osvers=10.6.0, archname=darwin-thread-multi-2level
    uname='darwin cowshed-door.barnyard.co.uk 10.6.0 darwin kernel version 10.6.0: wed nov 10 18:13:17 pst 2010; root:xnu-1504.9.26~3release_i386 i386 '
    config_args='-de -Dprefix=/Users/david/cpantesting/perl-5.10.1 -Dusethreads'
    hint=recommended, useposix=true, d_sigaction=define
    useithreads=define, usemultiplicity=define
    useperlio=define, d_sfio=undef, uselargefiles=define, usesocks=undef
    use64bitint=undef, use64bitall=undef, uselongdouble=undef
    usemymalloc=n, bincompat5005=undef
  Compiler:
    cc='cc', ccflags ='-fno-common -DPERL_DARWIN -no-cpp-precomp -fno-strict-aliasing -pipe -fstack-protector',
    optimize='-O3',
    cppflags='-no-cpp-precomp -fno-common -DPERL_DARWIN -no-cpp-precomp -fno-strict-aliasing -pipe -fstack-protector'
    ccversion='', gccversion='4.2.1 (Apple Inc. build 5646)', gccosandvers=''
    intsize=4, longsize=4, ptrsize=4, doublesize=8, byteorder=1234
    d_longlong=define, longlongsize=8, d_longdbl=define, longdblsize=16
    ivtype='long', ivsize=4, nvtype='double', nvsize=8, Off_t='off_t', lseeksize=8
    alignbytes=8, prototype=define
  Linker and Libraries:
    ld='env MACOSX_DEPLOYMENT_TARGET=10.3 cc', ldflags =' -fstack-protector'
    libpth=/usr/lib
    libs=-ldbm -ldl -lm -lutil -lc
    perllibs=-ldl -lm -lutil -lc
    libc=/usr/lib/libc.dylib, so=dylib, useshrplib=false, libperl=libperl.a
    gnulibc_version=''
  Dynamic Linking:
    dlsrc=dl_dlopen.xs, dlext=bundle, d_dlsymun=undef, ccdlflags=' '
    cccdlflags=' ', lddlflags=' -bundle -undefined dynamic_lookup -fstack-protector'


Characteristics of this binary (from libperl): 
  Compile-time options: MULTIPLICITY PERL_DONT_CREATE_GVSV
                        PERL_IMPLICIT_CONTEXT PERL_MALLOC_WRAP USE_ITHREADS
                        USE_LARGE_FILES USE_PERLIO USE_REENTRANT_API
  Built under darwin
  Compiled at Apr 27 2011 13:16:11
  %ENV:
    PERL5LIB="/Users/david/cpantesting/perl-5.10.1/.cpan/build/Alien-ActiveMQ-0.00004-UmHB5W/blib/arch:/Users/david/cpantesting/perl-5.10.1/.cpan/build/Alien-ActiveMQ-0.00004-UmHB5W/blib/lib"
    PERL5OPT=""
    PERL5_CPANPLUS_IS_RUNNING="72195"
    PERL5_CPAN_IS_RUNNING="72195"
    PERLVER="5.10.1"
  @INC:
    /Users/david/cpantesting/perl-5.10.1/.cpan/build/Alien-ActiveMQ-0.00004-UmHB5W/blib/arch
    /Users/david/cpantesting/perl-5.10.1/.cpan/build/Alien-ActiveMQ-0.00004-UmHB5W/blib/lib
    /Users/david/cpantesting/perl-5.10.1/lib/5.10.1/darwin-thread-multi-2level
    /Users/david/cpantesting/perl-5.10.1/lib/5.10.1
    /Users/david/cpantesting/perl-5.10.1/lib/site_perl/5.10.1/darwin-thread-multi-2level
    /Users/david/cpantesting/perl-5.10.1/lib/site_perl/5.10.1
    .