MRS-Client v1.0.1 Perl 5 v5.30.0 RC1 amd64-freebsd
- Status
- Pass
- From
- Slaven Rezić (SREZIC)
- Dist
-
MRS-Client v1.0.1
- Platform
- Perl 5 v5.30.0 RC1 amd64-freebsd
- Date
- 2019-05-18 17:11:38
- ID
- ff372eec-798f-11e9-b45e-b92f1f24ea8f
This distribution has been tested as part of the CPAN Testers
project, supporting the Perl programming language. See
http://wiki.cpantesters.org/ for more information or email
questions to cpan-testers-discuss@perl.org
--
Dear Martin Senger,
This is a computer-generated report for MRS-Client-1.0.1
on perl 5.30.0, created by CPAN-Reporter-1.2018.
Thank you for uploading your work to CPAN. Congratulations!
All tests were successful.
Sections of this report:
* Tester comments
* Program output
* Prerequisites
* Environment and other context
------------------------------
TESTER COMMENTS
------------------------------
Additional comments from tester:
none provided
------------------------------
PROGRAM OUTPUT
------------------------------
Output from '/usr/bin/make test':
PERL_DL_NONLAZY=1 "/usr/perl5.30.0-RC1p/bin/perl5.30.0" "-MExtUtils::Command::MM" "-MTest::Harness" "-e" "undef *Test::Harness::Switches; test_harness(0, 'blib/lib', 'blib/arch')" t/*.t
Possible precedence issue with control flow operator at lib/MRS/Client/Blast.pm line 269.
Unescaped left brace in regex is passed through in regex; marked by <-- HERE in m/\${ <-- HERE JOBID}/ at lib/MRS/Client/Blast.pm line 409.
Unescaped left brace in regex is passed through in regex; marked by <-- HERE in m/\${ <-- HERE SEQDESC}/ at lib/MRS/Client/Blast.pm line 411.
Unescaped left brace in regex is passed through in regex; marked by <-- HERE in m/\${ <-- HERE SEQDESC}/ at lib/MRS/Client/Blast.pm line 413.
Unescaped left brace in regex is passed through in regex; marked by <-- HERE in m/\${ <-- HERE SEQDESC}/ at lib/MRS/Client/Blast.pm line 415.
Unescaped left brace in regex is passed through in regex; marked by <-- HERE in m/\${ <-- HERE DB}/ at lib/MRS/Client/Blast.pm line 417.
Unescaped left brace in regex is passed through in regex; marked by <-- HERE in m/\${ <-- HERE SEQLEN}/ at lib/MRS/Client/Blast.pm line 418.
Unescaped left brace in regex is passed through in regex; marked by <-- HERE in m/\${ <-- HERE PARMATRIX}/ at lib/MRS/Client/Blast.pm line 419.
Unescaped left brace in regex is passed through in regex; marked by <-- HERE in m/\${ <-- HERE PAREXPECT}/ at lib/MRS/Client/Blast.pm line 420.
Unescaped left brace in regex is passed through in regex; marked by <-- HERE in m/\${ <-- HERE PARGAPOPEN}/ at lib/MRS/Client/Blast.pm line 421.
Unescaped left brace in regex is passed through in regex; marked by <-- HERE in m/\${ <-- HERE PARGAPEXTEND}/ at lib/MRS/Client/Blast.pm line 422.
Unescaped left brace in regex is passed through in regex; marked by <-- HERE in m/\${ <-- HERE PARFILTER}/ at lib/MRS/Client/Blast.pm line 423.
Unescaped left brace in regex is passed through in regex; marked by <-- HERE in m/\${ <-- HERE DBCOUNT}/ at lib/MRS/Client/Blast.pm line 425.
Unescaped left brace in regex is passed through in regex; marked by <-- HERE in m/\${ <-- HERE DBLENGTH}/ at lib/MRS/Client/Blast.pm line 426.
Unescaped left brace in regex is passed through in regex; marked by <-- HERE in m/\${ <-- HERE DBSPACE}/ at lib/MRS/Client/Blast.pm line 427.
Unescaped left brace in regex is passed through in regex; marked by <-- HERE in m/\${ <-- HERE KAPPA}/ at lib/MRS/Client/Blast.pm line 428.
Unescaped left brace in regex is passed through in regex; marked by <-- HERE in m/\${ <-- HERE LAMBDA}/ at lib/MRS/Client/Blast.pm line 429.
Unescaped left brace in regex is passed through in regex; marked by <-- HERE in m/\${ <-- HERE ENTROPY}/ at lib/MRS/Client/Blast.pm line 430.
Unescaped left brace in regex is passed through in regex; marked by <-- HERE in m/\${ <-- HERE HITNR}/ at lib/MRS/Client/Blast.pm line 439.
Unescaped left brace in regex is passed through in regex; marked by <-- HERE in m/\${ <-- HERE HITID}/ at lib/MRS/Client/Blast.pm line 440.
Unescaped left brace in regex is passed through in regex; marked by <-- HERE in m/\${ <-- HERE HITSEQID}/ at lib/MRS/Client/Blast.pm line 442.
Unescaped left brace in regex is passed through in regex; marked by <-- HERE in m/\${ <-- HERE HITSEQID}/ at lib/MRS/Client/Blast.pm line 444.
Unescaped left brace in regex is passed through in regex; marked by <-- HERE in m/\${ <-- HERE HITSUBLEN}/ at lib/MRS/Client/Blast.pm line 447.
Unescaped left brace in regex is passed through in regex; marked by <-- HERE in m/\${ <-- HERE HSPNR}/ at lib/MRS/Client/Blast.pm line 456.
Unescaped left brace in regex is passed through in regex; marked by <-- HERE in m/\${ <-- HERE HSPBITSCORE}/ at lib/MRS/Client/Blast.pm line 457.
Unescaped left brace in regex is passed through in regex; marked by <-- HERE in m/\${ <-- HERE HSPSCORE}/ at lib/MRS/Client/Blast.pm line 458.
Unescaped left brace in regex is passed through in regex; marked by <-- HERE in m/\${ <-- HERE HSPEXPECT}/ at lib/MRS/Client/Blast.pm line 459.
Unescaped left brace in regex is passed through in regex; marked by <-- HERE in m/\${ <-- HERE HSPIDENTITY}/ at lib/MRS/Client/Blast.pm line 460.
Unescaped left brace in regex is passed through in regex; marked by <-- HERE in m/\${ <-- HERE HSPPOSITIVE}/ at lib/MRS/Client/Blast.pm line 461.
Unescaped left brace in regex is passed through in regex; marked by <-- HERE in m/\${ <-- HERE HSPMIDLINE}/ at lib/MRS/Client/Blast.pm line 462.
Unescaped left brace in regex is passed through in regex; marked by <-- HERE in m/\${ <-- HERE HSPQFROM}/ at lib/MRS/Client/Blast.pm line 484.
Unescaped left brace in regex is passed through in regex; marked by <-- HERE in m/\${ <-- HERE HSPQTO}/ at lib/MRS/Client/Blast.pm line 485.
Unescaped left brace in regex is passed through in regex; marked by <-- HERE in m/\${ <-- HERE HSPHFROM}/ at lib/MRS/Client/Blast.pm line 486.
Unescaped left brace in regex is passed through in regex; marked by <-- HERE in m/\${ <-- HERE HSPHTO}/ at lib/MRS/Client/Blast.pm line 487.
Unescaped left brace in regex is passed through in regex; marked by <-- HERE in m/\${ <-- HERE HSPALIGNLEN}/ at lib/MRS/Client/Blast.pm line 488.
Unescaped left brace in regex is passed through in regex; marked by <-- HERE in m/\${ <-- HERE HSPQALIGN}/ at lib/MRS/Client/Blast.pm line 489.
Unescaped left brace in regex is passed through in regex; marked by <-- HERE in m/\${ <-- HERE HSPSUBALIGN}/ at lib/MRS/Client/Blast.pm line 490.
Unescaped left brace in regex is passed through in regex; marked by <-- HERE in m/\${ <-- HERE LOCATION}/ at lib/MRS/Client.pm line 221.
Unescaped left brace in regex is passed through in regex; marked by <-- HERE in m/\${ <-- HERE SERVICE}/ at lib/MRS/Client.pm line 222.
Possible precedence issue with control flow operator at lib/MRS/Client/Blast.pm line 269.
Unescaped left brace in regex is passed through in regex; marked by <-- HERE in m/\${ <-- HERE JOBID}/ at lib/MRS/Client/Blast.pm line 409.
Unescaped left brace in regex is passed through in regex; marked by <-- HERE in m/\${ <-- HERE SEQDESC}/ at lib/MRS/Client/Blast.pm line 411.
Unescaped left brace in regex is passed through in regex; marked by <-- HERE in m/\${ <-- HERE SEQDESC}/ at lib/MRS/Client/Blast.pm line 413.
Unescaped left brace in regex is passed through in regex; marked by <-- HERE in m/\${ <-- HERE SEQDESC}/ at lib/MRS/Client/Blast.pm line 415.
Unescaped left brace in regex is passed through in regex; marked by <-- HERE in m/\${ <-- HERE DB}/ at lib/MRS/Client/Blast.pm line 417.
Unescaped left brace in regex is passed through in regex; marked by <-- HERE in m/\${ <-- HERE SEQLEN}/ at lib/MRS/Client/Blast.pm line 418.
Unescaped left brace in regex is passed through in regex; marked by <-- HERE in m/\${ <-- HERE PARMATRIX}/ at lib/MRS/Client/Blast.pm line 419.
Unescaped left brace in regex is passed through in regex; marked by <-- HERE in m/\${ <-- HERE PAREXPECT}/ at lib/MRS/Client/Blast.pm line 420.
Unescaped left brace in regex is passed through in regex; marked by <-- HERE in m/\${ <-- HERE PARGAPOPEN}/ at lib/MRS/Client/Blast.pm line 421.
Unescaped left brace in regex is passed through in regex; marked by <-- HERE in m/\${ <-- HERE PARGAPEXTEND}/ at lib/MRS/Client/Blast.pm line 422.
Unescaped left brace in regex is passed through in regex; marked by <-- HERE in m/\${ <-- HERE PARFILTER}/ at lib/MRS/Client/Blast.pm line 423.
Unescaped left brace in regex is passed through in regex; marked by <-- HERE in m/\${ <-- HERE DBCOUNT}/ at lib/MRS/Client/Blast.pm line 425.
Unescaped left brace in regex is passed through in regex; marked by <-- HERE in m/\${ <-- HERE DBLENGTH}/ at lib/MRS/Client/Blast.pm line 426.
Unescaped left brace in regex is passed through in regex; marked by <-- HERE in m/\${ <-- HERE DBSPACE}/ at lib/MRS/Client/Blast.pm line 427.
Unescaped left brace in regex is passed through in regex; marked by <-- HERE in m/\${ <-- HERE KAPPA}/ at lib/MRS/Client/Blast.pm line 428.
Unescaped left brace in regex is passed through in regex; marked by <-- HERE in m/\${ <-- HERE LAMBDA}/ at lib/MRS/Client/Blast.pm line 429.
Unescaped left brace in regex is passed through in regex; marked by <-- HERE in m/\${ <-- HERE ENTROPY}/ at lib/MRS/Client/Blast.pm line 430.
Unescaped left brace in regex is passed through in regex; marked by <-- HERE in m/\${ <-- HERE HITNR}/ at lib/MRS/Client/Blast.pm line 439.
Unescaped left brace in regex is passed through in regex; marked by <-- HERE in m/\${ <-- HERE HITID}/ at lib/MRS/Client/Blast.pm line 440.
Unescaped left brace in regex is passed through in regex; marked by <-- HERE in m/\${ <-- HERE HITSEQID}/ at lib/MRS/Client/Blast.pm line 442.
Unescaped left brace in regex is passed through in regex; marked by <-- HERE in m/\${ <-- HERE HITSEQID}/ at lib/MRS/Client/Blast.pm line 444.
Unescaped left brace in regex is passed through in regex; marked by <-- HERE in m/\${ <-- HERE HITSUBLEN}/ at lib/MRS/Client/Blast.pm line 447.
Unescaped left brace in regex is passed through in regex; marked by <-- HERE in m/\${ <-- HERE HSPNR}/ at lib/MRS/Client/Blast.pm line 456.
Unescaped left brace in regex is passed through in regex; marked by <-- HERE in m/\${ <-- HERE HSPBITSCORE}/ at lib/MRS/Client/Blast.pm line 457.
Unescaped left brace in regex is passed through in regex; marked by <-- HERE in m/\${ <-- HERE HSPSCORE}/ at lib/MRS/Client/Blast.pm line 458.
Unescaped left brace in regex is passed through in regex; marked by <-- HERE in m/\${ <-- HERE HSPEXPECT}/ at lib/MRS/Client/Blast.pm line 459.
Unescaped left brace in regex is passed through in regex; marked by <-- HERE in m/\${ <-- HERE HSPIDENTITY}/ at lib/MRS/Client/Blast.pm line 460.
Unescaped left brace in regex is passed through in regex; marked by <-- HERE in m/\${ <-- HERE HSPPOSITIVE}/ at lib/MRS/Client/Blast.pm line 461.
Unescaped left brace in regex is passed through in regex; marked by <-- HERE in m/\${ <-- HERE HSPMIDLINE}/ at lib/MRS/Client/Blast.pm line 462.
Unescaped left brace in regex is passed through in regex; marked by <-- HERE in m/\${ <-- HERE HSPQFROM}/ at lib/MRS/Client/Blast.pm line 484.
Unescaped left brace in regex is passed through in regex; marked by <-- HERE in m/\${ <-- HERE HSPQTO}/ at lib/MRS/Client/Blast.pm line 485.
Unescaped left brace in regex is passed through in regex; marked by <-- HERE in m/\${ <-- HERE HSPHFROM}/ at lib/MRS/Client/Blast.pm line 486.
Unescaped left brace in regex is passed through in regex; marked by <-- HERE in m/\${ <-- HERE HSPHTO}/ at lib/MRS/Client/Blast.pm line 487.
Unescaped left brace in regex is passed through in regex; marked by <-- HERE in m/\${ <-- HERE HSPALIGNLEN}/ at lib/MRS/Client/Blast.pm line 488.
Unescaped left brace in regex is passed through in regex; marked by <-- HERE in m/\${ <-- HERE HSPQALIGN}/ at lib/MRS/Client/Blast.pm line 489.
Unescaped left brace in regex is passed through in regex; marked by <-- HERE in m/\${ <-- HERE HSPSUBALIGN}/ at lib/MRS/Client/Blast.pm line 490.
t/00-compile.t .......... ok
Possible precedence issue with control flow operator at /usr/home/cpansand/.cpan/build/2019051817/MRS-Client-1.0.1-0/blib/lib/MRS/Client/Blast.pm line 269.
Unescaped left brace in regex is passed through in regex; marked by <-- HERE in m/\${ <-- HERE JOBID}/ at /usr/home/cpansand/.cpan/build/2019051817/MRS-Client-1.0.1-0/blib/lib/MRS/Client/Blast.pm line 409.
Unescaped left brace in regex is passed through in regex; marked by <-- HERE in m/\${ <-- HERE SEQDESC}/ at /usr/home/cpansand/.cpan/build/2019051817/MRS-Client-1.0.1-0/blib/lib/MRS/Client/Blast.pm line 411.
Unescaped left brace in regex is passed through in regex; marked by <-- HERE in m/\${ <-- HERE SEQDESC}/ at /usr/home/cpansand/.cpan/build/2019051817/MRS-Client-1.0.1-0/blib/lib/MRS/Client/Blast.pm line 413.
Unescaped left brace in regex is passed through in regex; marked by <-- HERE in m/\${ <-- HERE SEQDESC}/ at /usr/home/cpansand/.cpan/build/2019051817/MRS-Client-1.0.1-0/blib/lib/MRS/Client/Blast.pm line 415.
Unescaped left brace in regex is passed through in regex; marked by <-- HERE in m/\${ <-- HERE DB}/ at /usr/home/cpansand/.cpan/build/2019051817/MRS-Client-1.0.1-0/blib/lib/MRS/Client/Blast.pm line 417.
Unescaped left brace in regex is passed through in regex; marked by <-- HERE in m/\${ <-- HERE SEQLEN}/ at /usr/home/cpansand/.cpan/build/2019051817/MRS-Client-1.0.1-0/blib/lib/MRS/Client/Blast.pm line 418.
Unescaped left brace in regex is passed through in regex; marked by <-- HERE in m/\${ <-- HERE PARMATRIX}/ at /usr/home/cpansand/.cpan/build/2019051817/MRS-Client-1.0.1-0/blib/lib/MRS/Client/Blast.pm line 419.
Unescaped left brace in regex is passed through in regex; marked by <-- HERE in m/\${ <-- HERE PAREXPECT}/ at /usr/home/cpansand/.cpan/build/2019051817/MRS-Client-1.0.1-0/blib/lib/MRS/Client/Blast.pm line 420.
Unescaped left brace in regex is passed through in regex; marked by <-- HERE in m/\${ <-- HERE PARGAPOPEN}/ at /usr/home/cpansand/.cpan/build/2019051817/MRS-Client-1.0.1-0/blib/lib/MRS/Client/Blast.pm line 421.
Unescaped left brace in regex is passed through in regex; marked by <-- HERE in m/\${ <-- HERE PARGAPEXTEND}/ at /usr/home/cpansand/.cpan/build/2019051817/MRS-Client-1.0.1-0/blib/lib/MRS/Client/Blast.pm line 422.
Unescaped left brace in regex is passed through in regex; marked by <-- HERE in m/\${ <-- HERE PARFILTER}/ at /usr/home/cpansand/.cpan/build/2019051817/MRS-Client-1.0.1-0/blib/lib/MRS/Client/Blast.pm line 423.
Unescaped left brace in regex is passed through in regex; marked by <-- HERE in m/\${ <-- HERE DBCOUNT}/ at /usr/home/cpansand/.cpan/build/2019051817/MRS-Client-1.0.1-0/blib/lib/MRS/Client/Blast.pm line 425.
Unescaped left brace in regex is passed through in regex; marked by <-- HERE in m/\${ <-- HERE DBLENGTH}/ at /usr/home/cpansand/.cpan/build/2019051817/MRS-Client-1.0.1-0/blib/lib/MRS/Client/Blast.pm line 426.
Unescaped left brace in regex is passed through in regex; marked by <-- HERE in m/\${ <-- HERE DBSPACE}/ at /usr/home/cpansand/.cpan/build/2019051817/MRS-Client-1.0.1-0/blib/lib/MRS/Client/Blast.pm line 427.
Unescaped left brace in regex is passed through in regex; marked by <-- HERE in m/\${ <-- HERE KAPPA}/ at /usr/home/cpansand/.cpan/build/2019051817/MRS-Client-1.0.1-0/blib/lib/MRS/Client/Blast.pm line 428.
Unescaped left brace in regex is passed through in regex; marked by <-- HERE in m/\${ <-- HERE LAMBDA}/ at /usr/home/cpansand/.cpan/build/2019051817/MRS-Client-1.0.1-0/blib/lib/MRS/Client/Blast.pm line 429.
Unescaped left brace in regex is passed through in regex; marked by <-- HERE in m/\${ <-- HERE ENTROPY}/ at /usr/home/cpansand/.cpan/build/2019051817/MRS-Client-1.0.1-0/blib/lib/MRS/Client/Blast.pm line 430.
Unescaped left brace in regex is passed through in regex; marked by <-- HERE in m/\${ <-- HERE HITNR}/ at /usr/home/cpansand/.cpan/build/2019051817/MRS-Client-1.0.1-0/blib/lib/MRS/Client/Blast.pm line 439.
Unescaped left brace in regex is passed through in regex; marked by <-- HERE in m/\${ <-- HERE HITID}/ at /usr/home/cpansand/.cpan/build/2019051817/MRS-Client-1.0.1-0/blib/lib/MRS/Client/Blast.pm line 440.
Unescaped left brace in regex is passed through in regex; marked by <-- HERE in m/\${ <-- HERE HITSEQID}/ at /usr/home/cpansand/.cpan/build/2019051817/MRS-Client-1.0.1-0/blib/lib/MRS/Client/Blast.pm line 442.
Unescaped left brace in regex is passed through in regex; marked by <-- HERE in m/\${ <-- HERE HITSEQID}/ at /usr/home/cpansand/.cpan/build/2019051817/MRS-Client-1.0.1-0/blib/lib/MRS/Client/Blast.pm line 444.
Unescaped left brace in regex is passed through in regex; marked by <-- HERE in m/\${ <-- HERE HITSUBLEN}/ at /usr/home/cpansand/.cpan/build/2019051817/MRS-Client-1.0.1-0/blib/lib/MRS/Client/Blast.pm line 447.
Unescaped left brace in regex is passed through in regex; marked by <-- HERE in m/\${ <-- HERE HSPNR}/ at /usr/home/cpansand/.cpan/build/2019051817/MRS-Client-1.0.1-0/blib/lib/MRS/Client/Blast.pm line 456.
Unescaped left brace in regex is passed through in regex; marked by <-- HERE in m/\${ <-- HERE HSPBITSCORE}/ at /usr/home/cpansand/.cpan/build/2019051817/MRS-Client-1.0.1-0/blib/lib/MRS/Client/Blast.pm line 457.
Unescaped left brace in regex is passed through in regex; marked by <-- HERE in m/\${ <-- HERE HSPSCORE}/ at /usr/home/cpansand/.cpan/build/2019051817/MRS-Client-1.0.1-0/blib/lib/MRS/Client/Blast.pm line 458.
Unescaped left brace in regex is passed through in regex; marked by <-- HERE in m/\${ <-- HERE HSPEXPECT}/ at /usr/home/cpansand/.cpan/build/2019051817/MRS-Client-1.0.1-0/blib/lib/MRS/Client/Blast.pm line 459.
Unescaped left brace in regex is passed through in regex; marked by <-- HERE in m/\${ <-- HERE HSPIDENTITY}/ at /usr/home/cpansand/.cpan/build/2019051817/MRS-Client-1.0.1-0/blib/lib/MRS/Client/Blast.pm line 460.
Unescaped left brace in regex is passed through in regex; marked by <-- HERE in m/\${ <-- HERE HSPPOSITIVE}/ at /usr/home/cpansand/.cpan/build/2019051817/MRS-Client-1.0.1-0/blib/lib/MRS/Client/Blast.pm line 461.
Unescaped left brace in regex is passed through in regex; marked by <-- HERE in m/\${ <-- HERE HSPMIDLINE}/ at /usr/home/cpansand/.cpan/build/2019051817/MRS-Client-1.0.1-0/blib/lib/MRS/Client/Blast.pm line 462.
Unescaped left brace in regex is passed through in regex; marked by <-- HERE in m/\${ <-- HERE HSPQFROM}/ at /usr/home/cpansand/.cpan/build/2019051817/MRS-Client-1.0.1-0/blib/lib/MRS/Client/Blast.pm line 484.
Unescaped left brace in regex is passed through in regex; marked by <-- HERE in m/\${ <-- HERE HSPQTO}/ at /usr/home/cpansand/.cpan/build/2019051817/MRS-Client-1.0.1-0/blib/lib/MRS/Client/Blast.pm line 485.
Unescaped left brace in regex is passed through in regex; marked by <-- HERE in m/\${ <-- HERE HSPHFROM}/ at /usr/home/cpansand/.cpan/build/2019051817/MRS-Client-1.0.1-0/blib/lib/MRS/Client/Blast.pm line 486.
Unescaped left brace in regex is passed through in regex; marked by <-- HERE in m/\${ <-- HERE HSPHTO}/ at /usr/home/cpansand/.cpan/build/2019051817/MRS-Client-1.0.1-0/blib/lib/MRS/Client/Blast.pm line 487.
Unescaped left brace in regex is passed through in regex; marked by <-- HERE in m/\${ <-- HERE HSPALIGNLEN}/ at /usr/home/cpansand/.cpan/build/2019051817/MRS-Client-1.0.1-0/blib/lib/MRS/Client/Blast.pm line 488.
Unescaped left brace in regex is passed through in regex; marked by <-- HERE in m/\${ <-- HERE HSPQALIGN}/ at /usr/home/cpansand/.cpan/build/2019051817/MRS-Client-1.0.1-0/blib/lib/MRS/Client/Blast.pm line 489.
Unescaped left brace in regex is passed through in regex; marked by <-- HERE in m/\${ <-- HERE HSPSUBALIGN}/ at /usr/home/cpansand/.cpan/build/2019051817/MRS-Client-1.0.1-0/blib/lib/MRS/Client/Blast.pm line 490.
Unescaped left brace in regex is passed through in regex; marked by <-- HERE in m/\${ <-- HERE LOCATION}/ at /usr/home/cpansand/.cpan/build/2019051817/MRS-Client-1.0.1-0/blib/lib/MRS/Client.pm line 221.
Unescaped left brace in regex is passed through in regex; marked by <-- HERE in m/\${ <-- HERE SERVICE}/ at /usr/home/cpansand/.cpan/build/2019051817/MRS-Client-1.0.1-0/blib/lib/MRS/Client.pm line 222.
# Testing MRS::Client 1.0.1, Perl v5.30.0, /usr/perl5.30.0-RC1p/bin/perl5.30.0
t/00-load.t ............. ok
Possible precedence issue with control flow operator at /usr/home/cpansand/.cpan/build/2019051817/MRS-Client-1.0.1-0/blib/lib/MRS/Client/Blast.pm line 269.
Unescaped left brace in regex is passed through in regex; marked by <-- HERE in m/\${ <-- HERE JOBID}/ at /usr/home/cpansand/.cpan/build/2019051817/MRS-Client-1.0.1-0/blib/lib/MRS/Client/Blast.pm line 409.
Unescaped left brace in regex is passed through in regex; marked by <-- HERE in m/\${ <-- HERE SEQDESC}/ at /usr/home/cpansand/.cpan/build/2019051817/MRS-Client-1.0.1-0/blib/lib/MRS/Client/Blast.pm line 411.
Unescaped left brace in regex is passed through in regex; marked by <-- HERE in m/\${ <-- HERE SEQDESC}/ at /usr/home/cpansand/.cpan/build/2019051817/MRS-Client-1.0.1-0/blib/lib/MRS/Client/Blast.pm line 413.
Unescaped left brace in regex is passed through in regex; marked by <-- HERE in m/\${ <-- HERE SEQDESC}/ at /usr/home/cpansand/.cpan/build/2019051817/MRS-Client-1.0.1-0/blib/lib/MRS/Client/Blast.pm line 415.
Unescaped left brace in regex is passed through in regex; marked by <-- HERE in m/\${ <-- HERE DB}/ at /usr/home/cpansand/.cpan/build/2019051817/MRS-Client-1.0.1-0/blib/lib/MRS/Client/Blast.pm line 417.
Unescaped left brace in regex is passed through in regex; marked by <-- HERE in m/\${ <-- HERE SEQLEN}/ at /usr/home/cpansand/.cpan/build/2019051817/MRS-Client-1.0.1-0/blib/lib/MRS/Client/Blast.pm line 418.
Unescaped left brace in regex is passed through in regex; marked by <-- HERE in m/\${ <-- HERE PARMATRIX}/ at /usr/home/cpansand/.cpan/build/2019051817/MRS-Client-1.0.1-0/blib/lib/MRS/Client/Blast.pm line 419.
Unescaped left brace in regex is passed through in regex; marked by <-- HERE in m/\${ <-- HERE PAREXPECT}/ at /usr/home/cpansand/.cpan/build/2019051817/MRS-Client-1.0.1-0/blib/lib/MRS/Client/Blast.pm line 420.
Unescaped left brace in regex is passed through in regex; marked by <-- HERE in m/\${ <-- HERE PARGAPOPEN}/ at /usr/home/cpansand/.cpan/build/2019051817/MRS-Client-1.0.1-0/blib/lib/MRS/Client/Blast.pm line 421.
Unescaped left brace in regex is passed through in regex; marked by <-- HERE in m/\${ <-- HERE PARGAPEXTEND}/ at /usr/home/cpansand/.cpan/build/2019051817/MRS-Client-1.0.1-0/blib/lib/MRS/Client/Blast.pm line 422.
Unescaped left brace in regex is passed through in regex; marked by <-- HERE in m/\${ <-- HERE PARFILTER}/ at /usr/home/cpansand/.cpan/build/2019051817/MRS-Client-1.0.1-0/blib/lib/MRS/Client/Blast.pm line 423.
Unescaped left brace in regex is passed through in regex; marked by <-- HERE in m/\${ <-- HERE DBCOUNT}/ at /usr/home/cpansand/.cpan/build/2019051817/MRS-Client-1.0.1-0/blib/lib/MRS/Client/Blast.pm line 425.
Unescaped left brace in regex is passed through in regex; marked by <-- HERE in m/\${ <-- HERE DBLENGTH}/ at /usr/home/cpansand/.cpan/build/2019051817/MRS-Client-1.0.1-0/blib/lib/MRS/Client/Blast.pm line 426.
Unescaped left brace in regex is passed through in regex; marked by <-- HERE in m/\${ <-- HERE DBSPACE}/ at /usr/home/cpansand/.cpan/build/2019051817/MRS-Client-1.0.1-0/blib/lib/MRS/Client/Blast.pm line 427.
Unescaped left brace in regex is passed through in regex; marked by <-- HERE in m/\${ <-- HERE KAPPA}/ at /usr/home/cpansand/.cpan/build/2019051817/MRS-Client-1.0.1-0/blib/lib/MRS/Client/Blast.pm line 428.
Unescaped left brace in regex is passed through in regex; marked by <-- HERE in m/\${ <-- HERE LAMBDA}/ at /usr/home/cpansand/.cpan/build/2019051817/MRS-Client-1.0.1-0/blib/lib/MRS/Client/Blast.pm line 429.
Unescaped left brace in regex is passed through in regex; marked by <-- HERE in m/\${ <-- HERE ENTROPY}/ at /usr/home/cpansand/.cpan/build/2019051817/MRS-Client-1.0.1-0/blib/lib/MRS/Client/Blast.pm line 430.
Unescaped left brace in regex is passed through in regex; marked by <-- HERE in m/\${ <-- HERE HITNR}/ at /usr/home/cpansand/.cpan/build/2019051817/MRS-Client-1.0.1-0/blib/lib/MRS/Client/Blast.pm line 439.
Unescaped left brace in regex is passed through in regex; marked by <-- HERE in m/\${ <-- HERE HITID}/ at /usr/home/cpansand/.cpan/build/2019051817/MRS-Client-1.0.1-0/blib/lib/MRS/Client/Blast.pm line 440.
Unescaped left brace in regex is passed through in regex; marked by <-- HERE in m/\${ <-- HERE HITSEQID}/ at /usr/home/cpansand/.cpan/build/2019051817/MRS-Client-1.0.1-0/blib/lib/MRS/Client/Blast.pm line 442.
Unescaped left brace in regex is passed through in regex; marked by <-- HERE in m/\${ <-- HERE HITSEQID}/ at /usr/home/cpansand/.cpan/build/2019051817/MRS-Client-1.0.1-0/blib/lib/MRS/Client/Blast.pm line 444.
Unescaped left brace in regex is passed through in regex; marked by <-- HERE in m/\${ <-- HERE HITSUBLEN}/ at /usr/home/cpansand/.cpan/build/2019051817/MRS-Client-1.0.1-0/blib/lib/MRS/Client/Blast.pm line 447.
Unescaped left brace in regex is passed through in regex; marked by <-- HERE in m/\${ <-- HERE HSPNR}/ at /usr/home/cpansand/.cpan/build/2019051817/MRS-Client-1.0.1-0/blib/lib/MRS/Client/Blast.pm line 456.
Unescaped left brace in regex is passed through in regex; marked by <-- HERE in m/\${ <-- HERE HSPBITSCORE}/ at /usr/home/cpansand/.cpan/build/2019051817/MRS-Client-1.0.1-0/blib/lib/MRS/Client/Blast.pm line 457.
Unescaped left brace in regex is passed through in regex; marked by <-- HERE in m/\${ <-- HERE HSPSCORE}/ at /usr/home/cpansand/.cpan/build/2019051817/MRS-Client-1.0.1-0/blib/lib/MRS/Client/Blast.pm line 458.
Unescaped left brace in regex is passed through in regex; marked by <-- HERE in m/\${ <-- HERE HSPEXPECT}/ at /usr/home/cpansand/.cpan/build/2019051817/MRS-Client-1.0.1-0/blib/lib/MRS/Client/Blast.pm line 459.
Unescaped left brace in regex is passed through in regex; marked by <-- HERE in m/\${ <-- HERE HSPIDENTITY}/ at /usr/home/cpansand/.cpan/build/2019051817/MRS-Client-1.0.1-0/blib/lib/MRS/Client/Blast.pm line 460.
Unescaped left brace in regex is passed through in regex; marked by <-- HERE in m/\${ <-- HERE HSPPOSITIVE}/ at /usr/home/cpansand/.cpan/build/2019051817/MRS-Client-1.0.1-0/blib/lib/MRS/Client/Blast.pm line 461.
Unescaped left brace in regex is passed through in regex; marked by <-- HERE in m/\${ <-- HERE HSPMIDLINE}/ at /usr/home/cpansand/.cpan/build/2019051817/MRS-Client-1.0.1-0/blib/lib/MRS/Client/Blast.pm line 462.
Unescaped left brace in regex is passed through in regex; marked by <-- HERE in m/\${ <-- HERE HSPQFROM}/ at /usr/home/cpansand/.cpan/build/2019051817/MRS-Client-1.0.1-0/blib/lib/MRS/Client/Blast.pm line 484.
Unescaped left brace in regex is passed through in regex; marked by <-- HERE in m/\${ <-- HERE HSPQTO}/ at /usr/home/cpansand/.cpan/build/2019051817/MRS-Client-1.0.1-0/blib/lib/MRS/Client/Blast.pm line 485.
Unescaped left brace in regex is passed through in regex; marked by <-- HERE in m/\${ <-- HERE HSPHFROM}/ at /usr/home/cpansand/.cpan/build/2019051817/MRS-Client-1.0.1-0/blib/lib/MRS/Client/Blast.pm line 486.
Unescaped left brace in regex is passed through in regex; marked by <-- HERE in m/\${ <-- HERE HSPHTO}/ at /usr/home/cpansand/.cpan/build/2019051817/MRS-Client-1.0.1-0/blib/lib/MRS/Client/Blast.pm line 487.
Unescaped left brace in regex is passed through in regex; marked by <-- HERE in m/\${ <-- HERE HSPALIGNLEN}/ at /usr/home/cpansand/.cpan/build/2019051817/MRS-Client-1.0.1-0/blib/lib/MRS/Client/Blast.pm line 488.
Unescaped left brace in regex is passed through in regex; marked by <-- HERE in m/\${ <-- HERE HSPQALIGN}/ at /usr/home/cpansand/.cpan/build/2019051817/MRS-Client-1.0.1-0/blib/lib/MRS/Client/Blast.pm line 489.
Unescaped left brace in regex is passed through in regex; marked by <-- HERE in m/\${ <-- HERE HSPSUBALIGN}/ at /usr/home/cpansand/.cpan/build/2019051817/MRS-Client-1.0.1-0/blib/lib/MRS/Client/Blast.pm line 490.
Unescaped left brace in regex is passed through in regex; marked by <-- HERE in m/\${ <-- HERE LOCATION}/ at /usr/home/cpansand/.cpan/build/2019051817/MRS-Client-1.0.1-0/blib/lib/MRS/Client.pm line 221.
Unescaped left brace in regex is passed through in regex; marked by <-- HERE in m/\${ <-- HERE SERVICE}/ at /usr/home/cpansand/.cpan/build/2019051817/MRS-Client-1.0.1-0/blib/lib/MRS/Client.pm line 222.
# Data manipulation
t/01-data.t ............. ok
Possible precedence issue with control flow operator at /usr/home/cpansand/.cpan/build/2019051817/MRS-Client-1.0.1-0/blib/lib/MRS/Client/Blast.pm line 269.
Unescaped left brace in regex is passed through in regex; marked by <-- HERE in m/\${ <-- HERE JOBID}/ at /usr/home/cpansand/.cpan/build/2019051817/MRS-Client-1.0.1-0/blib/lib/MRS/Client/Blast.pm line 409.
Unescaped left brace in regex is passed through in regex; marked by <-- HERE in m/\${ <-- HERE SEQDESC}/ at /usr/home/cpansand/.cpan/build/2019051817/MRS-Client-1.0.1-0/blib/lib/MRS/Client/Blast.pm line 411.
Unescaped left brace in regex is passed through in regex; marked by <-- HERE in m/\${ <-- HERE SEQDESC}/ at /usr/home/cpansand/.cpan/build/2019051817/MRS-Client-1.0.1-0/blib/lib/MRS/Client/Blast.pm line 413.
Unescaped left brace in regex is passed through in regex; marked by <-- HERE in m/\${ <-- HERE SEQDESC}/ at /usr/home/cpansand/.cpan/build/2019051817/MRS-Client-1.0.1-0/blib/lib/MRS/Client/Blast.pm line 415.
Unescaped left brace in regex is passed through in regex; marked by <-- HERE in m/\${ <-- HERE DB}/ at /usr/home/cpansand/.cpan/build/2019051817/MRS-Client-1.0.1-0/blib/lib/MRS/Client/Blast.pm line 417.
Unescaped left brace in regex is passed through in regex; marked by <-- HERE in m/\${ <-- HERE SEQLEN}/ at /usr/home/cpansand/.cpan/build/2019051817/MRS-Client-1.0.1-0/blib/lib/MRS/Client/Blast.pm line 418.
Unescaped left brace in regex is passed through in regex; marked by <-- HERE in m/\${ <-- HERE PARMATRIX}/ at /usr/home/cpansand/.cpan/build/2019051817/MRS-Client-1.0.1-0/blib/lib/MRS/Client/Blast.pm line 419.
Unescaped left brace in regex is passed through in regex; marked by <-- HERE in m/\${ <-- HERE PAREXPECT}/ at /usr/home/cpansand/.cpan/build/2019051817/MRS-Client-1.0.1-0/blib/lib/MRS/Client/Blast.pm line 420.
Unescaped left brace in regex is passed through in regex; marked by <-- HERE in m/\${ <-- HERE PARGAPOPEN}/ at /usr/home/cpansand/.cpan/build/2019051817/MRS-Client-1.0.1-0/blib/lib/MRS/Client/Blast.pm line 421.
Unescaped left brace in regex is passed through in regex; marked by <-- HERE in m/\${ <-- HERE PARGAPEXTEND}/ at /usr/home/cpansand/.cpan/build/2019051817/MRS-Client-1.0.1-0/blib/lib/MRS/Client/Blast.pm line 422.
Unescaped left brace in regex is passed through in regex; marked by <-- HERE in m/\${ <-- HERE PARFILTER}/ at /usr/home/cpansand/.cpan/build/2019051817/MRS-Client-1.0.1-0/blib/lib/MRS/Client/Blast.pm line 423.
Unescaped left brace in regex is passed through in regex; marked by <-- HERE in m/\${ <-- HERE DBCOUNT}/ at /usr/home/cpansand/.cpan/build/2019051817/MRS-Client-1.0.1-0/blib/lib/MRS/Client/Blast.pm line 425.
Unescaped left brace in regex is passed through in regex; marked by <-- HERE in m/\${ <-- HERE DBLENGTH}/ at /usr/home/cpansand/.cpan/build/2019051817/MRS-Client-1.0.1-0/blib/lib/MRS/Client/Blast.pm line 426.
Unescaped left brace in regex is passed through in regex; marked by <-- HERE in m/\${ <-- HERE DBSPACE}/ at /usr/home/cpansand/.cpan/build/2019051817/MRS-Client-1.0.1-0/blib/lib/MRS/Client/Blast.pm line 427.
Unescaped left brace in regex is passed through in regex; marked by <-- HERE in m/\${ <-- HERE KAPPA}/ at /usr/home/cpansand/.cpan/build/2019051817/MRS-Client-1.0.1-0/blib/lib/MRS/Client/Blast.pm line 428.
Unescaped left brace in regex is passed through in regex; marked by <-- HERE in m/\${ <-- HERE LAMBDA}/ at /usr/home/cpansand/.cpan/build/2019051817/MRS-Client-1.0.1-0/blib/lib/MRS/Client/Blast.pm line 429.
Unescaped left brace in regex is passed through in regex; marked by <-- HERE in m/\${ <-- HERE ENTROPY}/ at /usr/home/cpansand/.cpan/build/2019051817/MRS-Client-1.0.1-0/blib/lib/MRS/Client/Blast.pm line 430.
Unescaped left brace in regex is passed through in regex; marked by <-- HERE in m/\${ <-- HERE HITNR}/ at /usr/home/cpansand/.cpan/build/2019051817/MRS-Client-1.0.1-0/blib/lib/MRS/Client/Blast.pm line 439.
Unescaped left brace in regex is passed through in regex; marked by <-- HERE in m/\${ <-- HERE HITID}/ at /usr/home/cpansand/.cpan/build/2019051817/MRS-Client-1.0.1-0/blib/lib/MRS/Client/Blast.pm line 440.
Unescaped left brace in regex is passed through in regex; marked by <-- HERE in m/\${ <-- HERE HITSEQID}/ at /usr/home/cpansand/.cpan/build/2019051817/MRS-Client-1.0.1-0/blib/lib/MRS/Client/Blast.pm line 442.
Unescaped left brace in regex is passed through in regex; marked by <-- HERE in m/\${ <-- HERE HITSEQID}/ at /usr/home/cpansand/.cpan/build/2019051817/MRS-Client-1.0.1-0/blib/lib/MRS/Client/Blast.pm line 444.
Unescaped left brace in regex is passed through in regex; marked by <-- HERE in m/\${ <-- HERE HITSUBLEN}/ at /usr/home/cpansand/.cpan/build/2019051817/MRS-Client-1.0.1-0/blib/lib/MRS/Client/Blast.pm line 447.
Unescaped left brace in regex is passed through in regex; marked by <-- HERE in m/\${ <-- HERE HSPNR}/ at /usr/home/cpansand/.cpan/build/2019051817/MRS-Client-1.0.1-0/blib/lib/MRS/Client/Blast.pm line 456.
Unescaped left brace in regex is passed through in regex; marked by <-- HERE in m/\${ <-- HERE HSPBITSCORE}/ at /usr/home/cpansand/.cpan/build/2019051817/MRS-Client-1.0.1-0/blib/lib/MRS/Client/Blast.pm line 457.
Unescaped left brace in regex is passed through in regex; marked by <-- HERE in m/\${ <-- HERE HSPSCORE}/ at /usr/home/cpansand/.cpan/build/2019051817/MRS-Client-1.0.1-0/blib/lib/MRS/Client/Blast.pm line 458.
Unescaped left brace in regex is passed through in regex; marked by <-- HERE in m/\${ <-- HERE HSPEXPECT}/ at /usr/home/cpansand/.cpan/build/2019051817/MRS-Client-1.0.1-0/blib/lib/MRS/Client/Blast.pm line 459.
Unescaped left brace in regex is passed through in regex; marked by <-- HERE in m/\${ <-- HERE HSPIDENTITY}/ at /usr/home/cpansand/.cpan/build/2019051817/MRS-Client-1.0.1-0/blib/lib/MRS/Client/Blast.pm line 460.
Unescaped left brace in regex is passed through in regex; marked by <-- HERE in m/\${ <-- HERE HSPPOSITIVE}/ at /usr/home/cpansand/.cpan/build/2019051817/MRS-Client-1.0.1-0/blib/lib/MRS/Client/Blast.pm line 461.
Unescaped left brace in regex is passed through in regex; marked by <-- HERE in m/\${ <-- HERE HSPMIDLINE}/ at /usr/home/cpansand/.cpan/build/2019051817/MRS-Client-1.0.1-0/blib/lib/MRS/Client/Blast.pm line 462.
Unescaped left brace in regex is passed through in regex; marked by <-- HERE in m/\${ <-- HERE HSPQFROM}/ at /usr/home/cpansand/.cpan/build/2019051817/MRS-Client-1.0.1-0/blib/lib/MRS/Client/Blast.pm line 484.
Unescaped left brace in regex is passed through in regex; marked by <-- HERE in m/\${ <-- HERE HSPQTO}/ at /usr/home/cpansand/.cpan/build/2019051817/MRS-Client-1.0.1-0/blib/lib/MRS/Client/Blast.pm line 485.
Unescaped left brace in regex is passed through in regex; marked by <-- HERE in m/\${ <-- HERE HSPHFROM}/ at /usr/home/cpansand/.cpan/build/2019051817/MRS-Client-1.0.1-0/blib/lib/MRS/Client/Blast.pm line 486.
Unescaped left brace in regex is passed through in regex; marked by <-- HERE in m/\${ <-- HERE HSPHTO}/ at /usr/home/cpansand/.cpan/build/2019051817/MRS-Client-1.0.1-0/blib/lib/MRS/Client/Blast.pm line 487.
Unescaped left brace in regex is passed through in regex; marked by <-- HERE in m/\${ <-- HERE HSPALIGNLEN}/ at /usr/home/cpansand/.cpan/build/2019051817/MRS-Client-1.0.1-0/blib/lib/MRS/Client/Blast.pm line 488.
Unescaped left brace in regex is passed through in regex; marked by <-- HERE in m/\${ <-- HERE HSPQALIGN}/ at /usr/home/cpansand/.cpan/build/2019051817/MRS-Client-1.0.1-0/blib/lib/MRS/Client/Blast.pm line 489.
Unescaped left brace in regex is passed through in regex; marked by <-- HERE in m/\${ <-- HERE HSPSUBALIGN}/ at /usr/home/cpansand/.cpan/build/2019051817/MRS-Client-1.0.1-0/blib/lib/MRS/Client/Blast.pm line 490.
Unescaped left brace in regex is passed through in regex; marked by <-- HERE in m/\${ <-- HERE LOCATION}/ at /usr/home/cpansand/.cpan/build/2019051817/MRS-Client-1.0.1-0/blib/lib/MRS/Client.pm line 221.
Unescaped left brace in regex is passed through in regex; marked by <-- HERE in m/\${ <-- HERE SERVICE}/ at /usr/home/cpansand/.cpan/build/2019051817/MRS-Client-1.0.1-0/blib/lib/MRS/Client.pm line 222.
# Setting host and endpoints
t/02-endpoint.t ......... ok
t/03-network.t .......... skipped: these tests are for testing by the author (when AUTHOR_TESTING=1)
Possible precedence issue with control flow operator at /usr/home/cpansand/.cpan/build/2019051817/MRS-Client-1.0.1-0/blib/lib/MRS/Client/Blast.pm line 269.
Unescaped left brace in regex is passed through in regex; marked by <-- HERE in m/\${ <-- HERE JOBID}/ at /usr/home/cpansand/.cpan/build/2019051817/MRS-Client-1.0.1-0/blib/lib/MRS/Client/Blast.pm line 409.
Unescaped left brace in regex is passed through in regex; marked by <-- HERE in m/\${ <-- HERE SEQDESC}/ at /usr/home/cpansand/.cpan/build/2019051817/MRS-Client-1.0.1-0/blib/lib/MRS/Client/Blast.pm line 411.
Unescaped left brace in regex is passed through in regex; marked by <-- HERE in m/\${ <-- HERE SEQDESC}/ at /usr/home/cpansand/.cpan/build/2019051817/MRS-Client-1.0.1-0/blib/lib/MRS/Client/Blast.pm line 413.
Unescaped left brace in regex is passed through in regex; marked by <-- HERE in m/\${ <-- HERE SEQDESC}/ at /usr/home/cpansand/.cpan/build/2019051817/MRS-Client-1.0.1-0/blib/lib/MRS/Client/Blast.pm line 415.
Unescaped left brace in regex is passed through in regex; marked by <-- HERE in m/\${ <-- HERE DB}/ at /usr/home/cpansand/.cpan/build/2019051817/MRS-Client-1.0.1-0/blib/lib/MRS/Client/Blast.pm line 417.
Unescaped left brace in regex is passed through in regex; marked by <-- HERE in m/\${ <-- HERE SEQLEN}/ at /usr/home/cpansand/.cpan/build/2019051817/MRS-Client-1.0.1-0/blib/lib/MRS/Client/Blast.pm line 418.
Unescaped left brace in regex is passed through in regex; marked by <-- HERE in m/\${ <-- HERE PARMATRIX}/ at /usr/home/cpansand/.cpan/build/2019051817/MRS-Client-1.0.1-0/blib/lib/MRS/Client/Blast.pm line 419.
Unescaped left brace in regex is passed through in regex; marked by <-- HERE in m/\${ <-- HERE PAREXPECT}/ at /usr/home/cpansand/.cpan/build/2019051817/MRS-Client-1.0.1-0/blib/lib/MRS/Client/Blast.pm line 420.
Unescaped left brace in regex is passed through in regex; marked by <-- HERE in m/\${ <-- HERE PARGAPOPEN}/ at /usr/home/cpansand/.cpan/build/2019051817/MRS-Client-1.0.1-0/blib/lib/MRS/Client/Blast.pm line 421.
Unescaped left brace in regex is passed through in regex; marked by <-- HERE in m/\${ <-- HERE PARGAPEXTEND}/ at /usr/home/cpansand/.cpan/build/2019051817/MRS-Client-1.0.1-0/blib/lib/MRS/Client/Blast.pm line 422.
Unescaped left brace in regex is passed through in regex; marked by <-- HERE in m/\${ <-- HERE PARFILTER}/ at /usr/home/cpansand/.cpan/build/2019051817/MRS-Client-1.0.1-0/blib/lib/MRS/Client/Blast.pm line 423.
Unescaped left brace in regex is passed through in regex; marked by <-- HERE in m/\${ <-- HERE DBCOUNT}/ at /usr/home/cpansand/.cpan/build/2019051817/MRS-Client-1.0.1-0/blib/lib/MRS/Client/Blast.pm line 425.
Unescaped left brace in regex is passed through in regex; marked by <-- HERE in m/\${ <-- HERE DBLENGTH}/ at /usr/home/cpansand/.cpan/build/2019051817/MRS-Client-1.0.1-0/blib/lib/MRS/Client/Blast.pm line 426.
Unescaped left brace in regex is passed through in regex; marked by <-- HERE in m/\${ <-- HERE DBSPACE}/ at /usr/home/cpansand/.cpan/build/2019051817/MRS-Client-1.0.1-0/blib/lib/MRS/Client/Blast.pm line 427.
Unescaped left brace in regex is passed through in regex; marked by <-- HERE in m/\${ <-- HERE KAPPA}/ at /usr/home/cpansand/.cpan/build/2019051817/MRS-Client-1.0.1-0/blib/lib/MRS/Client/Blast.pm line 428.
Unescaped left brace in regex is passed through in regex; marked by <-- HERE in m/\${ <-- HERE LAMBDA}/ at /usr/home/cpansand/.cpan/build/2019051817/MRS-Client-1.0.1-0/blib/lib/MRS/Client/Blast.pm line 429.
Unescaped left brace in regex is passed through in regex; marked by <-- HERE in m/\${ <-- HERE ENTROPY}/ at /usr/home/cpansand/.cpan/build/2019051817/MRS-Client-1.0.1-0/blib/lib/MRS/Client/Blast.pm line 430.
Unescaped left brace in regex is passed through in regex; marked by <-- HERE in m/\${ <-- HERE HITNR}/ at /usr/home/cpansand/.cpan/build/2019051817/MRS-Client-1.0.1-0/blib/lib/MRS/Client/Blast.pm line 439.
Unescaped left brace in regex is passed through in regex; marked by <-- HERE in m/\${ <-- HERE HITID}/ at /usr/home/cpansand/.cpan/build/2019051817/MRS-Client-1.0.1-0/blib/lib/MRS/Client/Blast.pm line 440.
Unescaped left brace in regex is passed through in regex; marked by <-- HERE in m/\${ <-- HERE HITSEQID}/ at /usr/home/cpansand/.cpan/build/2019051817/MRS-Client-1.0.1-0/blib/lib/MRS/Client/Blast.pm line 442.
Unescaped left brace in regex is passed through in regex; marked by <-- HERE in m/\${ <-- HERE HITSEQID}/ at /usr/home/cpansand/.cpan/build/2019051817/MRS-Client-1.0.1-0/blib/lib/MRS/Client/Blast.pm line 444.
Unescaped left brace in regex is passed through in regex; marked by <-- HERE in m/\${ <-- HERE HITSUBLEN}/ at /usr/home/cpansand/.cpan/build/2019051817/MRS-Client-1.0.1-0/blib/lib/MRS/Client/Blast.pm line 447.
Unescaped left brace in regex is passed through in regex; marked by <-- HERE in m/\${ <-- HERE HSPNR}/ at /usr/home/cpansand/.cpan/build/2019051817/MRS-Client-1.0.1-0/blib/lib/MRS/Client/Blast.pm line 456.
Unescaped left brace in regex is passed through in regex; marked by <-- HERE in m/\${ <-- HERE HSPBITSCORE}/ at /usr/home/cpansand/.cpan/build/2019051817/MRS-Client-1.0.1-0/blib/lib/MRS/Client/Blast.pm line 457.
Unescaped left brace in regex is passed through in regex; marked by <-- HERE in m/\${ <-- HERE HSPSCORE}/ at /usr/home/cpansand/.cpan/build/2019051817/MRS-Client-1.0.1-0/blib/lib/MRS/Client/Blast.pm line 458.
Unescaped left brace in regex is passed through in regex; marked by <-- HERE in m/\${ <-- HERE HSPEXPECT}/ at /usr/home/cpansand/.cpan/build/2019051817/MRS-Client-1.0.1-0/blib/lib/MRS/Client/Blast.pm line 459.
Unescaped left brace in regex is passed through in regex; marked by <-- HERE in m/\${ <-- HERE HSPIDENTITY}/ at /usr/home/cpansand/.cpan/build/2019051817/MRS-Client-1.0.1-0/blib/lib/MRS/Client/Blast.pm line 460.
Unescaped left brace in regex is passed through in regex; marked by <-- HERE in m/\${ <-- HERE HSPPOSITIVE}/ at /usr/home/cpansand/.cpan/build/2019051817/MRS-Client-1.0.1-0/blib/lib/MRS/Client/Blast.pm line 461.
Unescaped left brace in regex is passed through in regex; marked by <-- HERE in m/\${ <-- HERE HSPMIDLINE}/ at /usr/home/cpansand/.cpan/build/2019051817/MRS-Client-1.0.1-0/blib/lib/MRS/Client/Blast.pm line 462.
Unescaped left brace in regex is passed through in regex; marked by <-- HERE in m/\${ <-- HERE HSPQFROM}/ at /usr/home/cpansand/.cpan/build/2019051817/MRS-Client-1.0.1-0/blib/lib/MRS/Client/Blast.pm line 484.
Unescaped left brace in regex is passed through in regex; marked by <-- HERE in m/\${ <-- HERE HSPQTO}/ at /usr/home/cpansand/.cpan/build/2019051817/MRS-Client-1.0.1-0/blib/lib/MRS/Client/Blast.pm line 485.
Unescaped left brace in regex is passed through in regex; marked by <-- HERE in m/\${ <-- HERE HSPHFROM}/ at /usr/home/cpansand/.cpan/build/2019051817/MRS-Client-1.0.1-0/blib/lib/MRS/Client/Blast.pm line 486.
Unescaped left brace in regex is passed through in regex; marked by <-- HERE in m/\${ <-- HERE HSPHTO}/ at /usr/home/cpansand/.cpan/build/2019051817/MRS-Client-1.0.1-0/blib/lib/MRS/Client/Blast.pm line 487.
Unescaped left brace in regex is passed through in regex; marked by <-- HERE in m/\${ <-- HERE HSPALIGNLEN}/ at /usr/home/cpansand/.cpan/build/2019051817/MRS-Client-1.0.1-0/blib/lib/MRS/Client/Blast.pm line 488.
Unescaped left brace in regex is passed through in regex; marked by <-- HERE in m/\${ <-- HERE HSPQALIGN}/ at /usr/home/cpansand/.cpan/build/2019051817/MRS-Client-1.0.1-0/blib/lib/MRS/Client/Blast.pm line 489.
Unescaped left brace in regex is passed through in regex; marked by <-- HERE in m/\${ <-- HERE HSPSUBALIGN}/ at /usr/home/cpansand/.cpan/build/2019051817/MRS-Client-1.0.1-0/blib/lib/MRS/Client/Blast.pm line 490.
Unescaped left brace in regex is passed through in regex; marked by <-- HERE in m/\${ <-- HERE LOCATION}/ at /usr/home/cpansand/.cpan/build/2019051817/MRS-Client-1.0.1-0/blib/lib/MRS/Client.pm line 221.
Unescaped left brace in regex is passed through in regex; marked by <-- HERE in m/\${ <-- HERE SERVICE}/ at /usr/home/cpansand/.cpan/build/2019051817/MRS-Client-1.0.1-0/blib/lib/MRS/Client.pm line 222.
# Manipulation of hyperlinks
t/04-links.t ............ ok
t/author-critic.t ....... skipped: these tests are for testing by the author
t/author-pod-spell.t .... skipped: these tests are for testing by the author
t/release-eol.t ......... skipped: these tests are for release candidate testing
t/release-no-tabs.t ..... skipped: these tests are for release candidate testing
t/release-pod-syntax.t .. skipped: these tests are for release candidate testing
All tests successful.
Files=11, Tests=113, 5 wallclock secs ( 0.07 usr 0.05 sys + 3.24 cusr 1.03 csys = 4.40 CPU)
Result: PASS
------------------------------
PREREQUISITES
------------------------------
Prerequisite modules loaded:
requires:
Module Need Have
--------------------------------- ---- --------
base 0 2.27
Carp 0 1.50
constant 0 1.33
Data::Dumper 0 2.174
File::Basename 0 2.85
FindBin 0 1.51
Getopt::Std 0 1.12
Math::BigInt 0 1.999816
overload 0 1.30
strict 0 1.11
vars 0 1.05
warnings 0 1.44
XML::Compile::SOAP11 2.26 3.24
XML::Compile::Transport::SOAPHTTP 0 3.24
XML::Compile::WSDL11 0 3.07
build_requires:
Module Need Have
--------------------------------- ---- --------
File::Find 0 1.36
File::Spec 0 3.78
File::Temp 0 0.2309
Test::More 0 1.302164
configure_requires:
Module Need Have
--------------------------------- ---- --------
ExtUtils::MakeMaker 6.30 7.36
------------------------------
ENVIRONMENT AND OTHER CONTEXT
------------------------------
Environment variables:
LC_ALL = de_DE.UTF-8
PATH = /usr/local/bin:/usr/bin:/bin:/usr/local/sbin:/usr/sbin:/sbin:/home/cpansand/bin/freebsd12.0:/home/cpansand/bin/sh:/home/cpansand/bin:/usr/games:/home/cpansand/devel:/usr/home/eserte/src/srezic-misc/scripts
PERL5LIB =
PERL5OPT =
PERL5_CPANPLUS_IS_RUNNING = 28403
PERL5_CPAN_IS_RUNNING = 28403
PERL5_CPAN_IS_RUNNING_IN_RECURSION = 53892,28403
PERLDOC = -MPod::Perldoc::ToTextOverstrike
PERL_BATCH = yes
PERL_CANARY_STABILITY_NOPROMPT = 1
PERL_CPAN_REPORTER_CONFIG = /var/tmp/cpansmoker-1023/2019051718/cpanreporter_002_config.ini
PERL_EXTUTILS_AUTOINSTALL = --defaultdeps
PERL_PARALLEL_SMOKER = yes
PERL_USE_UNSAFE_INC = 1
SHELL = /usr/local/bin/zsh
TERM = screen
TMPDIR = /var/tmp/cpansmoker-1023/2019051718
Perl special variables (and OS-specific diagnostics, for MSWin32):
$^X = /usr/perl5.30.0-RC1p/bin/perl5.30.0
$UID/$EUID = 1023 / 1023
$GID = 1023 1023
$EGID = 1023 1023
Perl module toolchain versions installed:
Module Have
------------------- --------
CPAN 2.26
CPAN::Meta 2.150010
Cwd 3.78
ExtUtils::CBuilder 0.280231
ExtUtils::Command 7.36
ExtUtils::Install 2.14
ExtUtils::MakeMaker 7.36
ExtUtils::Manifest 1.72
ExtUtils::ParseXS 3.40
File::Spec 3.78
JSON 4.02
JSON::PP 4.02
Module::Build 0.4229
Module::Signature 0.83
Parse::CPAN::Meta 2.150010
Test::Harness 3.42
Test::More 1.302164
YAML 1.29
YAML::Syck 1.31
version 0.9924
--
Summary of my perl5 (revision 5 version 30 subversion 0) configuration:
Platform:
osname=freebsd
osvers=12.0-stable
archname=amd64-freebsd
uname='freebsd cloud1.bbbike.org 12.0-stable freebsd 12.0-stable 8f4b036ab32(stable12) generic amd64 '
config_args='-ds -e -Dprefix=/usr/perl5.30.0-RC1p -Dcf_email=srezic@cpan.org -Doptimize=-O2 -pipe'
hint=recommended
useposix=true
d_sigaction=define
useithreads=undef
usemultiplicity=undef
use64bitint=define
use64bitall=define
uselongdouble=undef
usemymalloc=n
default_inc_excludes_dot=define
bincompat5005=undef
Compiler:
cc='cc'
ccflags ='-DHAS_FPSETMASK -DHAS_FLOATINGPOINT_H -fno-strict-aliasing -pipe -fstack-protector-strong -I/usr/local/include -D_FORTIFY_SOURCE=2'
optimize='-O2 -pipe'
cppflags='-DHAS_FPSETMASK -DHAS_FLOATINGPOINT_H -fno-strict-aliasing -pipe -fstack-protector-strong -I/usr/local/include'
ccversion=''
gccversion='4.2.1 Compatible FreeBSD Clang 8.0.0 (tags/RELEASE_800/final 356365)'
gccosandvers=''
intsize=4
longsize=8
ptrsize=8
doublesize=8
byteorder=12345678
doublekind=3
d_longlong=define
longlongsize=8
d_longdbl=define
longdblsize=16
longdblkind=3
ivtype='long'
ivsize=8
nvtype='double'
nvsize=8
Off_t='off_t'
lseeksize=8
alignbytes=8
prototype=define
Linker and Libraries:
ld='cc'
ldflags ='-pthread -Wl,-E -fstack-protector-strong -L/usr/local/lib'
libpth=/usr/lib /usr/local/lib /usr/lib/clang/8.0.0/lib /usr/lib
libs=-lpthread -lgdbm -ldl -lm -lcrypt -lutil -lc
perllibs=-lpthread -ldl -lm -lcrypt -lutil -lc
libc=
so=so
useshrplib=false
libperl=libperl.a
gnulibc_version=''
Dynamic Linking:
dlsrc=dl_dlopen.xs
dlext=so
d_dlsymun=undef
ccdlflags=' '
cccdlflags='-DPIC -fPIC'
lddlflags='-shared -L/usr/local/lib -fstack-protector-strong'
Characteristics of this binary (from libperl):
Compile-time options:
HAS_TIMES
PERLIO_LAYERS
PERL_COPY_ON_WRITE
PERL_DONT_CREATE_GVSV
PERL_MALLOC_WRAP
PERL_OP_PARENT
PERL_PRESERVE_IVUV
USE_64_BIT_ALL
USE_64_BIT_INT
USE_LARGE_FILES
USE_LOCALE
USE_LOCALE_COLLATE
USE_LOCALE_CTYPE
USE_LOCALE_NUMERIC
USE_LOCALE_TIME
USE_PERLIO
USE_PERL_ATOF
Locally applied patches:
RC1
Built under freebsd
Compiled at May 12 2019 16:15:23
%ENV:
PERL5LIB=""
PERL5OPT=""
PERL5_CPANPLUS_IS_RUNNING="28403"
PERL5_CPAN_IS_RUNNING="28403"
PERL5_CPAN_IS_RUNNING_IN_RECURSION="53892,28403"
PERLDOC="-MPod::Perldoc::ToTextOverstrike"
PERL_BATCH="yes"
PERL_CANARY_STABILITY_NOPROMPT="1"
PERL_CPAN_REPORTER_CONFIG="/var/tmp/cpansmoker-1023/2019051718/cpanreporter_002_config.ini"
PERL_EXTUTILS_AUTOINSTALL="--defaultdeps"
PERL_PARALLEL_SMOKER="yes"
PERL_USE_UNSAFE_INC="1"
@INC:
/usr/perl5.30.0-RC1p/lib/site_perl/5.30.0/amd64-freebsd
/usr/perl5.30.0-RC1p/lib/site_perl/5.30.0
/usr/perl5.30.0-RC1p/lib/5.30.0/amd64-freebsd
/usr/perl5.30.0-RC1p/lib/5.30.0
.