Email-Store-NamedEntity v1.3 Perl 5 v5.26.3 x86_64-linux-gnu

Status
Pass
From
Dist
Email-Store-NamedEntity v1.3
Platform
Perl 5 v5.26.3 x86_64-linux-gnu
Date
2019-06-25T01:17:27
ID
ff3854a6-96e6-11e9-9326-c00cc8533dc5
This distribution has been tested as part of the CPAN Testers
project, supporting the Perl programming language.  See
http://wiki.cpantesters.org/ for more information or email
questions to cpan-testers-discuss@perl.org


--
Dear SIMONW,

This is a computer-generated report for Email-Store-NamedEntity-1.3
on perl 5.26.3, created by App::cpanminus::reporter 0.17 (1.7044).

Thank you for uploading your work to CPAN.  Congratulations!
All tests were successful.

Sections of this report:

    * Tester comments
    * Program output
    * Prerequisites
    * Environment and other context

------------------------------
TESTER COMMENTS
------------------------------

Additional comments from tester:

none provided

------------------------------
PROGRAM OUTPUT
------------------------------

Output from '':

Running Build.PL
Checking prerequisites...
  requires:
    !  Email::Store is not installed
    !  Lingua::EN::NamedEntity is not installed

ERRORS/WARNINGS FOUND IN PREREQUISITES.  You may wish to install the versions
of the modules indicated above before proceeding with this installation

Created MYMETA.yml and MYMETA.json
Creating new 'Build' script for 'Email-Store-NamedEntity' version '1.3'
-> OK
Checking dependencies from MYMETA.json ...
Checking if you have Lingua::EN::NamedEntity 0 ... No
Checking if you have Email::Store 0 ... No
Checking if you have Test::More 0 ... Yes (1.302164)
Checking if you have File::Slurp 0 ... Yes (9999.27)
==> Found dependencies: Lingua::EN::NamedEntity, Email::Store
Searching Lingua::EN::NamedEntity (0) on cpanmetadb ...
--> Working on Lingua::EN::NamedEntity
Fetching http://www.cpan.org/authors/id/R/RU/RUNARB/Lingua-EN-NamedEntity-1.93.tar.gz
-> OK
Unpacking Lingua-EN-NamedEntity-1.93.tar.gz
Installing /usr/local/lib/perl5/site_perl/5.26.3/Lingua/EN/NamedEntity.pm
Installing /usr/local/lib/perl5/site_perl/5.26.3/Lingua/EN/NamedEntity/wordlist
Installing /usr/local/lib/perl5/site_perl/5.26.3/Lingua/EN/NamedEntity/forename
Appending installation info to /usr/local/lib/perl5/5.26.3/x86_64-linux-gnu/perllocal.pod
-> OK
Successfully installed Lingua-EN-NamedEntity-1.93
Installing /usr/local/lib/perl5/site_perl/5.26.3/x86_64-linux-gnu/.meta/Lingua-EN-NamedEntity-1.93/install.json
Installing /usr/local/lib/perl5/site_perl/5.26.3/x86_64-linux-gnu/.meta/Lingua-EN-NamedEntity-1.93/MYMETA.json
Already tried Email::Store. Skipping.
-> FAIL Installing the dependencies failed: Module 'Email::Store' is not installed
-> FAIL Bailing out the installation for Email-Store-NamedEntity-1.3.
Already tried Plucene. Skipping.
-> FAIL Installing the dependencies failed: Module 'Email::Store::HTML' is not installed, Module 'Email::Store' is not installed, Module 'Text::Decorator' is not installed, Module 'Email::Store::Summary' is not installed, Module 'Maypole::Redirect' is not installed, Module 'Email::Store::Plucene' is not installed, Module 'Email::Store::Thread' is not installed, Module 'Plucene' is not installed, Module 'Email::Store::NamedEntity' is not installed, Module 'URI::Find::Schemeless::Stricter' is not installed, Module 'Maypole::Cache' is not installed, Module 'Email::Store::Pristine' is not installed, Module 'Apache::MVC' is not installed
-> FAIL Bailing out the installation for Buscador-0.2.
Searching Reaction (0) on cpanmetadb ...
--> Working on Reaction
Fetching http://www.cpan.org/authors/id/A/AR/ARCANEZ/Reaction-0.002005.tar.gz
-> OK
Unpacking Reaction-0.002005.tar.gz
Failed 1/9 test programs. 1/604 subtests failed.
Makefile:1052: recipe for target 'test_dynamic' failed
make: *** [test_dynamic] Error 255
-> FAIL Installing Reaction failed. See /root/.cpanm/work/1561405092.6/build.log for details. Retry with --force to force install it.
Searching Foorum (0) on cpanmetadb ...
--> Working on Foorum
Fetching http://www.cpan.org/authors/id/F/FA/FAYLAND/Foorum-1.001000.tar.gz
-> OK
Unpacking Foorum-1.001000.tar.gz
make[1]: Leaving directory '/root/.cpanm/work/1561405092.6/Imager-1.011/TIFF'
make[1]: Entering directory '/root/.cpanm/work/1561405092.6/Imager-1.011/W32'
make[1]: Nothing to be done for 'test_dynamic'.
make[1]: Leaving directory '/root/.cpanm/work/1561405092.6/Imager-1.011/W32'
PERL_DL_NONLAZY=1 "/usr/local/bin/perl" "-MExtUtils::Command::MM" "-MTest::Harness" "-e" "undef *Test::Harness::Switches; test_harness(0, 'blib/lib', 'blib/arch')" t/*.t t/*/*.t
t/000-load.t .................... ok
t/100-base/010-introvert.t ...... ok
t/100-base/020-color.t .......... ok
t/100-base/030-countc.t ......... ok
t/100-base/800-tr18561.t ........ ok
t/100-base/801-tr18561b.t ....... ok
t/150-type/020-sixteen.t ........ ok
t/150-type/030-double.t ......... ok
t/150-type/040-palette.t ........ ok
t/150-type/100-masked.t ......... ok
t/200-file/010-iolayer.t ........ ok
t/200-file/100-files.t .......... ok
t/200-file/200-nojpeg.t ......... skipped: have jpeg support - this tests the lack of it
t/200-file/210-nopng.t .......... skipped: png available, and this tests the lack of it
t/200-file/220-nogif.t .......... ok
t/200-file/230-notiff.t ......... skipped: tiff support available - this tests the lack of it
t/200-file/300-raw.t ............ ok
t/200-file/310-pnm.t ............ ok
t/200-file/320-bmp.t ............ ok
t/200-file/330-tga.t ............ ok
t/200-file/400-basic.t .......... ok
t/200-file/450-preload.t ........ ok
t/250-draw/010-draw.t ........... ok
t/250-draw/020-flood.t .......... ok
t/250-draw/030-paste.t .......... ok
t/250-draw/040-rubthru.t ........ ok
t/250-draw/050-polyaa.t ......... ok
t/250-draw/060-polypoly.t ....... ok
t/250-draw/100-fill.t ........... ok
t/250-draw/200-compose.t ........ ok
t/300-transform/010-scale.t ..... ok
t/300-transform/020-combine.t ... ok
t/300-transform/030-copyflip.t .. ok
t/300-transform/040-crop.t ...... ok
t/300-transform/050-convert.t ... ok
t/300-transform/060-map.t ....... ok
t/300-transform/500-trans.t ..... skipped: No Affix::Infix2Postfix
t/300-transform/600-trans2.t .... ok
t/300-transform/610-postfix.t ... ok
t/300-transform/620-infix.t ..... ok
t/300-transform/630-assem.t ..... ok
t/350-font/010-font.t ........... ok
t/350-font/020-tt.t ............. ok
t/350-font/030-ttoo.t ........... ok
t/350-font/040-ttstd.t .......... skipped: No tt available
t/350-font/100-texttools.t ...... ok
t/400-filter/010-filters.t ...... ok
t/400-filter/020-autolevels.t ... ok
Inline version 0.83
t/450-api/100-inline.t .......... ok
t/450-api/110-inlinectx.t ....... ok
t/850-thread/010-base.t ......... skipped: can't test Imager's threads support with no threads
t/850-thread/100-error.t ........ skipped: can't test Imager's threads support with no threads
t/850-thread/110-log.t .......... skipped: can't test Imager's threads support with no threads
t/900-util/010-test.t ........... ok
t/900-util/020-error.t .......... ok
t/900-util/030-log.t ............ ok
t/900-util/040-limit.t .......... skipped: can't test Imager's threads support with no threads
t/900-util/050-matrix.t ......... ok
t/900-util/060-extutil.t ........ ok
t/900-util/060-hlines.t ......... ok
t/950-kwalitee/010-pod.t ........ skipped: POD only tested under automated or author testing
t/950-kwalitee/020-samples.t .... ok
t/950-kwalitee/030-podcover.t ... ok
t/950-kwalitee/040-strict.t ..... ok
t/950-kwalitee/050-meta.t ....... skipped: Only if automated or author testing
t/950-kwalitee/060-podstruct.t .. skipped: POD only tested under automated or author testing
t/950-kwalitee/070-mymeta.t ..... skipped: Only if automated or author testing
All tests successful.
Files=67, Tests=4626, 40 wallclock secs ( 1.17 usr  1.20 sys + 27.58 cusr  9.83 csys = 39.78 CPU)
Result: PASS

------------------------------
PREREQUISITES
------------------------------

Prerequisite modules loaded:

    No requirements found

------------------------------
ENVIRONMENT AND OTHER CONTEXT
------------------------------

Environment variables:

    PATH = /usr/local/sbin:/usr/local/bin:/usr/sbin:/usr/bin:/sbin:/bin
    PERL_CPAN_REPORTER_DIR = /etc/cpanm-reporter
    TERM = xterm

Perl special variables (and OS-specific diagnostics, for MSWin32):

    EGID = 0
    EUID = 0
    EXECUTABLE_NAME = /usr/local/bin/perl
    GID = 0
    UID = 0

Perl module toolchain versions installed:

    Module              Have      
    ------------------- ----------
    CPAN                2.18      
    CPAN::Meta          2.150010  
    Cwd                 3.67      
    ExtUtils::CBuilder  0.280225  
    ExtUtils::Command   7.24      
    ExtUtils::Install   2.04      
    ExtUtils::MakeMaker 7.24      
    ExtUtils::Manifest  1.70      
    ExtUtils::ParseXS   3.34      
    File::Spec          3.67      
    JSON                4.02      
    JSON::PP            2.27400_02
    Module::Build       0.4229    
    Module::Signature   n/a       
    Parse::CPAN::Meta   2.150010  
    Test::Harness       3.38      
    Test::More          1.302164  
    YAML                1.29      
    YAML::Syck          1.31      
    version             0.9917    


--

Summary of my perl5 (revision 5 version 26 subversion 3) configuration:
   
  Platform:
    osname=linux
    osvers=4.9.0-8-amd64
    archname=x86_64-linux-gnu
    uname='linux bd2491545afc 4.9.0-8-amd64 #1 smp debian 4.9.110-3+deb9u4 (2018-08-21) x86_64 gnulinux '
    config_args='-Darchname=x86_64-linux-gnu -Duse64bitall -Duseshrplib -Dvendorprefix=/usr/local -des'
    hint=recommended
    useposix=true
    d_sigaction=define
    useithreads=undef
    usemultiplicity=undef
    use64bitint=define
    use64bitall=define
    uselongdouble=undef
    usemymalloc=n
    default_inc_excludes_dot=define
    bincompat5005=undef
  Compiler:
    cc='cc'
    ccflags ='-fwrapv -fno-strict-aliasing -pipe -fstack-protector-strong -I/usr/local/include -D_LARGEFILE_SOURCE -D_FILE_OFFSET_BITS=64 -D_FORTIFY_SOURCE=2'
    optimize='-O2'
    cppflags='-fwrapv -fno-strict-aliasing -pipe -fstack-protector-strong -I/usr/local/include'
    ccversion=''
    gccversion='6.3.0 20170516'
    gccosandvers=''
    intsize=4
    longsize=8
    ptrsize=8
    doublesize=8
    byteorder=12345678
    doublekind=3
    d_longlong=define
    longlongsize=8
    d_longdbl=define
    longdblsize=16
    longdblkind=3
    ivtype='long'
    ivsize=8
    nvtype='double'
    nvsize=8
    Off_t='off_t'
    lseeksize=8
    alignbytes=8
    prototype=define
  Linker and Libraries:
    ld='cc'
    ldflags =' -fstack-protector-strong -L/usr/local/lib'
    libpth=/usr/local/lib /usr/lib/gcc/x86_64-linux-gnu/6/include-fixed /usr/include/x86_64-linux-gnu /usr/lib /lib/x86_64-linux-gnu /lib/../lib /usr/lib/x86_64-linux-gnu /usr/lib/../lib /lib
    libs=-lpthread -lnsl -lgdbm -ldb -ldl -lm -lcrypt -lutil -lc -lgdbm_compat
    perllibs=-lpthread -lnsl -ldl -lm -lcrypt -lutil -lc
    libc=libc-2.24.so
    so=so
    useshrplib=true
    libperl=libperl.so
    gnulibc_version='2.24'
  Dynamic Linking:
    dlsrc=dl_dlopen.xs
    dlext=so
    d_dlsymun=undef
    ccdlflags='-Wl,-E -Wl,-rpath,/usr/local/lib/perl5/5.26.3/x86_64-linux-gnu/CORE'
    cccdlflags='-fPIC'
    lddlflags='-shared -O2 -L/usr/local/lib -fstack-protector-strong'


Characteristics of this binary (from libperl): 
  Compile-time options:
    HAS_TIMES
    PERLIO_LAYERS
    PERL_COPY_ON_WRITE
    PERL_DONT_CREATE_GVSV
    PERL_MALLOC_WRAP
    PERL_OP_PARENT
    PERL_PRESERVE_IVUV
    USE_64_BIT_ALL
    USE_64_BIT_INT
    USE_LARGE_FILES
    USE_LOCALE
    USE_LOCALE_COLLATE
    USE_LOCALE_CTYPE
    USE_LOCALE_NUMERIC
    USE_LOCALE_TIME
    USE_PERLIO
    USE_PERL_ATOF
  Built under linux
  Compiled at May  8 2019 04:07:02
  %ENV:
    PERL_CPAN_REPORTER_DIR="/etc/cpanm-reporter"
  @INC:
    /usr/local/lib/perl5/site_perl/5.26.3/x86_64-linux-gnu
    /usr/local/lib/perl5/site_perl/5.26.3
    /usr/local/lib/perl5/vendor_perl/5.26.3/x86_64-linux-gnu
    /usr/local/lib/perl5/vendor_perl/5.26.3
    /usr/local/lib/perl5/5.26.3/x86_64-linux-gnu
    /usr/local/lib/perl5/5.26.3