Report for Statistics-R-IO-0.101

Back
From: metabase:user:31d414ea-2aae-11df-837a-5e0a49663a4f
Subject: PASS Statistics-R-IO-0.101 v5.14.4 GNU/Linux
Date: 2015-01-22T13:53:08Z

This distribution has been tested as part of the CPAN Testers
project, supporting the Perl programming language.  See
http://wiki.cpantesters.org/ for more information or email
questions to cpan-testers-discuss@perl.org


--
Dear Davor Cubranic,

This is a computer-generated report for Statistics-R-IO-0.101
on perl 5.14.4, created by CPAN-Reporter-1.2009.

Thank you for uploading your work to CPAN.  Congratulations!
All tests were successful.

Sections of this report:

    * Tester comments
    * Program output
    * Prerequisites
    * Environment and other context

------------------------------
TESTER COMMENTS
------------------------------

Additional comments from tester:

this report is from an automated smoke testing program
and was not reviewed by a human for accuracy

------------------------------
PROGRAM OUTPUT
------------------------------

Output from '/usr/bin/make test':

Skip blib/lib/auto/share/dist/Statistics-R-IO/WebWork/RserveClient.pl (unchanged)
PERL_DL_NONLAZY=1 "/home/david/cpantesting/perl-5.14.4/bin/perl" "-MExtUtils::Command::MM" "-MTest::Harness" "-e" "undef *Test::Harness::Switches; test_harness(0, 'blib/lib', 'blib/arch')" t/*.t
t/io-oo-rdata.t ................ ok
t/io-oo-rds.t .................. ok
t/io-oo-rserve-eval-live.t ..... skipped: Cannot connect to Rserve server at localhost:6311
t/io-oo-rserve-eval-mock.t ..... ok
t/io-oo-rserve-getfile-live.t .. skipped: Cannot connect to Rserve server at localhost:6311
t/io-oo-rserve-sereval-live.t .. skipped: Cannot connect to Rserve server at localhost:6311
t/io-oo-rserve-sereval-mock.t .. ok
t/io-parser.t .................. ok
t/io-parserstate.t ............. ok
t/io-qap.t ..................... ok
t/io-rdata.t ................... ok
t/io-rds.t ..................... ok
t/io-rserve-eval.t ............. skipped: Cannot connect to Rserve server at localhost:6311
t/io-rserve.t .................. ok
t/io-unserialize.t ............. ok
t/release-pod-coverage.t ....... skipped: these tests are for release candidate testing
t/release-pod-syntax.t ......... skipped: these tests are for release candidate testing
t/rexp-baseenvironment.t ....... ok
t/rexp-character.t ............. ok
t/rexp-closure.t ............... ok
t/rexp-complex.t ............... ok
t/rexp-double.t ................ ok
t/rexp-emptyenvironment.t ...... ok
t/rexp-environment.t ........... ok
t/rexp-expression.t ............ ok
t/rexp-globalenvironment.t ..... ok
t/rexp-integer.t ............... ok
t/rexp-language.t .............. ok
t/rexp-list.t .................. ok
t/rexp-logical.t ............... ok
t/rexp-null.t .................. ok
t/rexp-raw.t ................... ok
t/rexp-symbol.t ................ ok
t/rexp-vector.t ................ ok
t/rexp.t ....................... ok
All tests successful.
Files=35, Tests=787, 18 wallclock secs ( 0.28 usr  0.22 sys + 15.66 cusr  1.03 csys = 17.19 CPU)
Result: PASS

------------------------------
PREREQUISITES
------------------------------

Prerequisite modules loaded:

requires:

    Module                    Need Have      
    ------------------------- ---- ----------
    Carp                      0    1.3301    
    Math::Complex             0    1.56      
    Moose                     2.0  2.1403    
    namespace::clean          0.24 0.25      
    Scalar::Util              0    1.41      

build_requires:

    Module                    Need Have      
    ------------------------- ---- ----------
    Test::Fatal               0    0.014     
    Test::MockObject          0    1.20140408
    Test::MockObject::Extends 0    1.20140408
    Test::More                0.96 1.001014  

configure_requires:

    Module                    Need Have      
    ------------------------- ---- ----------
    ExtUtils::MakeMaker       6.30 7.04      
    File::ShareDir::Install   0.03 0.10      


------------------------------
ENVIRONMENT AND OTHER CONTEXT
------------------------------

Environment variables:

    AUTOMATED_TESTING = 1
    PATH = /usr/local/bin:/usr/bin:/bin:/usr/games
    PERL = 5.14.4
    PERL5LIB = 
    PERL5OPT = 
    PERL5_CPANPLUS_IS_RUNNING = 361
    PERL5_CPAN_IS_RUNNING = 361
    PERLVER = 5.14.4
    PERL_INLINE_DIRECTORY = /home/david/.Inline-5.14.4
    PERL_MM_USE_DEFAULT = 1
    SHELL = /bin/bash
    TERM = screen

Perl special variables (and OS-specific diagnostics, for MSWin32):

    $^X = /home/david/cpantesting/perl-5.14.4/bin/perl
    $UID/$EUID = 1000 / 1000
    $GID = 1000 1000
    $EGID = 1000 1000

Perl module toolchain versions installed:

    Module              Have     
    ------------------- ---------
    CPAN                1.9600_01
    CPAN::Meta          2.143240 
    Cwd                 3.47     
    ExtUtils::CBuilder  0.280203 
    ExtUtils::Command   1.17     
    ExtUtils::Install   1.56     
    ExtUtils::MakeMaker 7.04     
    ExtUtils::Manifest  1.70     
    ExtUtils::ParseXS   3.24     
    File::Spec          3.47     
    JSON                2.90     
    JSON::PP            2.27203  
    Module::Build       0.4211   
    Module::Signature   n/a      
    Parse::CPAN::Meta   1.4414   
    Test::Harness       3.35     
    Test::More          1.001014 
    YAML                1.14     
    YAML::Syck          n/a      
    version             0.88     


--

Summary of my perl5 (revision 5 version 14 subversion 4) configuration:
   
  Platform:
    osname=linux, osvers=3.2.0-4-amd64, archname=x86_64-linux-thread-multi
    uname='linux pigsty.barnyard.co.uk 3.2.0-4-amd64 #1 smp debian 3.2.35-2 x86_64 gnulinux '
    config_args='-de -Dprefix=/home/david/cpantesting/perl-5.14.4 -Dusethreads -Duse64bitall'
    hint=recommended, useposix=true, d_sigaction=define
    useithreads=define, usemultiplicity=define
    useperlio=define, d_sfio=undef, uselargefiles=define, usesocks=undef
    use64bitint=define, use64bitall=define, uselongdouble=undef
    usemymalloc=n, bincompat5005=undef
  Compiler:
    cc='cc', ccflags ='-D_REENTRANT -D_GNU_SOURCE -fno-strict-aliasing -pipe -fstack-protector -I/usr/local/include -D_LARGEFILE_SOURCE -D_FILE_OFFSET_BITS=64',
    optimize='-O2',
    cppflags='-D_REENTRANT -D_GNU_SOURCE -fno-strict-aliasing -pipe -fstack-protector -I/usr/local/include'
    ccversion='', gccversion='4.1.2 20061115 (prerelease) (Debian 4.1.1-21)', gccosandvers=''
    intsize=4, longsize=8, ptrsize=8, doublesize=8, byteorder=12345678
    d_longlong=define, longlongsize=8, d_longdbl=define, longdblsize=16
    ivtype='long', ivsize=8, nvtype='double', nvsize=8, Off_t='off_t', lseeksize=8
    alignbytes=8, prototype=define
  Linker and Libraries:
    ld='cc', ldflags =' -fstack-protector -L/usr/local/lib'
    libpth=/usr/local/lib /lib /usr/lib /lib64 /usr/lib64
    libs=-lnsl -lgdbm -ldb -ldl -lm -lcrypt -lutil -lpthread -lc -lgdbm_compat
    perllibs=-lnsl -ldl -lm -lcrypt -lutil -lpthread -lc
    libc=/lib/libc-2.3.6.so, so=so, useshrplib=false, libperl=libperl.a
    gnulibc_version='2.3.6'
  Dynamic Linking:
    dlsrc=dl_dlopen.xs, dlext=so, d_dlsymun=undef, ccdlflags='-Wl,-E'
    cccdlflags='-fPIC', lddlflags='-shared -O2 -L/usr/local/lib -fstack-protector'


Characteristics of this binary (from libperl): 
  Compile-time options: MULTIPLICITY PERL_DONT_CREATE_GVSV
                        PERL_IMPLICIT_CONTEXT PERL_MALLOC_WRAP
                        PERL_PRESERVE_IVUV USE_64_BIT_ALL USE_64_BIT_INT
                        USE_ITHREADS USE_LARGE_FILES USE_PERLIO USE_PERL_ATOF
                        USE_REENTRANT_API
  Built under linux
  Compiled at Mar 22 2013 21:25:13
  %ENV:
    PERL="5.14.4"
    PERL5LIB=""
    PERL5OPT=""
    PERL5_CPANPLUS_IS_RUNNING="361"
    PERL5_CPAN_IS_RUNNING="361"
    PERLVER="5.14.4"
    PERL_INLINE_DIRECTORY="/home/david/.Inline-5.14.4"
    PERL_MM_USE_DEFAULT="1"
  @INC:
    /home/david/cpantesting/perl-5.14.4/lib/site_perl/5.14.4/x86_64-linux-thread-multi
    /home/david/cpantesting/perl-5.14.4/lib/site_perl/5.14.4
    /home/david/cpantesting/perl-5.14.4/lib/5.14.4/x86_64-linux-thread-multi
    /home/david/cpantesting/perl-5.14.4/lib/5.14.4
    .