Mastodon-Client v0.013 Perl 5 v5.10.1 x86_64-linux

Status
Pass
From
Slaven Rezić (SREZIC)
Dist
Mastodon-Client v0.013
Platform
Perl 5 v5.10.1 x86_64-linux
Date
2018-01-22 00:12:56
ID
ff7cf8f8-ff08-11e7-943f-9e5a3f5a6b05
This distribution has been tested as part of the CPAN Testers
project, supporting the Perl programming language.  See
http://wiki.cpantesters.org/ for more information or email
questions to cpan-testers-discuss@perl.org


--
Dear Jose Joaquin Atria,

This is a computer-generated report for Mastodon-Client-0.013
on perl 5.10.1, created by CPAN-Reporter-1.2018.

Thank you for uploading your work to CPAN.  Congratulations!
All tests were successful.

Sections of this report:

    * Tester comments
    * Program output
    * Prerequisites
    * Environment and other context

------------------------------
TESTER COMMENTS
------------------------------

Additional comments from tester:

none provided

------------------------------
PROGRAM OUTPUT
------------------------------

Output from 'make test':

PERL_DL_NONLAZY=1 "/opt/perl-5.10.1/bin/perl" "-MExtUtils::Command::MM" "-MTest::Harness" "-e" "undef *Test::Harness::Switches; test_harness(0, 'blib/lib', 'blib/arch')" t/*.t
t/00_basic.t ............ ok
t/01_entities.t ......... ok
t/02_entity_coercion.t .. ok
t/05_authorize.t ........ ok
t/10_tcp.t .............. ok
t/author-pod-syntax.t ... skipped: these tests are for testing by the author
All tests successful.
Files=6, Tests=168,  2 wallclock secs ( 0.02 usr  0.02 sys +  1.27 cusr  0.34 csys =  1.65 CPU)
Result: PASS

------------------------------
PREREQUISITES
------------------------------

Prerequisite modules loaded:

requires:

    Module                      Need     Have    
    --------------------------- -------- --------
    Carp                        0        1.38    
    Class::Load                 0        0.24    
    Data::Dumper                0        2.161   
    DateTime                    0        1.44    
    DateTime::Format::Strptime  1.73     1.73    
    Encode                      0        2.93    
    Future                      0.35     0.38    
    HTTP::Request::Common       0        6.13    
    Image::Info                 0        1.41    
    IO::Async::Loop             0.66     0.71    
    JSON::MaybeXS               1.003009 1.003009
    List::Util                  1.47     1.49    
    Log::Any                    1.049    1.703   
    LWP::UserAgent              6.25     6.27    
    MIME::Base64                0        3.15    
    Moo                         2.003002 2.003002
    Moo::Role                   0        2.003002
    Net::Async::HTTP            0.41     0.41    
    Path::Tiny                  0        0.104   
    perl                        5.010    5.010001
    Role::EventEmitter          0.002    0.002   
    strict                      0        1.04    
    Try::Tiny                   0.28     0.30    
    Type::Library               0        1.002001
    Type::Params                1.000006 1.002001
    Type::Utils                 0        1.002001
    Types::Common::String       1.000006 1.002001
    Types::Path::Tiny           0.005    0.005   
    Types::Standard             1.000006 1.002001
    URI                         1.71     1.71    
    URI::QueryParam             0        1.71    
    warnings                    0        1.06    

build_requires:

    Module                      Need     Have    
    --------------------------- -------- --------
    Config::Tiny                0        2.23    
    diagnostics                 0        1.17    
    ExtUtils::MakeMaker         0        7.30    
    HTML::FormatText::WithLinks 0        0.15    
    lib                         0        0.62    
    Lingua::EN::Inflexion       0        0.001006
    Log::Any::Adapter           0        1.703   
    parent                      0        0.236   
    Plack                       1.0043   1.0044  
    Plack::Component            0        0       
    Plack::Runner               0        0       
    Plack::Util                 0        0       
    Term::ANSIColor             0        4.06    
    Test::Exception             0.043    0.43    
    Test::More                  1.302078 1.302120
    Test::Pod                   1.51     1.51    
    Test::TCP                   2.17     2.19    
    Test::Warnings              0.026    0.026   

configure_requires:

    Module                      Need     Have    
    --------------------------- -------- --------
    ExtUtils::MakeMaker         0        7.30    
    perl                        v5.10.0  5.010001


------------------------------
ENVIRONMENT AND OTHER CONTEXT
------------------------------

Environment variables:

    LANG = en_US.UTF-8
    PATH = /usr/local/bin:/usr/bin:/bin:/usr/local/sbin:/usr/sbin:/sbin:/home/cpansand/bin/linux-gnu:/home/cpansand/bin/sh:/home/cpansand/bin:/usr/games:/home/cpansand/devel:/home/eserte/src/srezic-misc/scripts
    PERL5LIB = /home/cpansand/.cpan/build/2018012121/Role-EventEmitter-0.002-0/blib/arch:/home/cpansand/.cpan/build/2018012121/Role-EventEmitter-0.002-0/blib/lib:/home/cpansand/.cpan/build/2018012121/Lingua-EN-Inflexion-0.001006-0/blib/arch:/home/cpansand/.cpan/build/2018012121/Lingua-EN-Inflexion-0.001006-0/blib/lib:/home/cpansand/.cpan/build/2018012121/Lingua-EN-Nums2Words-1.16-0/blib/arch:/home/cpansand/.cpan/build/2018012121/Lingua-EN-Nums2Words-1.16-0/blib/lib:/home/cpansand/.cpan/build/2018012121/HTML-FormatText-WithLinks-0.15-0/blib/arch:/home/cpansand/.cpan/build/2018012121/HTML-FormatText-WithLinks-0.15-0/blib/lib:/home/cpansand/.cpan/build/2018012121/HTML-Formatter-2.16-0/blib/arch:/home/cpansand/.cpan/build/2018012121/HTML-Formatter-2.16-0/blib/lib:/home/cpansand/.cpan/build/2018012121/Font-AFM-1.20-0/blib/arch:/home/cpansand/.cpan/build/2018012121/Font-AFM-1.20-0/blib/lib
    PERL5OPT = 
    PERL5_CPANPLUS_IS_RUNNING = 4379
    PERL5_CPAN_IS_RUNNING = 4379
    PERL5_CPAN_IS_RUNNING_IN_RECURSION = 4252,4379
    PERLDOC = -MPod::Perldoc::ToTextOverstrike
    PERL_BATCH = yes
    PERL_CANARY_STABILITY_NOPROMPT = 1
    PERL_CPAN_REPORTER_CONFIG = /var/tmp/cpansmoker-1023/2018012121/cpanreporter_002_config.ini
    PERL_EXTUTILS_AUTOINSTALL = --defaultdeps
    SHELL = /bin/zsh
    TERM = screen
    TMPDIR = /var/tmp/cpansmoker-1023/2018012121

Perl special variables (and OS-specific diagnostics, for MSWin32):

    $^X = /opt/perl-5.10.1/bin/perl
    $UID/$EUID = 1023 / 1023
    $GID = 1023 1023
    $EGID = 1023 1023

Perl module toolchain versions installed:

    Module              Have    
    ------------------- --------
    CPAN                2.16    
    CPAN::Meta          2.150010
    Cwd                 3.62    
    ExtUtils::CBuilder  0.280230
    ExtUtils::Command   7.30    
    ExtUtils::Install   2.06    
    ExtUtils::MakeMaker 7.30    
    ExtUtils::Manifest  1.70    
    ExtUtils::ParseXS   3.30    
    File::Spec          3.62    
    JSON                2.97001 
    JSON::PP            2.97001 
    Module::Build       0.4224  
    Module::Signature   0.81    
    Parse::CPAN::Meta   2.150010
    Test::Harness       3.39    
    Test::More          1.302120
    YAML                1.23    
    YAML::Syck          1.30    
    version             0.9918  


--

Summary of my perl5 (revision 5 version 10 subversion 1) configuration:
   
  Platform:
    osname=linux, osvers=2.6.32-696.3.1.el6.x86_64, archname=x86_64-linux
    uname='linux centos6 2.6.32-696.3.1.el6.x86_64 #1 smp tue may 30 19:52:55 utc 2017 x86_64 x86_64 x86_64 gnulinux '
    config_args='-ds -e -Dprefix=/opt/perl-5.10.1 -Dcf_email=srezic@cpan.org'
    hint=recommended, useposix=true, d_sigaction=define
    useithreads=undef, usemultiplicity=undef
    useperlio=define, d_sfio=undef, uselargefiles=define, usesocks=undef
    use64bitint=define, use64bitall=define, uselongdouble=undef
    usemymalloc=n, bincompat5005=undef
  Compiler:
    cc='cc', ccflags ='-fno-strict-aliasing -pipe -fstack-protector -I/usr/local/include -D_LARGEFILE_SOURCE -D_FILE_OFFSET_BITS=64',
    optimize='-O2',
    cppflags='-fno-strict-aliasing -pipe -fstack-protector -I/usr/local/include'
    ccversion='', gccversion='4.4.7 20120313 (Red Hat 4.4.7-18)', gccosandvers=''
    intsize=4, longsize=8, ptrsize=8, doublesize=8, byteorder=12345678
    d_longlong=define, longlongsize=8, d_longdbl=define, longdblsize=16
    ivtype='long', ivsize=8, nvtype='double', nvsize=8, Off_t='off_t', lseeksize=8
    alignbytes=8, prototype=define
  Linker and Libraries:
    ld='cc', ldflags =' -fstack-protector -L/usr/local/lib'
    libpth=/usr/local/lib /lib /usr/lib /lib64 /usr/lib64 /usr/local/lib64
    libs=-lnsl -lgdbm -ldb -ldl -lm -lcrypt -lutil -lc
    perllibs=-lnsl -ldl -lm -lcrypt -lutil -lc
    libc=, so=so, useshrplib=false, libperl=libperl.a
    gnulibc_version='2.12'
  Dynamic Linking:
    dlsrc=dl_dlopen.xs, dlext=so, d_dlsymun=undef, ccdlflags='-Wl,-E'
    cccdlflags='-fPIC', lddlflags='-shared -O2 -L/usr/local/lib -fstack-protector'


Characteristics of this binary (from libperl): 
  Compile-time options: PERL_DONT_CREATE_GVSV PERL_MALLOC_WRAP USE_64_BIT_ALL
                        USE_64_BIT_INT USE_LARGE_FILES USE_PERLIO
  Built under linux
  Compiled at Jun 24 2017 10:30:21
  %ENV:
    PERL5LIB="/home/cpansand/.cpan/build/2018012121/Role-EventEmitter-0.002-0/blib/arch:/home/cpansand/.cpan/build/2018012121/Role-EventEmitter-0.002-0/blib/lib:/home/cpansand/.cpan/build/2018012121/Lingua-EN-Inflexion-0.001006-0/blib/arch:/home/cpansand/.cpan/build/2018012121/Lingua-EN-Inflexion-0.001006-0/blib/lib:/home/cpansand/.cpan/build/2018012121/Lingua-EN-Nums2Words-1.16-0/blib/arch:/home/cpansand/.cpan/build/2018012121/Lingua-EN-Nums2Words-1.16-0/blib/lib:/home/cpansand/.cpan/build/2018012121/HTML-FormatText-WithLinks-0.15-0/blib/arch:/home/cpansand/.cpan/build/2018012121/HTML-FormatText-WithLinks-0.15-0/blib/lib:/home/cpansand/.cpan/build/2018012121/HTML-Formatter-2.16-0/blib/arch:/home/cpansand/.cpan/build/2018012121/HTML-Formatter-2.16-0/blib/lib:/home/cpansand/.cpan/build/2018012121/Font-AFM-1.20-0/blib/arch:/home/cpansand/.cpan/build/2018012121/Font-AFM-1.20-0/blib/lib"
    PERL5OPT=""
    PERL5_CPANPLUS_IS_RUNNING="4379"
    PERL5_CPAN_IS_RUNNING="4379"
    PERL5_CPAN_IS_RUNNING_IN_RECURSION="4252,4379"
    PERLDOC="-MPod::Perldoc::ToTextOverstrike"
    PERL_BATCH="yes"
    PERL_CANARY_STABILITY_NOPROMPT="1"
    PERL_CPAN_REPORTER_CONFIG="/var/tmp/cpansmoker-1023/2018012121/cpanreporter_002_config.ini"
    PERL_EXTUTILS_AUTOINSTALL="--defaultdeps"
  @INC:
    /home/cpansand/.cpan/build/2018012121/Role-EventEmitter-0.002-0/blib/arch
    /home/cpansand/.cpan/build/2018012121/Role-EventEmitter-0.002-0/blib/lib
    /home/cpansand/.cpan/build/2018012121/Lingua-EN-Inflexion-0.001006-0/blib/arch
    /home/cpansand/.cpan/build/2018012121/Lingua-EN-Inflexion-0.001006-0/blib/lib
    /home/cpansand/.cpan/build/2018012121/Lingua-EN-Nums2Words-1.16-0/blib/arch
    /home/cpansand/.cpan/build/2018012121/Lingua-EN-Nums2Words-1.16-0/blib/lib
    /home/cpansand/.cpan/build/2018012121/HTML-FormatText-WithLinks-0.15-0/blib/arch
    /home/cpansand/.cpan/build/2018012121/HTML-FormatText-WithLinks-0.15-0/blib/lib
    /home/cpansand/.cpan/build/2018012121/HTML-Formatter-2.16-0/blib/arch
    /home/cpansand/.cpan/build/2018012121/HTML-Formatter-2.16-0/blib/lib
    /home/cpansand/.cpan/build/2018012121/Font-AFM-1.20-0/blib/arch
    /home/cpansand/.cpan/build/2018012121/Font-AFM-1.20-0/blib/lib
    /opt/perl-5.10.1/lib/5.10.1/x86_64-linux
    /opt/perl-5.10.1/lib/5.10.1
    /opt/perl-5.10.1/lib/site_perl/5.10.1/x86_64-linux
    /opt/perl-5.10.1/lib/site_perl/5.10.1
    .