Report for POE-Loop-Glib-0.038

Back
From: metabase:user:314402c4-2aae-11df-837a-5e0a49663a4f
Subject: PASS POE-Loop-Glib-0.038 v5.24.1 GNU/Linux
Date: 2017-02-02T08:02:53Z

This distribution has been tested as part of the CPAN Testers
project, supporting the Perl programming language.  See
http://wiki.cpantesters.org/ for more information or email
questions to cpan-testers-discuss@perl.org


--
Dear Apocalypse,

This is a computer-generated report for POE-Loop-Glib-0.038
on perl 5.24.1, created by CPAN-Reporter-1.2018.

Thank you for uploading your work to CPAN.  Congratulations!
All tests were successful.

Sections of this report:

    * Tester comments
    * Program output
    * Prerequisites
    * Environment and other context

------------------------------
TESTER COMMENTS
------------------------------

Additional comments from tester:

none provided

------------------------------
PROGRAM OUTPUT
------------------------------

Output from './Build test':

t/1_load.t ............................. ok
t/apocalypse.t ......................... skipped: Test::Apocalypse required for validating the distribution
# Testing POE 1.367, POE::Test::Loops 1.360, Using Loop(POE::Loop::Glib), Perl 5.024001, /opt/perl-5.24.1/bin/perl5.24.1 on linux
t/glib/00_info.t ....................... ok
t/glib/all_errors.t .................... skipped: most of these should move into other test files
t/glib/comp_tcp.t ...................... ok
# You might see a 'disconnect' error during this test.
# It may be ignored.
t/glib/comp_tcp_concurrent.t ........... ok
t/glib/connect_errors.t ................ ok
t/glib/k_alarms.t ...................... ok
t/glib/k_aliases.t ..................... ok
t/glib/k_detach.t ...................... ok
t/glib/k_run_returns.t ................. ok
t/glib/k_selects.t ..................... ok
t/glib/k_sig_child.t ................... ok
t/glib/k_signals.t ..................... ok
t/glib/k_signals_rerun.t ............... ok
t/glib/sbk_signal_init.t ............... ok
t/glib/ses_nfa.t ....................... ok
# This test generates some STDERR during trace testing.
=== 8764 === 23 -> _start (from /opt/perl-5.24.1/lib/site_perl/5.24.1/POE/Kernel.pm at 1497)
=== 8764 === 23 -> woot (from /opt/perl-5.24.1/lib/site_perl/5.24.1/POE/Test/Loops/ses_session.pm at 691)
=== 8764 === 23 -> narf (from /opt/perl-5.24.1/lib/site_perl/5.24.1/POE/Test/Loops/ses_session.pm at 692)
=== 8764 === 23 -> _stop (from /opt/perl-5.24.1/lib/site_perl/5.24.1/POE/Resource/Sessions.pm at 571)
t/glib/ses_session.t ................... ok
t/glib/wheel_accept.t .................. ok
t/glib/wheel_curses.t .................. skipped: Need help with Curses functions blocking under ptys
t/glib/wheel_readline.t ................ ok
t/glib/wheel_readwrite.t ............... ok
t/glib/wheel_run.t ..................... ok
t/glib/wheel_run_size.t ................ ok
t/glib/wheel_sf_ipv6.t ................. skipped: Socket::GetAddrInfo is needed for IPv6 tests
t/glib/wheel_sf_tcp.t .................. ok
t/glib/wheel_sf_udp.t .................. ok
t/glib/wheel_sf_unix.t ................. ok
t/glib/wheel_tail.t .................... ok
t/glib/z_kogman_sig_order.t ............ ok
t/glib/z_leolo_wheel_run.t ............. ok
# Using '/bin/true' as our thing to run under system()
t/glib/z_merijn_sigchld_system.t ....... ok
t/glib/z_rt39872_sigchld.t ............. ok
# Parent 8808 waiting 3sec for slow systems to settle.
# sending sigusr1
# sent sigusr1
t/glib/z_rt39872_sigchld_stop.t ........ ok
t/glib/z_rt53302_fh_watchers.t ......... ok
t/glib/z_rt54319_bazerka_followtail.t .. ok
t/glib/z_steinert_signal_integrity.t ... ok
All tests successful.
Files=37, Tests=491, 34 wallclock secs ( 0.25 usr  0.09 sys + 27.26 cusr  2.85 csys = 30.45 CPU)
Result: PASS

------------------------------
PREREQUISITES
------------------------------

Prerequisite modules loaded:

requires:

    Module           Need  Have    
    ---------------- ----- --------
    Glib             1.222 1.324   
    perl             5.006 5.024001
    POE              1.288 1.367   

configure_requires:

    Module           Need  Have    
    ---------------- ----- --------
    Module::Build    0.36  0.4220  
    POE::Test::Loops 1.034 1.360   


------------------------------
ENVIRONMENT AND OTHER CONTEXT
------------------------------

Environment variables:

    LANG = de_DE.utf8
    LANGUAGE = de_DE.utf8
    LC_ALL = de_DE.utf8
    PATH = /usr/local/bin:/usr/bin:/bin:/usr/local/sbin:/usr/sbin:/sbin:/home/cpansand/bin/linux-gnu:/home/cpansand/bin/sh:/home/cpansand/bin:/usr/games:/home/cpansand/devel:/home/eserte/src/srezic-misc/scripts
    PERL5LIB = 
    PERL5OPT = 
    PERL5_CPANPLUS_IS_RUNNING = 5259
    PERL5_CPAN_IS_RUNNING = 5259
    PERL5_CPAN_IS_RUNNING_IN_RECURSION = 14760,5259
    PERLDOC = -MPod::Perldoc::ToTextOverstrike
    PERL_BATCH = yes
    PERL_CANARY_STABILITY_NOPROMPT = 1
    PERL_CPAN_REPORTER_CONFIG = /var/tmp/cpansmoker-1001/2017020115/cpanreporter_000_config.ini
    PERL_EXTUTILS_AUTOINSTALL = --defaultdeps
    SHELL = /bin/zsh
    TERM = screen
    TMPDIR = /var/tmp/cpansmoker-1001/2017020115

Perl special variables (and OS-specific diagnostics, for MSWin32):

    $^X = /opt/perl-5.24.1/bin/perl5.24.1
    $UID/$EUID = 1001 / 1001
    $GID = 1001 1001
    $EGID = 1001 1001

Perl module toolchain versions installed:

    Module              Have    
    ------------------- --------
    CPAN                2.14    
    CPAN::Meta          2.150010
    Cwd                 3.62    
    ExtUtils::CBuilder  0.280224
    ExtUtils::Command   7.24    
    ExtUtils::Install   2.04    
    ExtUtils::MakeMaker 7.24    
    ExtUtils::Manifest  1.70    
    ExtUtils::ParseXS   3.30    
    File::Spec          3.62    
    JSON                2.90    
    JSON::PP            2.27400 
    Module::Build       0.4220  
    Module::Signature   0.81    
    Parse::CPAN::Meta   2.150010
    Test::Harness       3.36    
    Test::More          1.302075
    YAML                1.21    
    YAML::Syck          1.29    
    version             0.9917  


--

Summary of my perl5 (revision 5 version 24 subversion 1) configuration:
   
  Platform:
    osname=linux, osvers=3.10.0-042stab120.6, archname=x86_64-linux
    uname='linux h1980015.stratoserver.net 3.10.0-042stab120.6 #1 smp thu oct 27 16:59:03 msk 2016 x86_64 x86_64 x86_64 gnulinux '
    config_args='-ds -e -Dprefix=/opt/perl-5.24.1 -Dcf_email=srezic@cpan.org'
    hint=previous, useposix=true, d_sigaction=define
    useithreads=undef, usemultiplicity=undef
    use64bitint=define, use64bitall=define, uselongdouble=undef
    usemymalloc=n, bincompat5005=undef
  Compiler:
    cc='cc', ccflags ='-fwrapv -fno-strict-aliasing -pipe -fstack-protector-strong -I/usr/local/include -D_LARGEFILE_SOURCE -D_FILE_OFFSET_BITS=64 -D_FORTIFY_SOURCE=2',
    optimize='-O2',
    cppflags='-fwrapv -fno-strict-aliasing -pipe -fstack-protector-strong -I/usr/local/include'
    ccversion='', gccversion='4.8.5 20150623 (Red Hat 4.8.5-11)', gccosandvers=''
    intsize=4, longsize=8, ptrsize=8, doublesize=8, byteorder=12345678, doublekind=3
    d_longlong=define, longlongsize=8, d_longdbl=define, longdblsize=16, longdblkind=3
    ivtype='long', ivsize=8, nvtype='double', nvsize=8, Off_t='off_t', lseeksize=8
    alignbytes=8, prototype=define
  Linker and Libraries:
    ld='cc', ldflags =' -fstack-protector-strong -L/usr/local/lib'
    libpth=/usr/local/lib /usr/lib /lib/../lib64 /usr/lib/../lib64 /lib /lib64 /usr/lib64 /usr/local/lib64 /usr/local/lib /usr/lib
    libs=-lpthread -lnsl -lgdbm -ldb -ldl -lm -lcrypt -lutil -lc -lgdbm_compat
    perllibs=-lpthread -lnsl -ldl -lm -lcrypt -lutil -lc
    libc=libc-2.17.so, so=so, useshrplib=false, libperl=libperl.a
    gnulibc_version='2.17'
  Dynamic Linking:
    dlsrc=dl_dlopen.xs, dlext=so, d_dlsymun=undef, ccdlflags='-Wl,-E'
    cccdlflags='-fPIC', lddlflags='-shared -O2 -L/usr/local/lib -fstack-protector-strong'


Characteristics of this binary (from libperl): 
  Compile-time options: HAS_TIMES PERLIO_LAYERS PERL_COPY_ON_WRITE
                        PERL_DONT_CREATE_GVSV
                        PERL_HASH_FUNC_ONE_AT_A_TIME_HARD PERL_MALLOC_WRAP
                        PERL_PRESERVE_IVUV USE_64_BIT_ALL USE_64_BIT_INT
                        USE_LARGE_FILES USE_LOCALE USE_LOCALE_COLLATE
                        USE_LOCALE_CTYPE USE_LOCALE_NUMERIC USE_LOCALE_TIME
                        USE_PERLIO USE_PERL_ATOF
  Built under linux
  Compiled at Jan 21 2017 20:32:30
  %ENV:
    PERL5LIB=""
    PERL5OPT=""
    PERL5_CPANPLUS_IS_RUNNING="5259"
    PERL5_CPAN_IS_RUNNING="5259"
    PERL5_CPAN_IS_RUNNING_IN_RECURSION="14760,5259"
    PERLDOC="-MPod::Perldoc::ToTextOverstrike"
    PERL_BATCH="yes"
    PERL_CANARY_STABILITY_NOPROMPT="1"
    PERL_CPAN_REPORTER_CONFIG="/var/tmp/cpansmoker-1001/2017020115/cpanreporter_000_config.ini"
    PERL_EXTUTILS_AUTOINSTALL="--defaultdeps"
  @INC:
    /opt/perl-5.24.1/lib/site_perl/5.24.1/x86_64-linux
    /opt/perl-5.24.1/lib/site_perl/5.24.1
    /opt/perl-5.24.1/lib/5.24.1/x86_64-linux
    /opt/perl-5.24.1/lib/5.24.1
    .