Test2-Tools-LoadModule v0.008 Perl 5 v5.42.0 aarch64-freebsd-thread-multi
        
            - Status
- Pass
- From
- Slaven Rezić
- Dist
- 
                Test2-Tools-LoadModule v0.008
            
- Platform
- Perl 5 v5.42.0 aarch64-freebsd-thread-multi
- Date
- 2025-09-21 21:36:13
- ID
- ff8b86a0-9732-11f0-a206-a3156e8775ea
This distribution has been tested as part of the CPAN Testers
project, supporting the Perl programming language.  See
http://wiki.cpantesters.org/ for more information or email
questions to cpan-testers-discuss@perl.org
--
Dear Tom Wyant,
This is a computer-generated report for Test2-Tools-LoadModule-0.008
on perl 5.42.0, created by CPAN-Reporter-1.2018.
Thank you for uploading your work to CPAN.  Congratulations!
All tests were successful.
Sections of this report:
    * Tester comments
    * Program output
    * Prerequisites
    * Environment and other context
------------------------------
TESTER COMMENTS
------------------------------
Additional comments from tester:
none provided
------------------------------
PROGRAM OUTPUT
------------------------------
Output from '/usr/bin/make test':
PERL_DL_NONLAZY=1 "/usr/local/bin/perl" "-MExtUtils::Command::MM" "-MTest::Harness" "-e" "undef *Test::Harness::Switches; test_harness(0, 'blib/lib', 'blib/arch')" t/*.t
t/basic.t ............. ok
t/build.t ............. ok
t/check_args.t ........ ok
t/hint_hash.t ......... ok
t/load.t .............. ok
t/load_all.t .......... ok
t/load_or_skip.t ...... ok
t/load_or_skip_all.t .. ok
t/require.t ........... ok
t/use.t ............... ok
All tests successful.
Files=10, Tests=83,  1 wallclock secs ( 0.03 usr  0.03 sys +  1.01 cusr  0.27 csys =  1.34 CPU)
Result: PASS
------------------------------
PREREQUISITES
------------------------------
Prerequisite modules loaded:
requires:
    Module                    Need     Have    
    ------------------------- -------- --------
    Carp                      0        1.54    
    Exporter                  5.567    5.79    
    File::Find                0        1.44    
    File::Spec                0        3.94    
    Getopt::Long              2.34     2.58    
    if                        0        0.0610  
    perl                      5.008001 5.042000
    strict                    0        1.14    
    Test2::API                1.302096 1.302214
    Test2::API::Context       1.302096 1.302214
    Test2::Util               1.302096 1.302214
    warnings                  0        1.74    
build_requires:
    Module                    Need     Have    
    ------------------------- -------- --------
    lib                       0        0.65    
    Test2::Plugin::BailOnFail 0        1.302214
    Test2::V0                 0        1.302214
configure_requires:
    Module                    Need     Have    
    ------------------------- -------- --------
    lib                       0        0.65    
    strict                    0        1.14    
    warnings                  0        1.74    
------------------------------
ENVIRONMENT AND OTHER CONTEXT
------------------------------
Environment variables:
    LANG = C.UTF-8
    PATH = /usr/local/bin:/usr/bin:/bin:/usr/local/sbin:/usr/sbin:/sbin:/home/cpansand/bin/sh:/home/cpansand/bin:/usr/games:/home/cpansand/devel:/home/eserte/src/srezic-misc/scripts
    PERL5LIB = /home/cpansand/.cpan/build/2025092121/Feature-Compat-Try-0.05-0/blib/arch:/home/cpansand/.cpan/build/2025092121/Feature-Compat-Try-0.05-0/blib/lib:/home/cpansand/.cpan/build/2025092121/Module-Build-0.4234-4/blib/arch:/home/cpansand/.cpan/build/2025092121/Module-Build-0.4234-4/blib/lib:/home/cpansand/.cpan/build/2025092121/Cairo-1.109-0/blib/arch:/home/cpansand/.cpan/build/2025092121/Cairo-1.109-0/blib/lib:/home/cpansand/.cpan/build/2025092121/ExtUtils-PkgConfig-1.16-0/blib/arch:/home/cpansand/.cpan/build/2025092121/ExtUtils-PkgConfig-1.16-0/blib/lib:/home/cpansand/.cpan/build/2025092121/ExtUtils-Depends-0.8002-2/blib/arch:/home/cpansand/.cpan/build/2025092121/ExtUtils-Depends-0.8002-2/blib/lib
    PERL5OPT = 
    PERL5_CPANPLUS_IS_RUNNING = 19631
    PERL5_CPAN_IS_RUNNING = 19631
    PERL5_CPAN_IS_RUNNING_IN_RECURSION = 59805,19631
    PERL_BATCH = yes
    PERL_CANARY_STABILITY_NOPROMPT = 1
    PERL_CPAN_REPORTER_CONFIG = /var/tmp/cpansmoker-1023/2025092120/cpanreporter_001_config.ini
    PERL_EXTUTILS_AUTOINSTALL = --defaultdeps
    PERL_USE_UNSAFE_INC = 1
    SHELL = /bin/sh
    TMPDIR = /var/tmp/cpansmoker-1023/2025092120
Perl special variables (and OS-specific diagnostics, for MSWin32):
    $^X = /usr/local/bin/perl
    $UID/$EUID = 1023 / 1023
    $GID = 1023 1023
    $EGID = 1023 1023
Perl module toolchain versions installed:
    Module              Have    
    ------------------- --------
    CPAN                2.38    
    CPAN::Meta          2.150010
    Cwd                 3.94    
    ExtUtils::CBuilder  0.280242
    ExtUtils::Command   7.76    
    ExtUtils::Install   2.22    
    ExtUtils::MakeMaker 7.76    
    ExtUtils::Manifest  1.75    
    ExtUtils::ParseXS   3.57    
    File::Spec          3.94    
    JSON                4.10    
    JSON::PP            4.16    
    Module::Build       0.4234  
    Module::Signature   n/a     
    Parse::CPAN::Meta   2.150010
    Test::Harness       3.50    
    Test::More          1.302214
    YAML                n/a     
    YAML::Syck          1.34    
    version             0.9933  
--
Summary of my perl5 (revision 5 version 42 subversion 0) configuration:
   
  Platform:
    osname=freebsd
    osvers=14.2-release-p5
    archname=aarch64-freebsd-thread-multi
    uname='freebsd 142arm64-default-job-03 14.2-release-p5 freebsd 14.2-release-p5 arm64 '
    config_args='-Darchlib=/usr/local/lib/perl5/5.42/mach -Dcc=cc -Dcf_by=mat -Dcf_email=mat@FreeBSD.org -Dcf_time=Thu Jul 03 15:23:13 UTC 2025 -Dinc_version_list=none -Dlibperl=libperl.so.5.42.0 -Dman1dir=/usr/local/lib/perl5/5.42/perl/man/man1 -Dman3dir=/usr/local/lib/perl5/5.42/perl/man/man3 -Dprefix=/usr/local -Dprivlib=/usr/local/lib/perl5/5.42 -Dscriptdir=/usr/local/bin -Dsitearch=/usr/local/lib/perl5/site_perl/mach/5.42 -Dsitelib=/usr/local/lib/perl5/site_perl -Dsiteman1dir=/usr/local/lib/perl5/site_perl/man/man1 -Dsiteman3dir=/usr/local/lib/perl5/site_perl/man/man3 -Dusenm=n -Duseshrplib -Dusethreads=y -sde -Ui_iconv -Ui_malloc -Uinstallusrbinperl -Alddlflags=-L/wrkdirs/usr/ports/lang/perl5.42/work/perl-5.42.0 -L/usr/local/lib/perl5/5.42/mach/CORE -lperl -Dshrpldflags=$(LDDLFLAGS:N-L/wrkdirs/usr/ports/lang/perl5.42/work/perl-5.42.0:N-L/usr/local/lib/perl5/5.42/mach/CORE:N-lperl) -Wl,-soname,$(LIBPERL:R) -Doptimize=-O2 -pipe  -fstack-protector-strong -fno-strict-aliasing  -Uusedtrace -Ui_gdbm -Dusemultiplicity=y -Duse64bitint -Dusemymalloc=n'
    hint=recommended
    useposix=true
    d_sigaction=define
    useithreads=define
    usemultiplicity=define
    use64bitint=define
    use64bitall=define
    uselongdouble=undef
    usemymalloc=n
    default_inc_excludes_dot=define
  Compiler:
    cc='cc'
    ccflags ='-DHAS_FPSETMASK -DHAS_FLOATINGPOINT_H -DNO_POSIX_2008_LOCALE -fno-strict-aliasing -pipe -fstack-protector-strong -I/usr/local/include'
    optimize='-O2 -pipe -fstack-protector-strong -fno-strict-aliasing '
    cppflags='-DHAS_FPSETMASK -DHAS_FLOATINGPOINT_H -DNO_POSIX_2008_LOCALE -fno-strict-aliasing -pipe -fstack-protector-strong -I/usr/local/include'
    ccversion=''
    gccversion='FreeBSD Clang 18.1.6 (https://github.com/llvm/llvm-project.git llvmorg-18.1.6-0-g1118c2e05e67)'
    gccosandvers=''
    intsize=4
    longsize=8
    ptrsize=8
    doublesize=8
    byteorder=12345678
    doublekind=3
    d_longlong=define
    longlongsize=8
    d_longdbl=define
    longdblsize=16
    longdblkind=1
    ivtype='long'
    ivsize=8
    nvtype='double'
    nvsize=8
    Off_t='off_t'
    lseeksize=8
    alignbytes=8
    prototype=define
  Linker and Libraries:
    ld='cc'
    ldflags ='-pthread -Wl,-E  -fstack-protector-strong -L/usr/local/lib'
    libpth=/usr/lib /usr/local/lib /usr/lib/clang/18/lib
    libs=-ldl -lm -lcrypt -lutil
    perllibs=-ldl -lm -lcrypt -lutil
    libc=
    so=so
    useshrplib=true
    libperl=libperl.so.5.42.0
    gnulibc_version=''
  Dynamic Linking:
    dlsrc=dl_dlopen.xs
    dlext=so
    d_dlsymun=undef
    ccdlflags='  -Wl,-R/usr/local/lib/perl5/5.42/mach/CORE'
    cccdlflags='-DPIC -fPIC'
    lddlflags='-shared  -L/usr/local/lib/perl5/5.42/mach/CORE -lperl -L/usr/local/lib -fstack-protector-strong'
Characteristics of this binary (from libperl): 
  Compile-time options:
    HAS_LONG_DOUBLE
    HAS_STRTOLD
    HAS_TIMES
    MULTIPLICITY
    PERLIO_LAYERS
    PERL_COPY_ON_WRITE
    PERL_DONT_CREATE_GVSV
    PERL_HASH_FUNC_SIPHASH13
    PERL_HASH_USE_SBOX32
    PERL_MALLOC_WRAP
    PERL_OP_PARENT
    PERL_PRESERVE_IVUV
    PERL_USE_SAFE_PUTENV
    USE_64_BIT_ALL
    USE_64_BIT_INT
    USE_ITHREADS
    USE_LARGE_FILES
    USE_LOCALE
    USE_LOCALE_COLLATE
    USE_LOCALE_CTYPE
    USE_LOCALE_NUMERIC
    USE_LOCALE_TIME
    USE_PERLIO
    USE_PERL_ATOF
    USE_REENTRANT_API
  Locally applied patches:
    FreeBSD:patch-Configure
    FreeBSD:patch-Makefile.SH
    FreeBSD:patch-cpan_ExtUtils-Install_lib_ExtUtils_Install.pm
    FreeBSD:patch-cpan_ExtUtils-Install_t_Install.t
    FreeBSD:patch-cpan_ExtUtils-MakeMaker_lib_ExtUtils_MM__Any.pm
    FreeBSD:patch-cpan_ExtUtils-MakeMaker_t_INST__PREFIX.t
    FreeBSD:patch-cpan_JSON-PP_bin_json__pp
    FreeBSD:patch-cpan_Pod-Perldoc_lib_Pod_Perldoc.pm
    FreeBSD:patch-cpan_Pod-Perldoc_lib_Pod_Perldoc_ToMan.pm
    FreeBSD:patch-cpan_Pod-Perldoc_lib_Pod_Perldoc_ToTerm.pm
    FreeBSD:patch-hints_freebsd.sh
    FreeBSD:patch-perl.c
    FreeBSD:patch-t_porting_customized.dat
  Built under freebsd
  %ENV:
    PERL5LIB="/home/cpansand/.cpan/build/2025092121/Feature-Compat-Try-0.05-0/blib/arch:/home/cpansand/.cpan/build/2025092121/Feature-Compat-Try-0.05-0/blib/lib:/home/cpansand/.cpan/build/2025092121/Module-Build-0.4234-4/blib/arch:/home/cpansand/.cpan/build/2025092121/Module-Build-0.4234-4/blib/lib:/home/cpansand/.cpan/build/2025092121/Cairo-1.109-0/blib/arch:/home/cpansand/.cpan/build/2025092121/Cairo-1.109-0/blib/lib:/home/cpansand/.cpan/build/2025092121/ExtUtils-PkgConfig-1.16-0/blib/arch:/home/cpansand/.cpan/build/2025092121/ExtUtils-PkgConfig-1.16-0/blib/lib:/home/cpansand/.cpan/build/2025092121/ExtUtils-Depends-0.8002-2/blib/arch:/home/cpansand/.cpan/build/2025092121/ExtUtils-Depends-0.8002-2/blib/lib"
    PERL5OPT=""
    PERL5_CPANPLUS_IS_RUNNING="19631"
    PERL5_CPAN_IS_RUNNING="19631"
    PERL5_CPAN_IS_RUNNING_IN_RECURSION="59805,19631"
    PERL_BATCH="yes"
    PERL_CANARY_STABILITY_NOPROMPT="1"
    PERL_CPAN_REPORTER_CONFIG="/var/tmp/cpansmoker-1023/2025092120/cpanreporter_001_config.ini"
    PERL_EXTUTILS_AUTOINSTALL="--defaultdeps"
    PERL_USE_UNSAFE_INC="1"
  @INC:
    /home/cpansand/.cpan/build/2025092121/Feature-Compat-Try-0.05-0/blib/arch
    /home/cpansand/.cpan/build/2025092121/Feature-Compat-Try-0.05-0/blib/lib
    /home/cpansand/.cpan/build/2025092121/Module-Build-0.4234-4/blib/arch
    /home/cpansand/.cpan/build/2025092121/Module-Build-0.4234-4/blib/lib
    /home/cpansand/.cpan/build/2025092121/Cairo-1.109-0/blib/arch
    /home/cpansand/.cpan/build/2025092121/Cairo-1.109-0/blib/lib
    /home/cpansand/.cpan/build/2025092121/ExtUtils-PkgConfig-1.16-0/blib/arch
    /home/cpansand/.cpan/build/2025092121/ExtUtils-PkgConfig-1.16-0/blib/lib
    /home/cpansand/.cpan/build/2025092121/ExtUtils-Depends-0.8002-2/blib/arch
    /home/cpansand/.cpan/build/2025092121/ExtUtils-Depends-0.8002-2/blib/lib
    /usr/local/lib/perl5/site_perl/mach/5.42
    /usr/local/lib/perl5/site_perl
    /usr/local/lib/perl5/5.42/mach
    /usr/local/lib/perl5/5.42
    .