HTML-FromText v2.07 Perl 5 v5.42.0 x86_64-linux

Status
Pass
From
Slaven Rezić
Dist
HTML-FromText v2.07
Platform
Perl 5 v5.42.0 x86_64-linux
Date
2025-11-19 12:33:49
ID
ff9f66fe-c543-11f0-a13d-d5076e8775ea
This distribution has been tested as part of the CPAN Testers
project, supporting the Perl programming language.  See
http://wiki.cpantesters.org/ for more information or email
questions to cpan-testers-discuss@perl.org


--
Dear Ricardo SIGNES :-),

This is a computer-generated report for HTML-FromText-2.07
on perl 5.42.0, created by CPAN-Reporter-1.2020.

Thank you for uploading your work to CPAN.  Congratulations!
All tests were successful.

Sections of this report:

    * Tester comments
    * Program output
    * Prerequisites
    * Environment and other context

------------------------------
TESTER COMMENTS
------------------------------

Additional comments from tester:

none provided

------------------------------
PROGRAM OUTPUT
------------------------------

Output from '/usr/bin/make test':

PERL_DL_NONLAZY=1 "/opt/perl-5.42.0/bin/perl" "-MExtUtils::Command::MM" "-MTest::Harness" "-e" "undef *Test::Harness::Switches; test_harness(0, 'blib/lib', 'blib/arch')" t/*.t
t/00-compile.t ................ ok
# 
# 
# Generated by Dist::Zilla::Plugin::ReportVersions::Tiny v1.08
# perl: 5.042000 (wanted any version) on linux from /opt/perl-5.42.0/bin/perl
# 
# Carp                                          => 1.54       (want any version)
# Email::Find::addrspec                         => 0.09       (want 0.09)   
# Exporter                                      => 5.79       (want 5.58)   
# ExtUtils::MakeMaker                           => 7.76       (want 6.30)   
# File::Find                                    => 1.44       (want any version)
# File::Spec                                    => 3.94       (want any version)
# File::Temp                                    => 0.2312     (want any version)
# HTML::Entities                                => 3.83       (want 1.26)   
# Scalar::Util                                  => 1.70       (want 1.12)   
# Test::More                                    => 1.302210   (want 0.96)   
# Test::Pod                                     => 1.52       (want 1.41)   
# Text::Tabs                                    => 2024.001   (want 98.1128)
# strict                                        => 1.14       (want any version)
# version                                       => 0.9933     (want 0.9901) 
# warnings                                      => 1.74       (want any version)
# 
# Thanks for using my code.  I hope it works for you.
# If not, please try and include this output in the bug report.
# That will help me reproduce the issue and solve your problem.
# 
t/000-report-versions-tiny.t .. ok
t/01_features.t ............... ok
t/02_v2.01.t .................. ok
t/03_v2.02.t .................. ok
t/04_v2.03.t .................. ok
t/05_v2.04.t .................. ok
t/06_v2.05.t .................. ok
t/99_pod.t .................... ok
All tests successful.
Files=9, Tests=60,  1 wallclock secs ( 0.02 usr  0.03 sys +  0.51 cusr  0.11 csys =  0.67 CPU)
Result: PASS

------------------------------
PREREQUISITES
------------------------------

Prerequisite modules loaded:

requires:

    Module                Need    Have    
    --------------------- ------- --------
    Carp                  0       1.54    
    Email::Find::addrspec 0.09    0.09    
    Exporter              5.58    5.79    
    HTML::Entities        1.26    3.83    
    Scalar::Util          1.12    1.70    
    strict                0       1.14    
    Text::Tabs            98.1128 2024.001
    warnings              0       1.74    

build_requires:

    Module                Need    Have    
    --------------------- ------- --------
    File::Find            0       1.44    
    File::Spec            0       3.94    
    File::Temp            0       0.2312  
    Test::More            0.96    1.302210

configure_requires:

    Module                Need    Have    
    --------------------- ------- --------
    ExtUtils::MakeMaker   6.30    7.76    


------------------------------
ENVIRONMENT AND OTHER CONTEXT
------------------------------

Environment variables:

    LANG = C
    PATH = /usr/local/bin:/usr/bin:/bin:/usr/local/sbin:/usr/sbin:/sbin:/home/cpansand/bin/linux-gnu:/home/cpansand/bin/sh:/home/cpansand/bin:/usr/games:/home/cpansand/devel:/home/eserte/src/srezic-misc/scripts
    PERL5LIB = /home/cpansand/.local/share/.cpan/build/2025111912/Email-Find-0.10-1/blib/arch:/home/cpansand/.local/share/.cpan/build/2025111912/Email-Find-0.10-1/blib/lib:/home/cpansand/.local/share/.cpan/build/2025111912/Email-Valid-1.204-0/blib/arch:/home/cpansand/.local/share/.cpan/build/2025111912/Email-Valid-1.204-0/blib/lib
    PERL5OPT = 
    PERL5_CPANPLUS_IS_RUNNING = 2049446
    PERL5_CPAN_IS_RUNNING = 2049446
    PERL5_CPAN_IS_RUNNING_IN_RECURSION = 2049286,2049446
    PERLDOC = -MPod::Perldoc::ToTextOverstrike
    PERL_BATCH = yes
    PERL_CANARY_STABILITY_NOPROMPT = 1
    PERL_CPAN_REPORTER_CONFIG = /run/user/1023/cpansmoker/2025111912/cpanreporter_000_config.ini
    PERL_EXTUTILS_AUTOINSTALL = --defaultdeps
    PERL_USE_UNSAFE_INC = 1
    SHELL = /usr/bin/zsh
    TERM = screen
    TMPDIR = /run/user/1023/cpansmoker/2025111912

Perl special variables (and OS-specific diagnostics, for MSWin32):

    $^X = /opt/perl-5.42.0/bin/perl
    $UID/$EUID = 1023 / 1023
    $GID = 1023 1023
    $EGID = 1023 1023

Perl module toolchain versions installed:

    Module              Have    
    ------------------- --------
    CPAN                2.38    
    CPAN::Meta          2.150010
    Cwd                 3.94    
    ExtUtils::CBuilder  0.280242
    ExtUtils::Command   7.76    
    ExtUtils::Install   2.22    
    ExtUtils::MakeMaker 7.76    
    ExtUtils::Manifest  1.75    
    ExtUtils::ParseXS   3.59    
    File::Spec          3.94    
    JSON                4.10    
    JSON::PP            4.16    
    Module::Build       0.4234  
    Module::Signature   n/a     
    Parse::CPAN::Meta   2.150010
    Test2               1.302210
    Test::Harness       3.50    
    Test::More          1.302210
    YAML                1.31    
    YAML::Syck          1.34    
    version             0.9933  


--

Summary of my perl5 (revision 5 version 42 subversion 0) configuration:
   
  Platform:
    osname=linux
    osvers=6.12.41+deb13-cloud-amd64
    archname=x86_64-linux
    uname='linux cloud8.bbbike.org 6.12.41+deb13-cloud-amd64 #1 smp preempt_dynamic debian 6.12.41-1 (2025-08-12) x86_64 gnulinux '
    config_args='-ds -e -Dprefix=/opt/perl-5.42.0 -Uinstallusrbinperl -Dcf_email=srezic@cpan.org'
    hint=recommended
    useposix=true
    d_sigaction=define
    useithreads=undef
    usemultiplicity=undef
    use64bitint=define
    use64bitall=define
    uselongdouble=undef
    usemymalloc=n
    default_inc_excludes_dot=define
  Compiler:
    cc='cc'
    ccflags ='-fwrapv -fno-strict-aliasing -pipe -fstack-protector-strong -I/usr/local/include -D_LARGEFILE_SOURCE -D_FILE_OFFSET_BITS=64 -D_FORTIFY_SOURCE=2'
    optimize='-O2'
    cppflags='-fwrapv -fno-strict-aliasing -pipe -fstack-protector-strong -I/usr/local/include'
    ccversion=''
    gccversion='14.2.0'
    gccosandvers=''
    intsize=4
    longsize=8
    ptrsize=8
    doublesize=8
    byteorder=12345678
    doublekind=3
    d_longlong=define
    longlongsize=8
    d_longdbl=define
    longdblsize=16
    longdblkind=3
    ivtype='long'
    ivsize=8
    nvtype='double'
    nvsize=8
    Off_t='off_t'
    lseeksize=8
    alignbytes=8
    prototype=define
  Linker and Libraries:
    ld='cc'
    ldflags =' -fstack-protector-strong -L/usr/local/lib'
    libpth=/usr/local/lib /usr/lib/x86_64-linux-gnu /usr/lib /usr/lib64
    libs=-lpthread -ldl -lm -lcrypt -lutil -lc
    perllibs=-lpthread -ldl -lm -lcrypt -lutil -lc
    libc=/lib/x86_64-linux-gnu/libc.so.6
    so=so
    useshrplib=false
    libperl=libperl.a
    gnulibc_version='2.41'
  Dynamic Linking:
    dlsrc=dl_dlopen.xs
    dlext=so
    d_dlsymun=undef
    ccdlflags='-Wl,-E'
    cccdlflags='-fPIC'
    lddlflags='-shared -O2 -L/usr/local/lib -fstack-protector-strong'


Characteristics of this binary (from libperl): 
  Compile-time options:
    HAS_LONG_DOUBLE
    HAS_STRTOLD
    HAS_TIMES
    PERLIO_LAYERS
    PERL_COPY_ON_WRITE
    PERL_DONT_CREATE_GVSV
    PERL_HASH_FUNC_SIPHASH13
    PERL_HASH_USE_SBOX32
    PERL_MALLOC_WRAP
    PERL_OP_PARENT
    PERL_PRESERVE_IVUV
    PERL_USE_SAFE_PUTENV
    USE_64_BIT_ALL
    USE_64_BIT_INT
    USE_LARGE_FILES
    USE_LOCALE
    USE_LOCALE_COLLATE
    USE_LOCALE_CTYPE
    USE_LOCALE_NUMERIC
    USE_LOCALE_TIME
    USE_PERLIO
    USE_PERL_ATOF
  Built under linux
  Compiled at Sep  6 2025 14:47:15
  %ENV:
    PERL5LIB="/home/cpansand/.local/share/.cpan/build/2025111912/Email-Find-0.10-1/blib/arch:/home/cpansand/.local/share/.cpan/build/2025111912/Email-Find-0.10-1/blib/lib:/home/cpansand/.local/share/.cpan/build/2025111912/Email-Valid-1.204-0/blib/arch:/home/cpansand/.local/share/.cpan/build/2025111912/Email-Valid-1.204-0/blib/lib"
    PERL5OPT=""
    PERL5_CPANPLUS_IS_RUNNING="2049446"
    PERL5_CPAN_IS_RUNNING="2049446"
    PERL5_CPAN_IS_RUNNING_IN_RECURSION="2049286,2049446"
    PERLDOC="-MPod::Perldoc::ToTextOverstrike"
    PERL_BATCH="yes"
    PERL_CANARY_STABILITY_NOPROMPT="1"
    PERL_CPAN_REPORTER_CONFIG="/run/user/1023/cpansmoker/2025111912/cpanreporter_000_config.ini"
    PERL_EXTUTILS_AUTOINSTALL="--defaultdeps"
    PERL_USE_UNSAFE_INC="1"
  @INC:
    /home/cpansand/.local/share/.cpan/build/2025111912/Email-Find-0.10-1/blib/arch
    /home/cpansand/.local/share/.cpan/build/2025111912/Email-Find-0.10-1/blib/lib
    /home/cpansand/.local/share/.cpan/build/2025111912/Email-Valid-1.204-0/blib/arch
    /home/cpansand/.local/share/.cpan/build/2025111912/Email-Valid-1.204-0/blib/lib
    /opt/perl-5.42.0/lib/site_perl/5.42.0/x86_64-linux
    /opt/perl-5.42.0/lib/site_perl/5.42.0
    /opt/perl-5.42.0/lib/5.42.0/x86_64-linux
    /opt/perl-5.42.0/lib/5.42.0
    .