Term-Choose_HAE v0.057 Perl 5 v5.24.4 OpenBSD.amd64-openbsd
- Status
- Pass
- From
- Nigel Horne
- Dist
-
Term-Choose_HAE v0.057
- Platform
- Perl 5 v5.24.4 OpenBSD.amd64-openbsd
- Date
- 2018-11-16 09:35:47
- ID
- ffb2b32a-e982-11e8-afbf-aec3b07506ca
This distribution has been tested as part of the CPAN Testers
project, supporting the Perl programming language. See
http://wiki.cpantesters.org/ for more information or email
questions to cpan-testers-discuss@perl.org
--
Dear Matthaeus Kiem,
This is a computer-generated report for Term-Choose_HAE-0.057
on perl 5.24.4, created by CPAN-Reporter-1.2018.
Thank you for uploading your work to CPAN. Congratulations!
All tests were successful.
Sections of this report:
* Tester comments
* Program output
* Prerequisites
* Environment and other context
------------------------------
TESTER COMMENTS
------------------------------
Additional comments from tester:
this report is from an automated smoke testing program
and was not reviewed by a human for accuracy
------------------------------
PROGRAM OUTPUT
------------------------------
Output from '/usr/bin/make test':
PERL_DL_NONLAZY=1 "/home/njh/perl5/perlbrew/perls/perl-5.24.4/bin/perl" "-MExtUtils::Command::MM" "-MTest::Harness" "-e" "undef *Test::Harness::Switches; test_harness(0, 'blib/lib', 'blib/arch')" t/*/*.t
# Testing Term::Choose_HAE 0.057, Perl 5.024004, /home/njh/perl5/perlbrew/perls/perl-5.24.4/bin/perl
t/00_load/00-load.t .............. ok
stty: TIOCGETD: Operation not supported by device
(in cleanup) 256 at /tmp/build/Term-Choose-1.628-8/blib/lib/Term/Choose/Linux.pm line 259.
stty: TIOCGETD: Operation not supported by device
(in cleanup) 256 at /tmp/build/Term-Choose-1.628-8/blib/lib/Term/Choose/Linux.pm line 259.
stty: TIOCGETD: Operation not supported by device
(in cleanup) 256 at /tmp/build/Term-Choose-1.628-8/blib/lib/Term/Choose/Linux.pm line 259.
stty: TIOCGETD: Operation not supported by device
(in cleanup) 256 at /tmp/build/Term-Choose-1.628-8/blib/lib/Term/Choose/Linux.pm line 259.
stty: TIOCGETD: Operation not supported by device
(in cleanup) 256 at /tmp/build/Term-Choose-1.628-8/blib/lib/Term/Choose/Linux.pm line 259.
stty: TIOCGETD: Operation not supported by device
(in cleanup) 256 at /tmp/build/Term-Choose-1.628-8/blib/lib/Term/Choose/Linux.pm line 259.
stty: TIOCGETD: Operation not supported by device
(in cleanup) 256 at /tmp/build/Term-Choose-1.628-8/blib/lib/Term/Choose/Linux.pm line 259.
stty: TIOCGETD: Operation not supported by device
(in cleanup) 256 at /tmp/build/Term-Choose-1.628-8/blib/lib/Term/Choose/Linux.pm line 259.
stty: TIOCGETD: Operation not supported by device
(in cleanup) 256 at /tmp/build/Term-Choose-1.628-8/blib/lib/Term/Choose/Linux.pm line 259.
stty: TIOCGETD: Operation not supported by device
(in cleanup) 256 at /tmp/build/Term-Choose-1.628-8/blib/lib/Term/Choose/Linux.pm line 259.
stty: TIOCGETD: Operation not supported by device
(in cleanup) 256 at /tmp/build/Term-Choose-1.628-8/blib/lib/Term/Choose/Linux.pm line 259.
stty: TIOCGETD: Operation not supported by device
(in cleanup) 256 at /tmp/build/Term-Choose-1.628-8/blib/lib/Term/Choose/Linux.pm line 259.
stty: TIOCGETD: Operation not supported by device
(in cleanup) 256 at /tmp/build/Term-Choose-1.628-8/blib/lib/Term/Choose/Linux.pm line 259.
stty: TIOCGETD: Operation not supported by device
(in cleanup) 256 at /tmp/build/Term-Choose-1.628-8/blib/lib/Term/Choose/Linux.pm line 259.
stty: TIOCGETD: Operation not supported by device
(in cleanup) 256 at /tmp/build/Term-Choose-1.628-8/blib/lib/Term/Choose/Linux.pm line 259.
stty: TIOCGETD: Operation not supported by device
(in cleanup) 256 at /tmp/build/Term-Choose-1.628-8/blib/lib/Term/Choose/Linux.pm line 259.
stty: TIOCGETD: Operation not supported by device
(in cleanup) 256 at /tmp/build/Term-Choose-1.628-8/blib/lib/Term/Choose/Linux.pm line 259.
stty: TIOCGETD: Operation not supported by device
(in cleanup) 256 at /tmp/build/Term-Choose-1.628-8/blib/lib/Term/Choose/Linux.pm line 259.
stty: TIOCGETD: Operation not supported by device
(in cleanup) 256 at /tmp/build/Term-Choose-1.628-8/blib/lib/Term/Choose/Linux.pm line 259.
stty: TIOCGETD: Operation not supported by device
(in cleanup) 256 at /tmp/build/Term-Choose-1.628-8/blib/lib/Term/Choose/Linux.pm line 259.
stty: TIOCGETD: Operation not supported by device
(in cleanup) 256 at /tmp/build/Term-Choose-1.628-8/blib/lib/Term/Choose/Linux.pm line 259.
stty: TIOCGETD: Operation not supported by device
(in cleanup) 256 at /tmp/build/Term-Choose-1.628-8/blib/lib/Term/Choose/Linux.pm line 259.
stty: TIOCGETD: Operation not supported by device
(in cleanup) 256 at /tmp/build/Term-Choose-1.628-8/blib/lib/Term/Choose/Linux.pm line 259.
stty: TIOCGETD: Operation not supported by device
(in cleanup) 256 at /tmp/build/Term-Choose-1.628-8/blib/lib/Term/Choose/Linux.pm line 259.
stty: TIOCGETD: Operation not supported by device
(in cleanup) 256 at /tmp/build/Term-Choose-1.628-8/blib/lib/Term/Choose/Linux.pm line 259.
stty: TIOCGETD: Operation not supported by device
(in cleanup) 256 at /tmp/build/Term-Choose-1.628-8/blib/lib/Term/Choose/Linux.pm line 259.
stty: TIOCGETD: Operation not supported by device
(in cleanup) 256 at /tmp/build/Term-Choose-1.628-8/blib/lib/Term/Choose/Linux.pm line 259.
stty: TIOCGETD: Operation not supported by device
(in cleanup) 256 at /tmp/build/Term-Choose-1.628-8/blib/lib/Term/Choose/Linux.pm line 259.
stty: TIOCGETD: Operation not supported by device
(in cleanup) 256 at /tmp/build/Term-Choose-1.628-8/blib/lib/Term/Choose/Linux.pm line 259.
stty: TIOCGETD: Operation not supported by device
(in cleanup) 256 at /tmp/build/Term-Choose-1.628-8/blib/lib/Term/Choose/Linux.pm line 259.
stty: TIOCGETD: Operation not supported by device
(in cleanup) 256 at /tmp/build/Term-Choose-1.628-8/blib/lib/Term/Choose/Linux.pm line 259.
stty: TIOCGETD: Operation not supported by device
(in cleanup) 256 at /tmp/build/Term-Choose-1.628-8/blib/lib/Term/Choose/Linux.pm line 259.
stty: TIOCGETD: Operation not supported by device
(in cleanup) 256 at /tmp/build/Term-Choose-1.628-8/blib/lib/Term/Choose/Linux.pm line 259.
stty: TIOCGETD: Operation not supported by device
(in cleanup) 256 at /tmp/build/Term-Choose-1.628-8/blib/lib/Term/Choose/Linux.pm line 259.
stty: TIOCGETD: Operation not supported by device
(in cleanup) 256 at /tmp/build/Term-Choose-1.628-8/blib/lib/Term/Choose/Linux.pm line 259.
stty: TIOCGETD: Operation not supported by device
(in cleanup) 256 at /tmp/build/Term-Choose-1.628-8/blib/lib/Term/Choose/Linux.pm line 259.
stty: TIOCGETD: Operation not supported by device
(in cleanup) 256 at /tmp/build/Term-Choose-1.628-8/blib/lib/Term/Choose/Linux.pm line 259.
stty: TIOCGETD: Operation not supported by device
(in cleanup) 256 at /tmp/build/Term-Choose-1.628-8/blib/lib/Term/Choose/Linux.pm line 259.
stty: TIOCGETD: Operation not supported by device
(in cleanup) 256 at /tmp/build/Term-Choose-1.628-8/blib/lib/Term/Choose/Linux.pm line 259.
stty: TIOCGETD: Operation not supported by device
(in cleanup) 256 at /tmp/build/Term-Choose-1.628-8/blib/lib/Term/Choose/Linux.pm line 259.
stty: TIOCGETD: Operation not supported by device
(in cleanup) 256 at /tmp/build/Term-Choose-1.628-8/blib/lib/Term/Choose/Linux.pm line 259.
stty: TIOCGETD: Operation not supported by device
(in cleanup) 256 at /tmp/build/Term-Choose-1.628-8/blib/lib/Term/Choose/Linux.pm line 259.
stty: TIOCGETD: Operation not supported by device
(in cleanup) 256 at /tmp/build/Term-Choose-1.628-8/blib/lib/Term/Choose/Linux.pm line 259.
stty: TIOCGETD: Operation not supported by device
(in cleanup) 256 at /tmp/build/Term-Choose-1.628-8/blib/lib/Term/Choose/Linux.pm line 259.
stty: TIOCGETD: Operation not supported by device
(in cleanup) 256 at /tmp/build/Term-Choose-1.628-8/blib/lib/Term/Choose/Linux.pm line 259.
stty: TIOCGETD: Operation not supported by device
(in cleanup) 256 at /tmp/build/Term-Choose-1.628-8/blib/lib/Term/Choose/Linux.pm line 259.
stty: TIOCGETD: Operation not supported by device
(in cleanup) 256 at /tmp/build/Term-Choose-1.628-8/blib/lib/Term/Choose/Linux.pm line 259.
stty: TIOCGETD: Operation not supported by device
(in cleanup) 256 at /tmp/build/Term-Choose-1.628-8/blib/lib/Term/Choose/Linux.pm line 259.
stty: TIOCGETD: Operation not supported by device
(in cleanup) 256 at /tmp/build/Term-Choose-1.628-8/blib/lib/Term/Choose/Linux.pm line 259.
stty: TIOCGETD: Operation not supported by device
(in cleanup) 256 at /tmp/build/Term-Choose-1.628-8/blib/lib/Term/Choose/Linux.pm line 259.
stty: TIOCGETD: Operation not supported by device
(in cleanup) 256 at /tmp/build/Term-Choose-1.628-8/blib/lib/Term/Choose/Linux.pm line 259.
stty: TIOCGETD: Operation not supported by device
(in cleanup) 256 at /tmp/build/Term-Choose-1.628-8/blib/lib/Term/Choose/Linux.pm line 259.
stty: TIOCGETD: Operation not supported by device
(in cleanup) 256 at /tmp/build/Term-Choose-1.628-8/blib/lib/Term/Choose/Linux.pm line 259.
stty: TIOCGETD: Operation not supported by device
(in cleanup) 256 at /tmp/build/Term-Choose-1.628-8/blib/lib/Term/Choose/Linux.pm line 259.
stty: TIOCGETD: Operation not supported by device
(in cleanup) 256 at /tmp/build/Term-Choose-1.628-8/blib/lib/Term/Choose/Linux.pm line 259.
stty: TIOCGETD: Operation not supported by device
(in cleanup) 256 at /tmp/build/Term-Choose-1.628-8/blib/lib/Term/Choose/Linux.pm line 259.
stty: TIOCGETD: Operation not supported by device
(in cleanup) 256 at /tmp/build/Term-Choose-1.628-8/blib/lib/Term/Choose/Linux.pm line 259.
stty: TIOCGETD: Operation not supported by device
(in cleanup) 256 at /tmp/build/Term-Choose-1.628-8/blib/lib/Term/Choose/Linux.pm line 259.
stty: TIOCGETD: Operation not supported by device
(in cleanup) 256 at /tmp/build/Term-Choose-1.628-8/blib/lib/Term/Choose/Linux.pm line 259.
stty: TIOCGETD: Operation not supported by device
(in cleanup) 256 at /tmp/build/Term-Choose-1.628-8/blib/lib/Term/Choose/Linux.pm line 259.
stty: TIOCGETD: Operation not supported by device
(in cleanup) 256 at /tmp/build/Term-Choose-1.628-8/blib/lib/Term/Choose/Linux.pm line 259.
stty: TIOCGETD: Operation not supported by device
(in cleanup) 256 at /tmp/build/Term-Choose-1.628-8/blib/lib/Term/Choose/Linux.pm line 259.
stty: TIOCGETD: Operation not supported by device
(in cleanup) 256 at /tmp/build/Term-Choose-1.628-8/blib/lib/Term/Choose/Linux.pm line 259.
stty: TIOCGETD: Operation not supported by device
(in cleanup) 256 at /tmp/build/Term-Choose-1.628-8/blib/lib/Term/Choose/Linux.pm line 259.
stty: TIOCGETD: Operation not supported by device
(in cleanup) 256 at /tmp/build/Term-Choose-1.628-8/blib/lib/Term/Choose/Linux.pm line 259.
stty: TIOCGETD: Operation not supported by device
(in cleanup) 256 at /tmp/build/Term-Choose-1.628-8/blib/lib/Term/Choose/Linux.pm line 259.
stty: TIOCGETD: Operation not supported by device
(in cleanup) 256 at /tmp/build/Term-Choose-1.628-8/blib/lib/Term/Choose/Linux.pm line 259.
stty: TIOCGETD: Operation not supported by device
(in cleanup) 256 at /tmp/build/Term-Choose-1.628-8/blib/lib/Term/Choose/Linux.pm line 259.
stty: TIOCGETD: Operation not supported by device
(in cleanup) 256 at /tmp/build/Term-Choose-1.628-8/blib/lib/Term/Choose/Linux.pm line 259.
stty: TIOCGETD: Operation not supported by device
(in cleanup) 256 at /tmp/build/Term-Choose-1.628-8/blib/lib/Term/Choose/Linux.pm line 259.
stty: TIOCGETD: Operation not supported by device
(in cleanup) 256 at /tmp/build/Term-Choose-1.628-8/blib/lib/Term/Choose/Linux.pm line 259.
stty: TIOCGETD: Operation not supported by device
(in cleanup) 256 at /tmp/build/Term-Choose-1.628-8/blib/lib/Term/Choose/Linux.pm line 259.
stty: TIOCGETD: Operation not supported by device
(in cleanup) 256 at /tmp/build/Term-Choose-1.628-8/blib/lib/Term/Choose/Linux.pm line 259.
stty: TIOCGETD: Operation not supported by device
(in cleanup) 256 at /tmp/build/Term-Choose-1.628-8/blib/lib/Term/Choose/Linux.pm line 259.
stty: TIOCGETD: Operation not supported by device
(in cleanup) 256 at /tmp/build/Term-Choose-1.628-8/blib/lib/Term/Choose/Linux.pm line 259.
stty: TIOCGETD: Operation not supported by device
(in cleanup) 256 at /tmp/build/Term-Choose-1.628-8/blib/lib/Term/Choose/Linux.pm line 259.
stty: TIOCGETD: Operation not supported by device
(in cleanup) 256 at /tmp/build/Term-Choose-1.628-8/blib/lib/Term/Choose/Linux.pm line 259.
stty: TIOCGETD: Operation not supported by device
(in cleanup) 256 at /tmp/build/Term-Choose-1.628-8/blib/lib/Term/Choose/Linux.pm line 259.
stty: TIOCGETD: Operation not supported by device
(in cleanup) 256 at /tmp/build/Term-Choose-1.628-8/blib/lib/Term/Choose/Linux.pm line 259.
stty: TIOCGETD: Operation not supported by device
(in cleanup) 256 at /tmp/build/Term-Choose-1.628-8/blib/lib/Term/Choose/Linux.pm line 259.
stty: TIOCGETD: Operation not supported by device
(in cleanup) 256 at /tmp/build/Term-Choose-1.628-8/blib/lib/Term/Choose/Linux.pm line 259.
stty: TIOCGETD: Operation not supported by device
(in cleanup) 256 at /tmp/build/Term-Choose-1.628-8/blib/lib/Term/Choose/Linux.pm line 259.
stty: TIOCGETD: Operation not supported by device
(in cleanup) 256 at /tmp/build/Term-Choose-1.628-8/blib/lib/Term/Choose/Linux.pm line 259.
stty: TIOCGETD: Operation not supported by device
(in cleanup) 256 at /tmp/build/Term-Choose-1.628-8/blib/lib/Term/Choose/Linux.pm line 259.
stty: TIOCGETD: Operation not supported by device
(in cleanup) 256 at /tmp/build/Term-Choose-1.628-8/blib/lib/Term/Choose/Linux.pm line 259.
stty: TIOCGETD: Operation not supported by device
(in cleanup) 256 at /tmp/build/Term-Choose-1.628-8/blib/lib/Term/Choose/Linux.pm line 259.
stty: TIOCGETD: Operation not supported by device
(in cleanup) 256 at /tmp/build/Term-Choose-1.628-8/blib/lib/Term/Choose/Linux.pm line 259.
stty: TIOCGETD: Operation not supported by device
(in cleanup) 256 at /tmp/build/Term-Choose-1.628-8/blib/lib/Term/Choose/Linux.pm line 259.
stty: TIOCGETD: Operation not supported by device
(in cleanup) 256 at /tmp/build/Term-Choose-1.628-8/blib/lib/Term/Choose/Linux.pm line 259.
stty: TIOCGETD: Operation not supported by device
(in cleanup) 256 at /tmp/build/Term-Choose-1.628-8/blib/lib/Term/Choose/Linux.pm line 259.
stty: TIOCGETD: Operation not supported by device
(in cleanup) 256 at /tmp/build/Term-Choose-1.628-8/blib/lib/Term/Choose/Linux.pm line 259.
stty: TIOCGETD: Operation not supported by device
(in cleanup) 256 at /tmp/build/Term-Choose-1.628-8/blib/lib/Term/Choose/Linux.pm line 259.
stty: TIOCGETD: Operation not supported by device
(in cleanup) 256 at /tmp/build/Term-Choose-1.628-8/blib/lib/Term/Choose/Linux.pm line 259.
stty: TIOCGETD: Operation not supported by device
(in cleanup) 256 at /tmp/build/Term-Choose-1.628-8/blib/lib/Term/Choose/Linux.pm line 259.
stty: TIOCGETD: Operation not supported by device
(in cleanup) 256 at /tmp/build/Term-Choose-1.628-8/blib/lib/Term/Choose/Linux.pm line 259.
stty: TIOCGETD: Operation not supported by device
(in cleanup) 256 at /tmp/build/Term-Choose-1.628-8/blib/lib/Term/Choose/Linux.pm line 259.
stty: TIOCGETD: Operation not supported by device
(in cleanup) 256 at /tmp/build/Term-Choose-1.628-8/blib/lib/Term/Choose/Linux.pm line 259.
stty: TIOCGETD: Operation not supported by device
(in cleanup) 256 at /tmp/build/Term-Choose-1.628-8/blib/lib/Term/Choose/Linux.pm line 259.
stty: TIOCGETD: Operation not supported by device
(in cleanup) 256 at /tmp/build/Term-Choose-1.628-8/blib/lib/Term/Choose/Linux.pm line 259.
stty: TIOCGETD: Operation not supported by device
(in cleanup) 256 at /tmp/build/Term-Choose-1.628-8/blib/lib/Term/Choose/Linux.pm line 259.
stty: TIOCGETD: Operation not supported by device
(in cleanup) 256 at /tmp/build/Term-Choose-1.628-8/blib/lib/Term/Choose/Linux.pm line 259.
stty: TIOCGETD: Operation not supported by device
(in cleanup) 256 at /tmp/build/Term-Choose-1.628-8/blib/lib/Term/Choose/Linux.pm line 259.
stty: TIOCGETD: Operation not supported by device
(in cleanup) 256 at /tmp/build/Term-Choose-1.628-8/blib/lib/Term/Choose/Linux.pm line 259.
stty: TIOCGETD: Operation not supported by device
(in cleanup) 256 at /tmp/build/Term-Choose-1.628-8/blib/lib/Term/Choose/Linux.pm line 259.
stty: TIOCGETD: Operation not supported by device
(in cleanup) 256 at /tmp/build/Term-Choose-1.628-8/blib/lib/Term/Choose/Linux.pm line 259.
stty: TIOCGETD: Operation not supported by device
(in cleanup) 256 at /tmp/build/Term-Choose-1.628-8/blib/lib/Term/Choose/Linux.pm line 259.
stty: TIOCGETD: Operation not supported by device
(in cleanup) 256 at /tmp/build/Term-Choose-1.628-8/blib/lib/Term/Choose/Linux.pm line 259.
stty: TIOCGETD: Operation not supported by device
(in cleanup) 256 at /tmp/build/Term-Choose-1.628-8/blib/lib/Term/Choose/Linux.pm line 259.
stty: TIOCGETD: Operation not supported by device
(in cleanup) 256 at /tmp/build/Term-Choose-1.628-8/blib/lib/Term/Choose/Linux.pm line 259.
stty: TIOCGETD: Operation not supported by device
(in cleanup) 256 at /tmp/build/Term-Choose-1.628-8/blib/lib/Term/Choose/Linux.pm line 259.
stty: TIOCGETD: Operation not supported by device
(in cleanup) 256 at /tmp/build/Term-Choose-1.628-8/blib/lib/Term/Choose/Linux.pm line 259.
stty: TIOCGETD: Operation not supported by device
(in cleanup) 256 at /tmp/build/Term-Choose-1.628-8/blib/lib/Term/Choose/Linux.pm line 259.
t/01_arguments/01_new.t .......... ok
t/01_arguments/01_new_invalid.t .. ok
All tests successful.
Files=3, Tests=358, 6 wallclock secs ( 0.36 usr 0.09 sys + 2.56 cusr 2.52 csys = 5.53 CPU)
Result: PASS
------------------------------
PREREQUISITES
------------------------------
Prerequisite modules loaded:
requires:
Module Need Have
----------------------- -------- --------
Exporter 0 5.73
if 0 0.0608
parent 0 0.237
Parse::ANSIColor::Tiny 0 0.601
perl 5.010001 5.024004
strict 0 1.11
Term::ANSIColor 0 4.06
Term::Choose == 1.628 1.628
Term::Choose::Constants == 1.628 1.628
Term::Choose::LineFold == 1.628 1.628
Text::ANSI::WideUtil 0 0.22
warnings 0 1.36
build_requires:
Module Need Have
----------------------- -------- --------
File::Spec::Functions 0 3.63_01
FindBin 0 1.51
lib 0 0.63
Test::Fatal 0 0.014
Test::More 0 1.302140
configure_requires:
Module Need Have
----------------------- -------- --------
ExtUtils::MakeMaker 0 7.34
------------------------------
ENVIRONMENT AND OTHER CONTEXT
------------------------------
Environment variables:
AUTOMATED_TESTING = 1
PATH = /home/njh/perl5/perlbrew/bin:/home/njh/perl5/perlbrew/perls/perl-5.24.4/bin:src/njh/smoker/bin:/usr/bin:/bin:/usr/sbin:/sbin:/usr/X11R6/bin:/usr/local/bin:/usr/local/sbin
PERL5LIB = /tmp/build/Text-ANSI-WideUtil-0.22-8/blib/arch:/tmp/build/Text-ANSI-WideUtil-0.22-8/blib/lib:/tmp/build/Text-WideChar-Util-0.16-7/blib/arch:/tmp/build/Text-WideChar-Util-0.16-7/blib/lib:/tmp/build/Unicode-LineBreak-2018.003-7/blib/arch:/tmp/build/Unicode-LineBreak-2018.003-7/blib/lib:/tmp/build/MIME-Charset-1.012.2-7/blib/arch:/tmp/build/MIME-Charset-1.012.2-7/blib/lib:/tmp/build/Text-ANSI-Util-0.22-7/blib/arch:/tmp/build/Text-ANSI-Util-0.22-7/blib/lib:/tmp/build/Data-Dump-1.23-3/blib/arch:/tmp/build/Data-Dump-1.23-3/blib/lib:/tmp/build/Term-Choose-1.628-8/blib/arch:/tmp/build/Term-Choose-1.628-8/blib/lib:/tmp/build/Parse-ANSIColor-Tiny-0.601-8/blib/arch:/tmp/build/Parse-ANSIColor-Tiny-0.601-8/blib/lib:/tmp/build/Test-Requires-0.10-2/blib/arch:/tmp/build/Test-Requires-0.10-2/blib/lib:/tmp/build/Test-Differences-0.64-2/blib/arch:/tmp/build/Test-Differences-0.64-2/blib/lib
PERL5OPT =
PERL5_CPANPLUS_IS_RUNNING = 95840
PERL5_CPAN_IS_RUNNING = 95840
PERLBREW_HOME = /home/njh/.perlbrew
PERLBREW_MANPATH = /home/njh/perl5/perlbrew/perls/perl-5.24.4/man
PERLBREW_PATH = /home/njh/perl5/perlbrew/bin:/home/njh/perl5/perlbrew/perls/perl-5.24.4/bin
PERLBREW_PERL = perl-5.24.4
PERLBREW_ROOT = /home/njh/perl5/perlbrew
PERLBREW_SHELLRC_VERSION = 0.84
PERLBREW_VERSION = 0.84
SHELL = /bin/sh
TMPDIR = /tmp/testwrapper.30463
Perl special variables (and OS-specific diagnostics, for MSWin32):
$^X = /home/njh/perl5/perlbrew/perls/perl-5.24.4/bin/perl
$UID/$EUID = 1000 / 1000
$GID = 1000 1000 0
$EGID = 1000 1000 0
Perl module toolchain versions installed:
Module Have
------------------- --------
CPAN 2.16
CPAN::Meta 2.150010
Cwd 3.63_01
ExtUtils::CBuilder 0.280230
ExtUtils::Command 7.34
ExtUtils::Install 2.14
ExtUtils::MakeMaker 7.34
ExtUtils::Manifest 1.71
ExtUtils::ParseXS 3.35
File::Spec 3.63_01
JSON 2.97001
JSON::PP 2.97001
Module::Build 0.4224
Module::Signature n/a
Parse::CPAN::Meta 2.150010
Test::Harness 3.42
Test::More 1.302140
YAML 1.26
YAML::Syck 1.30
version 0.9924
--
Summary of my perl5 (revision 5 version 24 subversion 4) configuration:
Platform:
osname=openbsd, osvers=6.2, archname=OpenBSD.amd64-openbsd
uname='openbsd netgate1.bandsman.co.uk 6.2 generic.mp#7 amd64 '
config_args='-de -Dprefix=/home/njh/perl5/perlbrew/perls/perl-5.24.4 -Aeval:scriptdir=/home/njh/perl5/perlbrew/perls/perl-5.24.4/bin'
hint=recommended, useposix=true, d_sigaction=define
useithreads=undef, usemultiplicity=undef
use64bitint=define, use64bitall=define, uselongdouble=undef
usemymalloc=n, bincompat5005=undef
Compiler:
cc='cc', ccflags ='-fno-strict-aliasing -pipe -fstack-protector-strong -I/usr/local/include -D_FORTIFY_SOURCE=2',
optimize='-O2',
cppflags='-fno-strict-aliasing -pipe -fstack-protector-strong -I/usr/local/include'
ccversion='', gccversion='4.2.1 Compatible OpenBSD Clang 4.0.0 (tags/RELEASE_400/final)', gccosandvers=''
intsize=4, longsize=8, ptrsize=8, doublesize=8, byteorder=12345678, doublekind=3
d_longlong=define, longlongsize=8, d_longdbl=define, longdblsize=16, longdblkind=3
ivtype='long', ivsize=8, nvtype='double', nvsize=8, Off_t='off_t', lseeksize=8
alignbytes=8, prototype=define
Linker and Libraries:
ld='cc', ldflags ='-Wl,-E -fstack-protector-strong -L/usr/local/lib'
libpth=/usr/lib /usr/local/lib
libs=-lpthread -lm -lutil -lc
perllibs=-lpthread -lm -lutil -lc
libc=/usr/lib/libc.so.90.0, so=so, useshrplib=false, libperl=libperl.a
gnulibc_version=''
Dynamic Linking:
dlsrc=dl_dlopen.xs, dlext=so, d_dlsymun=undef, ccdlflags=' '
cccdlflags='-DPIC -fPIC ', lddlflags='-shared -fPIC -L/usr/local/lib -fstack-protector-strong'
Characteristics of this binary (from libperl):
Compile-time options: HAS_TIMES PERLIO_LAYERS PERL_COPY_ON_WRITE
PERL_DONT_CREATE_GVSV
PERL_HASH_FUNC_ONE_AT_A_TIME_HARD PERL_MALLOC_WRAP
PERL_PRESERVE_IVUV USE_64_BIT_ALL USE_64_BIT_INT
USE_LARGE_FILES USE_LOCALE USE_LOCALE_COLLATE
USE_LOCALE_CTYPE USE_LOCALE_NUMERIC USE_LOCALE_TIME
USE_PERLIO USE_PERL_ATOF
Locally applied patches:
Devel::PatchPerl 1.48
Built under openbsd
Compiled at May 10 2018 02:17:11
%ENV:
PERL5LIB="/tmp/build/Text-ANSI-WideUtil-0.22-8/blib/arch:/tmp/build/Text-ANSI-WideUtil-0.22-8/blib/lib:/tmp/build/Text-WideChar-Util-0.16-7/blib/arch:/tmp/build/Text-WideChar-Util-0.16-7/blib/lib:/tmp/build/Unicode-LineBreak-2018.003-7/blib/arch:/tmp/build/Unicode-LineBreak-2018.003-7/blib/lib:/tmp/build/MIME-Charset-1.012.2-7/blib/arch:/tmp/build/MIME-Charset-1.012.2-7/blib/lib:/tmp/build/Text-ANSI-Util-0.22-7/blib/arch:/tmp/build/Text-ANSI-Util-0.22-7/blib/lib:/tmp/build/Data-Dump-1.23-3/blib/arch:/tmp/build/Data-Dump-1.23-3/blib/lib:/tmp/build/Term-Choose-1.628-8/blib/arch:/tmp/build/Term-Choose-1.628-8/blib/lib:/tmp/build/Parse-ANSIColor-Tiny-0.601-8/blib/arch:/tmp/build/Parse-ANSIColor-Tiny-0.601-8/blib/lib:/tmp/build/Test-Requires-0.10-2/blib/arch:/tmp/build/Test-Requires-0.10-2/blib/lib:/tmp/build/Test-Differences-0.64-2/blib/arch:/tmp/build/Test-Differences-0.64-2/blib/lib"
PERL5OPT=""
PERL5_CPANPLUS_IS_RUNNING="95840"
PERL5_CPAN_IS_RUNNING="95840"
PERLBREW_HOME="/home/njh/.perlbrew"
PERLBREW_MANPATH="/home/njh/perl5/perlbrew/perls/perl-5.24.4/man"
PERLBREW_PATH="/home/njh/perl5/perlbrew/bin:/home/njh/perl5/perlbrew/perls/perl-5.24.4/bin"
PERLBREW_PERL="perl-5.24.4"
PERLBREW_ROOT="/home/njh/perl5/perlbrew"
PERLBREW_SHELLRC_VERSION="0.84"
PERLBREW_VERSION="0.84"
@INC:
/tmp/build/Text-ANSI-WideUtil-0.22-8/blib/arch
/tmp/build/Text-ANSI-WideUtil-0.22-8/blib/lib
/tmp/build/Text-WideChar-Util-0.16-7/blib/arch
/tmp/build/Text-WideChar-Util-0.16-7/blib/lib
/tmp/build/Unicode-LineBreak-2018.003-7/blib/arch
/tmp/build/Unicode-LineBreak-2018.003-7/blib/lib
/tmp/build/MIME-Charset-1.012.2-7/blib/arch
/tmp/build/MIME-Charset-1.012.2-7/blib/lib
/tmp/build/Text-ANSI-Util-0.22-7/blib/arch
/tmp/build/Text-ANSI-Util-0.22-7/blib/lib
/tmp/build/Data-Dump-1.23-3/blib/arch
/tmp/build/Data-Dump-1.23-3/blib/lib
/tmp/build/Term-Choose-1.628-8/blib/arch
/tmp/build/Term-Choose-1.628-8/blib/lib
/tmp/build/Parse-ANSIColor-Tiny-0.601-8/blib/arch
/tmp/build/Parse-ANSIColor-Tiny-0.601-8/blib/lib
/tmp/build/Test-Requires-0.10-2/blib/arch
/tmp/build/Test-Requires-0.10-2/blib/lib
/tmp/build/Test-Differences-0.64-2/blib/arch
/tmp/build/Test-Differences-0.64-2/blib/lib
/home/njh/perl5/perlbrew/perls/perl-5.24.4/lib/site_perl/5.24.4/OpenBSD.amd64-openbsd
/home/njh/perl5/perlbrew/perls/perl-5.24.4/lib/site_perl/5.24.4
/home/njh/perl5/perlbrew/perls/perl-5.24.4/lib/5.24.4/OpenBSD.amd64-openbsd
/home/njh/perl5/perlbrew/perls/perl-5.24.4/lib/5.24.4
.