DBIx-Sunny v0.9991 Perl 5 v5.12.1 x86_64-linux-thread-multi
- Status
- Pass
- From
- Chris Williams (BINGOS)
- Dist
-
DBIx-Sunny v0.9991
- Platform
- Perl 5 v5.12.1 x86_64-linux-thread-multi
- Date
- 2020-01-22 11:11:55
- ID
- ffb3374e-3d07-11ea-9066-e374b0ba08e8
This distribution has been tested as part of the CPAN Testers
project, supporting the Perl programming language. See
http://wiki.cpantesters.org/ for more information or email
questions to cpan-testers-discuss@perl.org
--
Dear Masayuki Matsuki,
This is a computer-generated error report created automatically by
CPANPLUS, version 0.9904. Testers personal comments may appear
at the end of this report.
Thank you for uploading your work to CPAN. Congratulations!
All tests were successful.
TEST RESULTS:
Below is the error stack from stage 'make test':
t/00_compile.t ......... ok
t/01_basic.t ........... ok
t/02_rootclass.t ....... ok
Transaction was aborted without calling an explicit commit or rollback. (Guard created at t/03_txn.t line 23) at /home/cpan/pit/jail/AGQBFlFJzl/lib/perl5/DBIx/TransactionManager.pm line 115.
t/03_txn.t ............. ok
t/04_mysql.t ........... skipped: Test requires module 'Test::mysqld' but it's not found
t/05_typed.t ........... ok
t/06_dbic.t ............ skipped: Test requires module 'DBIx::Tracer' but it's not found
t/07_caller.t .......... skipped: Test requires module 'DBIx::Tracer' but it's not found
t/08_named.t ........... ok
t/09_pg.t .............. skipped: Test requires module 'Test::PostgreSQL' but it's not found
t/schema_00_compile.t .. ok
t/schema_01_basic.t .... ok
Transaction was aborted without calling an explicit commit or rollback. (Guard created at t/schema_03_txn.t line 16) at /home/cpan/pit/jail/AGQBFlFJzl/lib/perl5/DBIx/TransactionManager.pm line 115.
t/schema_03_txn.t ...... ok
t/schema_04_named.t .... ok
t/scheme_02_args.t ..... ok
All tests successful.
Files=15, Tests=96, 0 wallclock secs ( 0.04 usr 0.03 sys + 0.77 cusr 0.09 csys = 0.93 CPU)
Result: PASS
PREREQUISITES:
Here is a list of prerequisites you specified and versions we
managed to load:
Module Name Have Want
Capture::Tiny 0.48 0
Class::Accessor::Lite 0.08 0.05
Class::Data::Inheritable 0.08 0
DBI 1.642 1.615
DBIx::TransactionManager 1.13 0.13
Data::Validator 1.07 0
SQL::Maker::SQLType 0 0
SQL::NamedPlaceholder 0.10 0.10
Scalar::Util 1.53 0
Test::More 1.302171 0.98
Test::Requires 0.10 0
parent 0.223 0
Perl module toolchain versions installed:
Module Name Have
CPANPLUS 0.9904
CPANPLUS::Dist::Build 0.90
Cwd 3.75
ExtUtils::CBuilder 0.280231
ExtUtils::Command 7.44
ExtUtils::Install 2.14
ExtUtils::MakeMaker 7.44
ExtUtils::Manifest 1.72
ExtUtils::ParseXS 3.35
File::Spec 3.75
Module::Build 0.4229
Pod::Parser 1.37
Pod::Simple 3.14
Test2 1.302171
Test::Harness 3.42
Test::More 1.302171
version 0.9924
******************************** NOTE ********************************
The comments above are created mechanically, possibly without manual
checking by the sender. As there are many people performing automatic
tests on each upload to CPAN, it is likely that you will receive
identical messages about the same problem.
If you believe that the message is mistaken, please reply to the first
one with correction and/or additional informations, and do not take
it personally. We appreciate your patience. :)
**********************************************************************
Additional comments:
This report was machine-generated by CPANPLUS::Dist::YACSmoke 1.08.
Powered by minismokebox version 0.68
CPANPLUS is prefering Build.PL
------------------------------
ENVIRONMENT AND OTHER CONTEXT
------------------------------
Environment variables:
AUTOMATED_TESTING = 1
LANG = en_GB.UTF-8
LANGUAGE = en_GB:en
NONINTERACTIVE_TESTING = 1
PATH = /usr/local/sbin:/usr/local/bin:/usr/sbin:/usr/bin:/sbin:/bin:/usr/games:/usr/local/games:/snap/bin
PERL5LIB = /home/cpan/pit/jail/AGQBFlFJzl/lib/perl5:/home/cpan/pit/thr/conf/perl-5.12.1/.cpanplus/5.12.1/build/TQAzdyz7M3/SQL-NamedPlaceholder-0.10/blib/lib:/home/cpan/pit/thr/conf/perl-5.12.1/.cpanplus/5.12.1/build/TQAzdyz7M3/SQL-NamedPlaceholder-0.10/blib/arch:/home/cpan/pit/thr/conf/perl-5.12.1/.cpanplus/5.12.1/build/2jUzrhpQ8W/DBIx-Sunny-0.9991/blib/lib:/home/cpan/pit/thr/conf/perl-5.12.1/.cpanplus/5.12.1/build/2jUzrhpQ8W/DBIx-Sunny-0.9991/blib/arch
PERL5_CPANPLUS_IS_RUNNING = 569
PERL5_CPANPLUS_IS_VERSION = 0.9904
PERL5_MINISMOKEBOX = 0.68
PERL5_YACSMOKE_BASE = /home/cpan/pit/thr/conf/perl-5.12.1
PERL_EXTUTILS_AUTOINSTALL = --defaultdeps
PERL_LOCAL_LIB_ROOT = /home/cpan/pit/jail/AGQBFlFJzl
PERL_MB_OPT = --install_base "/home/cpan/pit/jail/AGQBFlFJzl"
PERL_MM_OPT = INSTALL_BASE=/home/cpan/pit/jail/AGQBFlFJzl
PERL_MM_USE_DEFAULT = 1
SHELL = /bin/bash
TERM = screen
Perl special variables (and OS-specific diagnostics, for MSWin32):
Perl: $^X = /home/cpan/pit/thr/perl-5.12.1/bin/perl
UID: $< = 1001
EUID: $> = 1001
GID: $( = 1001 1001
EGID: $) = 1001 1001
-------------------------------
--
Summary of my perl5 (revision 5 version 12 subversion 1) configuration:
Platform:
osname=linux, osvers=4.15.0-54-generic, archname=x86_64-linux-thread-multi
uname='linux uchder 4.15.0-54-generic #58-ubuntu smp mon jun 24 10:55:24 utc 2019 x86_64 x86_64 x86_64 gnulinux '
config_args='-des -Dprefix=/home/cpan/pit/thr/perl-5.12.1 -Dusethreads'
hint=recommended, useposix=true, d_sigaction=define
useithreads=define, usemultiplicity=define
useperlio=define, d_sfio=undef, uselargefiles=define, usesocks=undef
use64bitint=define, use64bitall=define, uselongdouble=undef
usemymalloc=n, bincompat5005=undef
Compiler:
cc='cc', ccflags ='-D_REENTRANT -D_GNU_SOURCE -fwrapv -fno-strict-aliasing -pipe -fstack-protector -I/usr/local/include -D_LARGEFILE_SOURCE -D_FILE_OFFSET_BITS=64',
optimize='-O2',
cppflags='-D_REENTRANT -D_GNU_SOURCE -fwrapv -fno-strict-aliasing -pipe -fstack-protector -I/usr/local/include'
ccversion='', gccversion='7.4.0', gccosandvers=''
intsize=4, longsize=8, ptrsize=8, doublesize=8, byteorder=12345678
d_longlong=define, longlongsize=8, d_longdbl=define, longdblsize=16
ivtype='long', ivsize=8, nvtype='double', nvsize=8, Off_t='off_t', lseeksize=8
alignbytes=8, prototype=define
Linker and Libraries:
ld='cc', ldflags =' -fstack-protector -L/usr/local/lib'
libpth=/usr/local/lib /lib/x86_64-linux-gnu /lib/../lib /usr/lib/x86_64-linux-gnu /usr/lib/../lib /lib /usr/lib
libs=-lnsl -lgdbm -ldl -lm -lcrypt -lutil -lpthread -lc
perllibs=-lnsl -ldl -lm -lcrypt -lutil -lpthread -lc
libc=libc-2.27.so, so=so, useshrplib=false, libperl=libperl.a
gnulibc_version='2.27'
Dynamic Linking:
dlsrc=dl_dlopen.xs, dlext=so, d_dlsymun=undef, ccdlflags='-Wl,-E'
cccdlflags='-fPIC', lddlflags='-shared -O2 -L/usr/local/lib -fstack-protector'
Characteristics of this binary (from libperl):
Compile-time options: MULTIPLICITY PERL_DONT_CREATE_GVSV
PERL_IMPLICIT_CONTEXT PERL_MALLOC_WRAP USE_64_BIT_ALL
USE_64_BIT_INT USE_ITHREADS USE_LARGE_FILES
USE_PERLIO USE_PERL_ATOF USE_REENTRANT_API
Locally applied patches:
Devel::PatchPerl 1.64
Built under linux
Compiled at Jul 18 2019 19:31:55
%ENV:
PERL5LIB="/home/cpan/pit/jail/AGQBFlFJzl/lib/perl5:/home/cpan/pit/thr/conf/perl-5.12.1/.cpanplus/5.12.1/build/TQAzdyz7M3/SQL-NamedPlaceholder-0.10/blib/lib:/home/cpan/pit/thr/conf/perl-5.12.1/.cpanplus/5.12.1/build/TQAzdyz7M3/SQL-NamedPlaceholder-0.10/blib/arch:/home/cpan/pit/thr/conf/perl-5.12.1/.cpanplus/5.12.1/build/2jUzrhpQ8W/DBIx-Sunny-0.9991/blib/lib:/home/cpan/pit/thr/conf/perl-5.12.1/.cpanplus/5.12.1/build/2jUzrhpQ8W/DBIx-Sunny-0.9991/blib/arch"
PERL5_CPANPLUS_IS_RUNNING="569"
PERL5_CPANPLUS_IS_VERSION="0.9904"
PERL5_MINISMOKEBOX="0.68"
PERL5_YACSMOKE_BASE="/home/cpan/pit/thr/conf/perl-5.12.1"
PERL_EXTUTILS_AUTOINSTALL="--defaultdeps"
PERL_LOCAL_LIB_ROOT="/home/cpan/pit/jail/AGQBFlFJzl"
PERL_MB_OPT="--install_base "/home/cpan/pit/jail/AGQBFlFJzl""
PERL_MM_OPT="INSTALL_BASE=/home/cpan/pit/jail/AGQBFlFJzl"
PERL_MM_USE_DEFAULT="1"
@INC:
/home/cpan/pit/jail/AGQBFlFJzl/lib/perl5/5.12.1/x86_64-linux-thread-multi
/home/cpan/pit/jail/AGQBFlFJzl/lib/perl5/5.12.1
/home/cpan/pit/jail/AGQBFlFJzl/lib/perl5/x86_64-linux-thread-multi
/home/cpan/pit/jail/AGQBFlFJzl/lib/perl5
/home/cpan/pit/thr/conf/perl-5.12.1/.cpanplus/5.12.1/build/TQAzdyz7M3/SQL-NamedPlaceholder-0.10/blib/lib
/home/cpan/pit/thr/conf/perl-5.12.1/.cpanplus/5.12.1/build/TQAzdyz7M3/SQL-NamedPlaceholder-0.10/blib/arch
/home/cpan/pit/thr/conf/perl-5.12.1/.cpanplus/5.12.1/build/2jUzrhpQ8W/DBIx-Sunny-0.9991/blib/lib
/home/cpan/pit/thr/conf/perl-5.12.1/.cpanplus/5.12.1/build/2jUzrhpQ8W/DBIx-Sunny-0.9991/blib/arch
/home/cpan/pit/thr/perl-5.12.1/lib/site_perl/5.12.1/x86_64-linux-thread-multi
/home/cpan/pit/thr/perl-5.12.1/lib/site_perl/5.12.1
/home/cpan/pit/thr/perl-5.12.1/lib/5.12.1/x86_64-linux-thread-multi
/home/cpan/pit/thr/perl-5.12.1/lib/5.12.1
.