Text-Template-Simple v0.91 Perl 5 v5.22.2 x86_64-linux-thread-multi
- Status
- Pass
- From
- Nigel Horne
- Dist
-
Text-Template-Simple v0.91
- Platform
- Perl 5 v5.22.2 x86_64-linux-thread-multi
- Date
- 2019-07-02 16:32:35
- ID
- ffb5e2c6-9ce6-11e9-8fa9-99a29f1e7dde
This distribution has been tested as part of the CPAN Testers
project, supporting the Perl programming language. See
http://wiki.cpantesters.org/ for more information or email
questions to cpan-testers-discuss@perl.org
--
Dear Burak Gursoy,
This is a computer-generated report for Text-Template-Simple-0.91
on perl 5.22.2, created by CPAN-Reporter-1.2018.
Thank you for uploading your work to CPAN. Congratulations!
All tests were successful.
Sections of this report:
* Tester comments
* Program output
* Prerequisites
* Environment and other context
------------------------------
TESTER COMMENTS
------------------------------
Additional comments from tester:
none provided
------------------------------
PROGRAM OUTPUT
------------------------------
Output from '/usr/bin/make test':
PERL_DL_NONLAZY=1 "/home/njh/perl5/perlbrew/perls/perl-5.22.2/bin/perl5.22.2" "-MExtUtils::Command::MM" "-MTest::Harness" "-e" "undef *Test::Harness::Switches; test_harness(0, 'blib/lib', 'blib/arch')" t/*.t
t/004-extend.t ....................... ok
t/005-safe.t ......................... ok
t/006-iolayer.t ...................... ok
t/008-escape-delim.t ................. ok
t/007-stack.t ........................ ok
t/009-subclass.t ..................... ok
t/003-simple.t ....................... ok
t/010-subclass-define-bufvar.t ....... ok
t/011-cache-mem.t .................... ok
t/015-connector.t .................... ok
t/016-include-static.t ............... ok
t/012-cache-disk.t ................... ok
#
# Versions for all modules listed in MYMETA.json (including optional ones):
#
# === Configure Requires ===
#
# Module Want Have
# ------------------- ---- ----
# ExtUtils::MakeMaker any 7.22
#
# === Build Requires ===
#
# Module Want Have
# ------------------- ---- ----
# ExtUtils::MakeMaker any 7.22
#
# === Test Requires ===
#
# Module Want Have
# ------------------- ---- --------
# ExtUtils::MakeMaker any 7.22
# File::Spec any 3.75
# IO::Handle any 1.35
# IPC::Open3 any 1.18
# Test::More any 1.302162
#
# === Test Recommends ===
#
# Module Want Have
# ---------- -------- --------
# CPAN::Meta 2.120900 2.150010
#
# === Runtime Requires ===
#
# Module Want Have
# ----------- ---- ----
# Digest::MD5 1 2.54
#
# === Runtime Recommends ===
#
# Module Want Have
# ----------- ----- --------
# Devel::Size 0.77 missing
# Perl::Tidy any 20160302
# Text::Table 1.107 missing
#
t/00-report-prereqs.t ................ ok
t/017-include-dynamic.t .............. ok
t/019-dynamic-static-interpolate.t ... ok
t/013-cache-other.t .................. ok
t/018-include-dynamic-recursive.t .... ok
t/021-comment.t ...................... ok
t/024-include-paths.t ................ ok
t/023-change-delims.t ................ ok
t/022-monolith.t ..................... ok
t/025-chomp.t ........................ ok
t/026-template-name-dollar-zero.t .... ok
t/author-pod-coverage.t .............. skipped: these tests are for testing by the author
t/author-pod-syntax.t ................ skipped: these tests are for testing by the author
t/020-fake-include-recursive.t ....... ok
t/release-distmeta.t ................. skipped: these tests are for release candidate testing
t/027-include-param.t ................ ok
t/029-block-filter.t ................. ok
t/028-include-filter.t ............... ok
t/030-toke-substr.t .................. ok
t/031-capture-warnings.t ............. ok
t/00-compile.t ....................... ok
t/032-empty-includes.t ............... ok
t/033-dynamic-include-shared-vars.t .. ok
All tests successful.
Files=35, Tests=338, 0 wallclock secs ( 0.09 usr 0.03 sys + 2.91 cusr 0.41 csys = 3.44 CPU)
Result: PASS
------------------------------
PREREQUISITES
------------------------------
Prerequisite modules loaded:
requires:
Module Need Have
------------------- ----- --------
Digest::MD5 1 2.54
perl 5.010 5.022002
build_requires:
Module Need Have
------------------- ----- --------
ExtUtils::MakeMaker 0 7.22
File::Spec 0 3.75
IO::Handle 0 1.35
IPC::Open3 0 1.18
Test::More 0 1.302162
configure_requires:
Module Need Have
------------------- ----- --------
ExtUtils::MakeMaker 0 7.22
------------------------------
ENVIRONMENT AND OTHER CONTEXT
------------------------------
Environment variables:
HARNESS_OPTIONS = j10:c
LANG = en_GB.UTF-8
LD_LIBRARY_PATH = /usr/local/lib::
NONINTERACTIVE_TESTING = 1
PATH = /home/njh/perl5/perlbrew/bin:/home/njh/perl5/perlbrew/perls/perl-5.22.2/bin:/home/njh/perl5/perlbrew/bin:/usr/local/bin:/usr/bin:/bin:/usr/games:/home/njh/bin:/sbin:/home/njh/.cargo/bin
PERL5LIB =
PERL5OPT =
PERL5_CPANPLUS_IS_RUNNING = 16629
PERL5_CPAN_IS_RUNNING = 16629
PERLBREW_HOME = /home/njh/.perlbrew
PERLBREW_LIB =
PERLBREW_MANPATH = /home/njh/perl5/perlbrew/perls/perl-5.22.2/man
PERLBREW_PATH = /home/njh/perl5/perlbrew/bin:/home/njh/perl5/perlbrew/perls/perl-5.22.2/bin
PERLBREW_PERL = perl-5.22.2
PERLBREW_ROOT = /home/njh/perl5/perlbrew
PERLBREW_SHELLRC_VERSION = 0.86
PERLBREW_VERSION = 0.86
PERL_LOCAL_LIB_ROOT =
PERL_MM_USE_DEFAULT = 1
PERL_USE_UNSAFE_INC = 1
SHELL = /bin/bash
TEMP = /tmp/user/1000
TMPDIR = /tmp/user/1000
Perl special variables (and OS-specific diagnostics, for MSWin32):
$^X = /home/njh/perl5/perlbrew/perls/perl-5.22.2/bin/perl5.22.2
$UID/$EUID = 1000 / 1000
$GID = 1000 4 24 25 29 30 44 46 107 112 118 996 1000
$EGID = 1000 4 24 25 29 30 44 46 107 112 118 996 1000
Perl module toolchain versions installed:
Module Have
------------------- --------
CPAN 2.26
CPAN::Meta 2.150010
Cwd 3.75
ExtUtils::CBuilder 0.280221
ExtUtils::Command 7.22
ExtUtils::Install 2.04
ExtUtils::MakeMaker 7.22
ExtUtils::Manifest 1.72
ExtUtils::ParseXS 3.30
File::Spec 3.75
JSON 4.02
JSON::PP 2.27400
Module::Build 0.4218
Module::Signature n/a
Parse::CPAN::Meta 2.150010
Test::Harness 3.36
Test::More 1.302162
YAML 1.29
YAML::Syck 1.31
version 0.9909
--
Summary of my perl5 (revision 5 version 22 subversion 2) configuration:
Platform:
osname=linux, osvers=4.5.0-1-amd64, archname=x86_64-linux-thread-multi
uname='linux cyberpower2 4.5.0-1-amd64 #1 smp debian 4.5.1-1 (2016-04-14) x86_64 gnulinux '
config_args='-de -Dprefix=/home/njh/perl5/perlbrew/perls/perl-5.22.2 -Duseithreads -Dusemultiplicity -Dusedevel -Accflags= -Aeval:scriptdir=/home/njh/perl5/perlbrew/perls/perl-5.22.2/bin'
hint=recommended, useposix=true, d_sigaction=define
useithreads=define, usemultiplicity=define
use64bitint=define, use64bitall=define, uselongdouble=undef
usemymalloc=n, bincompat5005=undef
Compiler:
cc='cc', ccflags ='-D_REENTRANT -D_GNU_SOURCE -fwrapv -fno-strict-aliasing -pipe -fstack-protector-strong -I/usr/local/include -D_LARGEFILE_SOURCE -D_FILE_OFFSET_BITS=64 -D_FORTIFY_SOURCE=2',
optimize='-O2',
cppflags='-D_REENTRANT -D_GNU_SOURCE -fwrapv -fno-strict-aliasing -pipe -fstack-protector-strong -I/usr/local/include'
ccversion='', gccversion='5.3.1 20160409', gccosandvers=''
intsize=4, longsize=8, ptrsize=8, doublesize=8, byteorder=12345678, doublekind=3
d_longlong=define, longlongsize=8, d_longdbl=define, longdblsize=16, longdblkind=3
ivtype='long', ivsize=8, nvtype='double', nvsize=8, Off_t='off_t', lseeksize=8
alignbytes=8, prototype=define
Linker and Libraries:
ld='cc', ldflags =' -fstack-protector-strong -L/usr/local/lib'
libpth=/usr/local/lib /usr/lib/gcc/x86_64-linux-gnu/5/include-fixed /usr/include/x86_64-linux-gnu /usr/lib /lib/x86_64-linux-gnu /lib/../lib /usr/lib/x86_64-linux-gnu /usr/lib/../lib /lib
libs=-lpthread -lnsl -lgdbm -ldb -ldl -lm -lcrypt -lutil -lc -lgdbm_compat
perllibs=-lpthread -lnsl -ldl -lm -lcrypt -lutil -lc
libc=libc-2.22.so, so=so, useshrplib=false, libperl=libperl.a
gnulibc_version='2.22'
Dynamic Linking:
dlsrc=dl_dlopen.xs, dlext=so, d_dlsymun=undef, ccdlflags='-Wl,-E'
cccdlflags='-fPIC', lddlflags='-shared -O2 -L/usr/local/lib -fstack-protector-strong'
Characteristics of this binary (from libperl):
Compile-time options: HAS_TIMES MULTIPLICITY PERLIO_LAYERS
PERL_DONT_CREATE_GVSV
PERL_HASH_FUNC_ONE_AT_A_TIME_HARD
PERL_IMPLICIT_CONTEXT PERL_MALLOC_WRAP
PERL_NEW_COPY_ON_WRITE PERL_PRESERVE_IVUV
PERL_USE_DEVEL USE_64_BIT_ALL USE_64_BIT_INT
USE_ITHREADS USE_LARGE_FILES USE_LOCALE
USE_LOCALE_COLLATE USE_LOCALE_CTYPE
USE_LOCALE_NUMERIC USE_LOCALE_TIME USE_PERLIO
USE_PERL_ATOF USE_REENTRANT_API
Built under linux
Compiled at May 2 2016 00:31:45
%ENV:
PERL5LIB=""
PERL5OPT=""
PERL5_CPANPLUS_IS_RUNNING="16629"
PERL5_CPAN_IS_RUNNING="16629"
PERLBREW_HOME="/home/njh/.perlbrew"
PERLBREW_LIB=""
PERLBREW_MANPATH="/home/njh/perl5/perlbrew/perls/perl-5.22.2/man"
PERLBREW_PATH="/home/njh/perl5/perlbrew/bin:/home/njh/perl5/perlbrew/perls/perl-5.22.2/bin"
PERLBREW_PERL="perl-5.22.2"
PERLBREW_ROOT="/home/njh/perl5/perlbrew"
PERLBREW_SHELLRC_VERSION="0.86"
PERLBREW_VERSION="0.86"
PERL_LOCAL_LIB_ROOT=""
PERL_MM_USE_DEFAULT="1"
PERL_USE_UNSAFE_INC="1"
@INC:
/home/njh/perl5/perlbrew/perls/perl-5.22.2/lib/site_perl/5.22.2/x86_64-linux-thread-multi
/home/njh/perl5/perlbrew/perls/perl-5.22.2/lib/site_perl/5.22.2
/home/njh/perl5/perlbrew/perls/perl-5.22.2/lib/5.22.2/x86_64-linux-thread-multi
/home/njh/perl5/perlbrew/perls/perl-5.22.2/lib/5.22.2
.