Report for XML-Parser-2.44

Back
From: metabase:user:4b7a898c-cfb9-11e4-9e20-0b66cbefee3a
Subject: PASS XML-Parser-2.44 v5.16.3 FreeBSD
Date: 2015-04-18T13:08:26Z

This distribution has been tested as part of the CPAN Testers
project, supporting the Perl programming language.  See
http://wiki.cpantesters.org/ for more information or email
questions to cpan-testers-discuss@perl.org


--
Dear Todd Rinaldo,

This is a computer-generated report for XML-Parser-2.44
on perl 5.16.3, created by CPAN-Reporter-1.2011.

Thank you for uploading your work to CPAN.  Congratulations!
All tests were successful.

Sections of this report:

    * Tester comments
    * Program output
    * Prerequisites
    * Environment and other context

------------------------------
TESTER COMMENTS
------------------------------

Additional comments from tester:

this report is from an automated smoke testing program
and was not reviewed by a human for accuracy

------------------------------
PROGRAM OUTPUT
------------------------------

Output from '/usr/bin/make test':

Running Mkbootstrap for XML::Parser::Expat ()
chmod 644 "Expat.bs"
Manifying 1 pod document
PERL_DL_NONLAZY=1 "/root/perl5/perlbrew/perls/perl-5.16.3/bin/perl" "-MExtUtils::Command::MM" "-MTest::Harness" "-e" "undef *Test::Harness::Switches; test_harness(0, 'blib/lib', 'blib/arch')" t/*.t
t/astress.t ........... ok
t/cdata.t ............. ok
t/decl.t .............. ok
t/defaulted.t ......... ok
t/encoding.t .......... ok
t/external_ent.t ...... ok
t/file.t .............. ok
t/file_open_scalar.t .. ok
t/finish.t ............ ok
t/namespaces.t ........ ok
t/parament.t .......... ok
t/partial.t ........... ok
t/skip.t .............. ok
t/stream.t ............ ok
t/styles.t ............ ok
All tests successful.
Files=15, Tests=141,  1 wallclock secs ( 0.05 usr  0.02 sys +  0.34 cusr  0.17 csys =  0.58 CPU)
Result: PASS

------------------------------
PREREQUISITES
------------------------------

Prerequisite modules loaded:

requires:

    Module              Need    Have    
    ------------------- ------- --------
    LWP::UserAgent      0       6.13    
    perl                5.00405 5.016003

build_requires:

    Module              Need    Have    
    ------------------- ------- --------
    Test::More          0       1.001014

configure_requires:

    Module              Need    Have    
    ------------------- ------- --------
    ExtUtils::MakeMaker 0       7.04    


------------------------------
ENVIRONMENT AND OTHER CONTEXT
------------------------------

Environment variables:

    AUTOMATED_TESTING = 1
    LANG = ru_RU.UTF-8
    MANPATH_WITHOUT_PERLBREW = /usr/share/man:/usr/local/man:/usr/share/openssl/man:/usr/local/lib/perl5/site_perl/man:/usr/local/lib/perl5/5.20/perl/man
    PATH = /root/perl5/perlbrew/bin:/root/perl5/perlbrew/perls/perl-5.16.3/bin:/sbin:/bin:/usr/sbin:/usr/bin:/usr/games:/usr/local/sbin:/usr/local/bin:/root/bin
    PATH_WITHOUT_PERLBREW = /sbin:/bin:/usr/sbin:/usr/bin:/usr/games:/usr/local/sbin:/usr/local/bin:/root/bin
    PERL5LIB = /root/.cpan/build/XML-SAX-0.99-o1UyED/blib/arch:/root/.cpan/build/XML-SAX-0.99-o1UyED/blib/lib:/root/.cpan/build/XML-SAX-Base-1.08-kSyNZG/blib/arch:/root/.cpan/build/XML-SAX-Base-1.08-kSyNZG/blib/lib:/root/.cpan/build/XML-NamespaceSupport-1.11-5tOQX6/blib/arch:/root/.cpan/build/XML-NamespaceSupport-1.11-5tOQX6/blib/lib:/root/perl5/lib/perl5
    PERL5OPT = 
    PERL5_CPANPLUS_IS_RUNNING = 46818
    PERL5_CPAN_IS_RUNNING = 46818
    PERL5_CPAN_IS_RUNNING_IN_RECURSION = 618,46818
    PERLBREW_CSHRC_VERSION = 0.72
    PERLBREW_HOME = /root/.perlbrew
    PERLBREW_MANPATH = /root/perl5/perlbrew/perls/perl-5.16.3/man
    PERLBREW_PATH = /root/perl5/perlbrew/bin:/root/perl5/perlbrew/perls/perl-5.16.3/bin
    PERLBREW_PERL = perl-5.16.3
    PERLBREW_ROOT = /root/perl5/perlbrew
    PERLBREW_VERSION = 0.73
    PERL_CR_SMOKER_CURRENT = IPsonar-0.32
    PERL_EXTUTILS_AUTOINSTALL = --defaultdeps
    PERL_LOCAL_LIB_ROOT = /root/perl5
    PERL_MM_USE_DEFAULT = 1
    SHELL = /bin/csh
    TERM = xterm

Perl special variables (and OS-specific diagnostics, for MSWin32):

    $^X = /root/perl5/perlbrew/perls/perl-5.16.3/bin/perl
    $UID/$EUID = 0 / 0
    $GID = 0 0 5
    $EGID = 0 0 5

Perl module toolchain versions installed:

    Module              Have    
    ------------------- --------
    CPAN                2.10    
    CPAN::Meta          2.150001
    Cwd                 3.47    
    ExtUtils::CBuilder  0.280220
    ExtUtils::Command   1.20    
    ExtUtils::Install   2.04    
    ExtUtils::MakeMaker 7.04    
    ExtUtils::Manifest  1.70    
    ExtUtils::ParseXS   3.24    
    File::Spec          3.47    
    JSON                2.90    
    JSON::PP            2.27300 
    Module::Build       0.4211  
    Module::Signature   n/a     
    Parse::CPAN::Meta   1.4414  
    Test::Harness       3.35    
    Test::More          1.001014
    YAML                n/a     
    YAML::Syck          n/a     
    version             0.9912  


--

Summary of my perl5 (revision 5 version 16 subversion 3) configuration:
   
  Platform:
    osname=freebsd, osvers=9.3-release, archname=amd64-freebsd
    uname='freebsd fbsd-local 9.3-release freebsd 9.3-release #0 r268512: thu jul 10 23:44:39 utc 2014 root@snap.freebsd.org:usrobjusrsrcsysgeneric amd64 '
    config_args='-de -Dprefix=/root/perl5/perlbrew/perls/perl-5.16.3 -Aeval:scriptdir=/root/perl5/perlbrew/perls/perl-5.16.3/bin'
    hint=recommended, useposix=true, d_sigaction=define
    useithreads=undef, usemultiplicity=undef
    useperlio=define, d_sfio=undef, uselargefiles=define, usesocks=undef
    use64bitint=define, use64bitall=define, uselongdouble=undef
    usemymalloc=n, bincompat5005=undef
  Compiler:
    cc='cc', ccflags ='-DHAS_FPSETMASK -DHAS_FLOATINGPOINT_H -fno-strict-aliasing -pipe -fstack-protector -I/usr/local/include',
    optimize='-O',
    cppflags='-DHAS_FPSETMASK -DHAS_FLOATINGPOINT_H -fno-strict-aliasing -pipe -fstack-protector -I/usr/local/include'
    ccversion='', gccversion='4.2.1 20070831 patched [FreeBSD]', gccosandvers=''
    intsize=4, longsize=8, ptrsize=8, doublesize=8, byteorder=12345678
    d_longlong=define, longlongsize=8, d_longdbl=define, longdblsize=16
    ivtype='long', ivsize=8, nvtype='double', nvsize=8, Off_t='off_t', lseeksize=8
    alignbytes=8, prototype=define
  Linker and Libraries:
    ld='cc', ldflags ='-Wl,-E  -fstack-protector -L/usr/local/lib'
    libpth=/usr/lib /usr/local/lib
    libs=-lm -lcrypt -lutil -lc
    perllibs=-lm -lcrypt -lutil -lc
    libc=, so=so, useshrplib=false, libperl=libperl.a
    gnulibc_version=''
  Dynamic Linking:
    dlsrc=dl_dlopen.xs, dlext=so, d_dlsymun=undef, ccdlflags=' '
    cccdlflags='-DPIC -fPIC', lddlflags='-shared  -L/usr/local/lib -fstack-protector'


Characteristics of this binary (from libperl): 
  Compile-time options: HAS_TIMES PERLIO_LAYERS PERL_DONT_CREATE_GVSV
                        PERL_MALLOC_WRAP PERL_PRESERVE_IVUV USE_64_BIT_ALL
                        USE_64_BIT_INT USE_LARGE_FILES USE_LOCALE
                        USE_LOCALE_COLLATE USE_LOCALE_CTYPE
                        USE_LOCALE_NUMERIC USE_PERLIO USE_PERL_ATOF
  Locally applied patches:
	Devel::PatchPerl 1.30
  Built under freebsd
  Compiled at Jan 23 2015 22:16:51
  %ENV:
    PERL5LIB="/root/.cpan/build/XML-SAX-0.99-o1UyED/blib/arch:/root/.cpan/build/XML-SAX-0.99-o1UyED/blib/lib:/root/.cpan/build/XML-SAX-Base-1.08-kSyNZG/blib/arch:/root/.cpan/build/XML-SAX-Base-1.08-kSyNZG/blib/lib:/root/.cpan/build/XML-NamespaceSupport-1.11-5tOQX6/blib/arch:/root/.cpan/build/XML-NamespaceSupport-1.11-5tOQX6/blib/lib:/root/perl5/lib/perl5"
    PERL5OPT=""
    PERL5_CPANPLUS_IS_RUNNING="46818"
    PERL5_CPAN_IS_RUNNING="46818"
    PERL5_CPAN_IS_RUNNING_IN_RECURSION="618,46818"
    PERLBREW_CSHRC_VERSION="0.72"
    PERLBREW_HOME="/root/.perlbrew"
    PERLBREW_MANPATH="/root/perl5/perlbrew/perls/perl-5.16.3/man"
    PERLBREW_PATH="/root/perl5/perlbrew/bin:/root/perl5/perlbrew/perls/perl-5.16.3/bin"
    PERLBREW_PERL="perl-5.16.3"
    PERLBREW_ROOT="/root/perl5/perlbrew"
    PERLBREW_VERSION="0.73"
    PERL_CR_SMOKER_CURRENT="IPsonar-0.32"
    PERL_EXTUTILS_AUTOINSTALL="--defaultdeps"
    PERL_LOCAL_LIB_ROOT="/root/perl5"
    PERL_MM_USE_DEFAULT="1"
  @INC:
    /root/.cpan/build/XML-SAX-0.99-o1UyED/blib/arch
    /root/.cpan/build/XML-SAX-0.99-o1UyED/blib/lib
    /root/.cpan/build/XML-SAX-Base-1.08-kSyNZG/blib/arch
    /root/.cpan/build/XML-SAX-Base-1.08-kSyNZG/blib/lib
    /root/.cpan/build/XML-NamespaceSupport-1.11-5tOQX6/blib/arch
    /root/.cpan/build/XML-NamespaceSupport-1.11-5tOQX6/blib/lib
    /root/perl5/lib/perl5
    /root/perl5/perlbrew/perls/perl-5.16.3/lib/site_perl/5.16.3/amd64-freebsd
    /root/perl5/perlbrew/perls/perl-5.16.3/lib/site_perl/5.16.3
    /root/perl5/perlbrew/perls/perl-5.16.3/lib/5.16.3/amd64-freebsd
    /root/perl5/perlbrew/perls/perl-5.16.3/lib/5.16.3
    .