Report for Hash-AutoHash-1.17

Back
From: metabase:user:320bfe00-2aae-11df-837a-5e0a49663a4f
Subject: PASS Hash-AutoHash-1.17 v5.24.0 RC0 GNU/Linux
Date: 2016-04-13T04:41:34Z

This distribution has been tested as part of the CPAN Testers
project, supporting the Perl programming language.  See
http://wiki.cpantesters.org/ for more information or email
questions to cpan-testers-discuss@perl.org


--
Dear Nathan Goodman,

This is a computer-generated report for Hash-AutoHash-1.17
on perl 5.24.0, created by CPAN-Reporter-1.2017.

Thank you for uploading your work to CPAN.  Congratulations!
All tests were successful.

Sections of this report:

    * Tester comments
    * Program output
    * Prerequisites
    * Environment and other context

------------------------------
TESTER COMMENTS
------------------------------

Additional comments from tester:

this report is from an automated smoke testing program
and was not reviewed by a human for accuracy

------------------------------
PROGRAM OUTPUT
------------------------------

Output from './Build test':

# Testing Hash::AutoHash 1.17, Perl 5.024000, /tmp/basesmoker-reloperl-Jx0q/bin/perl
t/autohash.000.code_exists.t .... ok
t/autohash.001.boilerplate.t .... ok
t/autohash.002.pod.t ............ ok
t/autohash.010.cons_funcs.t ..... ok
t/autohash.011.new_func.t ....... ok
t/autohash.012.new_method.t ..... ok
t/autohash.013.ashash.t ......... ok
t/autohash.013.exthash.t ........ ok
t/autohash.013.extobj.t ......... ok
t/autohash.019.export_ok.t ...... ok
t/autohash.020.class_methods.t .. ok
t/autohash.020.special_keys.t ... ok
t/autohash.020.universal.t ...... ok
t/autohash.030.alias.t .......... ok
t/autohash.030.clear.t .......... ok
t/autohash.030.count_etc.t ...... ok
t/autohash.030.delete.t ......... ok
t/autohash.030.each.t ........... ok
t/autohash.030.exists.t ......... ok
t/autohash.030.get.t ............ ok
t/autohash.030.keys.t ........... ok
t/autohash.030.set.t ............ ok
t/autohash.030.tied.t ........... ok
t/autohash.030.values.t ......... ok
t/autohash.031.delete_exists.t .. ok
t/autohash.031.delete_keys.t .... ok
t/autohash.031.delete_values.t .. ok
t/autohash.040.destroy.t ........ ok
t/autohash.050.child.t .......... ok
t/autohash.050.grandchild.t ..... ok
t/autohash.055.typicalchild.t ... ok
t/autohash.099.docs.t ........... ok
All tests successful.
Files=32, Tests=2813,  3 wallclock secs ( 0.16 usr  0.22 sys +  1.98 cusr  0.22 csys =  2.58 CPU)
Result: PASS

------------------------------
PREREQUISITES
------------------------------

Prerequisite modules loaded:

requires:

    Module                Need   Have    
    --------------------- ------ --------
    Carp                  1.2    1.40    
    Cwd                   3.4    3.63    
    Exporter              5.68   5.72    
    List::MoreUtils       0.33   0.413   
    List::Util            1.32   1.45    
    perl                  v5.8.3 5.024000
    Tie::Hash             1.04   1.05    
    Tie::ToObject         0.03   0.03    
    XSLoader              0.15   0.21    

build_requires:

    Module                Need   Have    
    --------------------- ------ --------
    Carp                  1.2    1.40    
    Exporter              5.68   5.72    
    File::Spec            3.4    3.63    
    List::MoreUtils       0.33   0.413   
    Module::Build         0.4007 0.4216  
    Scalar::Util          1.23   1.45    
    Storable              2.3    2.56    
    Test::Deep            0.11   1.120   
    Test::More            0.98   1.001014
    Test::Pod             1.48   1.51    
    Test::Pod::Content    v0.0.6 0.0.6   
    Tie::Hash             1.04   1.05    
    Tie::Hash::MultiValue 1.02   1.02    

configure_requires:

    Module                Need   Have    
    --------------------- ------ --------
    Module::Build         0.4007 0.4216  


------------------------------
ENVIRONMENT AND OTHER CONTEXT
------------------------------

Environment variables:

    AUTOMATED_TESTING = 1
    LANG = C
    PATH = /usr/lib/ccache:/home/sand/bin:/usr/local/bin:/usr/lib/ccache:/usr/bin:/bin:/usr/games:/usr/local/perl/bin:/usr/X11/bin:/sbin:/usr/sbin
    PERL = /tmp/basesmoker-reloperl-Jx0q/bin/perl
    PERL5LIB = 
    PERL5OPT = 
    PERL5_CPANPLUS_IS_RUNNING = 13892
    PERL5_CPAN_IS_RUNNING = 13892
    PERL_CANARY_STABILITY_NOPROMPT = 1
    PERL_MM_USE_DEFAULT = 1
    SHELL = /usr/bin/zsh
    TERM = screen

Perl special variables (and OS-specific diagnostics, for MSWin32):

    $^X = /tmp/basesmoker-reloperl-Jx0q/bin/perl
    $UID/$EUID = 1005 / 1005
    $GID = 1005 1005
    $EGID = 1005 1005

Perl module toolchain versions installed:

    Module              Have    
    ------------------- --------
    CPAN                2.12    
    CPAN::Meta          2.150005
    Cwd                 3.63    
    ExtUtils::CBuilder  0.280225
    ExtUtils::Command   7.10    
    ExtUtils::Install   2.04    
    ExtUtils::MakeMaker 7.10_01 
    ExtUtils::Manifest  1.70    
    ExtUtils::ParseXS   3.31    
    File::Spec          3.63    
    JSON                2.90    
    JSON::PP            2.27300 
    Module::Build       0.4216  
    Module::Signature   0.79    
    Parse::CPAN::Meta   1.4417  
    Test::Harness       3.36    
    Test::More          1.001014
    YAML                1.15    
    YAML::Syck          1.29    
    version             0.9916  


--

Summary of my perl5 (revision 5 version 24 subversion 0) configuration:
  Commit id: 1e922e44fa3ea1077ef73d202eb7f75cbeb39013
  Platform:
    osname=linux, osvers=4.4.0-1-amd64, archname=x86_64-linux-thread-multi
    uname='linux k93x64sid 4.4.0-1-amd64 #1 smp debian 4.4.6-1 (2016-03-17) x86_64 gnulinux '
    config_args='-Dprefix=/home/sand/src/perl/repoperls/installed-perls/host/k93x64sid/v5.23.9-88-g1e922e4/fae6 -Dmyhostname=k93x64sid -Dinstallusrbinperl=n -Uversiononly -Dusedevel -des -Ui_db -Dlibswanted=cl pthread socket inet nsl gdbm dbm malloc dl ld sun m crypt sec util c cposix posix ucb BSD gdbm_compat -Duseithreads -Uuselongdouble'
    hint=recommended, useposix=true, d_sigaction=define
    useithreads=define, usemultiplicity=define
    use64bitint=define, use64bitall=define, uselongdouble=undef
    usemymalloc=n, bincompat5005=undef
  Compiler:
    cc='cc', ccflags ='-D_REENTRANT -D_GNU_SOURCE -fwrapv -fno-strict-aliasing -pipe -fstack-protector-strong -I/usr/local/include -D_LARGEFILE_SOURCE -D_FILE_OFFSET_BITS=64 -D_FORTIFY_SOURCE=2',
    optimize='-O2',
    cppflags='-D_REENTRANT -D_GNU_SOURCE -fwrapv -fno-strict-aliasing -pipe -fstack-protector-strong -I/usr/local/include'
    ccversion='', gccversion='5.3.1 20160409', gccosandvers=''
    intsize=4, longsize=8, ptrsize=8, doublesize=8, byteorder=12345678, doublekind=3
    d_longlong=define, longlongsize=8, d_longdbl=define, longdblsize=16, longdblkind=3
    ivtype='long', ivsize=8, nvtype='double', nvsize=8, Off_t='off_t', lseeksize=8
    alignbytes=8, prototype=define
  Linker and Libraries:
    ld='cc', ldflags =' -fstack-protector-strong -L/usr/local/lib'
    libpth=/usr/local/lib /usr/lib/gcc/x86_64-linux-gnu/5/include-fixed /usr/include/x86_64-linux-gnu /usr/lib /lib/x86_64-linux-gnu /lib/../lib /usr/lib/x86_64-linux-gnu /usr/lib/../lib /lib
    libs=-lpthread -lnsl -ldl -lm -lcrypt -lutil -lc
    perllibs=-lpthread -lnsl -ldl -lm -lcrypt -lutil -lc
    libc=libc-2.22.so, so=so, useshrplib=false, libperl=libperl.a
    gnulibc_version='2.22'
  Dynamic Linking:
    dlsrc=dl_dlopen.xs, dlext=so, d_dlsymun=undef, ccdlflags='-Wl,-E'
    cccdlflags='-fPIC', lddlflags='-shared -O2 -L/usr/local/lib -fstack-protector-strong'


Characteristics of this binary (from libperl): 
  Compile-time options: HAS_TIMES MULTIPLICITY PERLIO_LAYERS
                        PERL_COPY_ON_WRITE PERL_DONT_CREATE_GVSV
                        PERL_HASH_FUNC_ONE_AT_A_TIME_HARD
                        PERL_IMPLICIT_CONTEXT PERL_MALLOC_WRAP
                        PERL_PRESERVE_IVUV PERL_USE_DEVEL USE_64_BIT_ALL
                        USE_64_BIT_INT USE_ITHREADS USE_LARGE_FILES
                        USE_LOCALE USE_LOCALE_COLLATE USE_LOCALE_CTYPE
                        USE_LOCALE_NUMERIC USE_LOCALE_TIME USE_PERLIO
                        USE_PERL_ATOF USE_REENTRANT_API
  Locally applied patches:
	RC0
  Built under linux
  Compiled at Apr 12 2016 22:27:43
  %ENV:
    PERL="/tmp/basesmoker-reloperl-Jx0q/bin/perl"
    PERL5LIB=""
    PERL5OPT=""
    PERL5_CPANPLUS_IS_RUNNING="13892"
    PERL5_CPAN_IS_RUNNING="13892"
    PERL_CANARY_STABILITY_NOPROMPT="1"
    PERL_MM_USE_DEFAULT="1"
  @INC:
    /home/sand/src/perl/repoperls/installed-perls/host/k93x64sid/v5.23.9-88-g1e922e4/fae6/lib/site_perl/5.24.0/x86_64-linux-thread-multi
    /home/sand/src/perl/repoperls/installed-perls/host/k93x64sid/v5.23.9-88-g1e922e4/fae6/lib/site_perl/5.24.0
    /home/sand/src/perl/repoperls/installed-perls/host/k93x64sid/v5.23.9-88-g1e922e4/fae6/lib/5.24.0/x86_64-linux-thread-multi
    /home/sand/src/perl/repoperls/installed-perls/host/k93x64sid/v5.23.9-88-g1e922e4/fae6/lib/5.24.0
    .