Catalyst-View-Email v0.36 Perl 5 v5.43.4 x86_64-linux
- Status
- Pass
- From
- John SJ Anderson
- Dist
-
Catalyst-View-Email v0.36
- Platform
- Perl 5 v5.43.4 x86_64-linux
- Date
- 2025-10-23 17:59:20
- ID
- ffff4598-b039-11f0-82a6-dbff06ad3047
This distribution has been tested as part of the CPAN Testers
project, supporting the Perl programming language. See
http://wiki.cpantesters.org/ for more information or email
questions to cpan-testers-discuss@perl.org
--
Dear DHOSS,
This is a computer-generated report for Catalyst-View-Email-0.36
on perl 5.43.4, created by App::cpanminus::reporter 0.22 (1.7048).
Thank you for uploading your work to CPAN. Congratulations!
All tests were successful.
Sections of this report:
* Tester comments
* Program output
* Prerequisites
* Environment and other context
------------------------------
TESTER COMMENTS
------------------------------
Additional comments from tester:
none provided
------------------------------
PROGRAM OUTPUT
------------------------------
Output from '':
Building and testing Catalyst-View-Email-0.36
cp lib/Catalyst/View/Email/Template.pm blib/lib/Catalyst/View/Email/Template.pm
cp lib/Catalyst/Helper/View/Email.pm blib/lib/Catalyst/Helper/View/Email.pm
cp lib/Catalyst/View/Email.pm blib/lib/Catalyst/View/Email.pm
cp lib/Catalyst/Helper/View/Email/Template.pm blib/lib/Catalyst/Helper/View/Email/Template.pm
Manifying 4 pod documents
PERL_DL_NONLAZY=1 "/opt/plenv/versions/5.43.4/bin/perl5.43.4" "-MExtUtils::Command::MM" "-MTest::Harness" "-e" "undef *Test::Harness::Switches; test_harness(0, 'inc', 'blib/lib', 'blib/arch')" t/01use.t t/02pod.t t/04basic.t t/05template.t t/06config.t t/07mason.t
Attempt to call undefined import method with arguments ("Catalyst::View::Email::Template") via package "Catalyst::View::Email" (Perhaps you forgot to load the package?) at t/01use.t line 3.
t/01use.t ....... ok
t/02pod.t ....... skipped: set TEST_POD to enable this test
require TestApp::View::Mason was successful but the package is not defined. at /opt/plenv/versions/5.43.4/lib/perl5/site_perl/5.43.4/Catalyst/Utils.pm line 316.
t/04basic.t ..... ok
require TestApp::View::Mason was successful but the package is not defined. at /opt/plenv/versions/5.43.4/lib/perl5/site_perl/5.43.4/Catalyst/Utils.pm line 316.
t/05template.t .. ok
require TestApp::View::Mason was successful but the package is not defined. at /opt/plenv/versions/5.43.4/lib/perl5/site_perl/5.43.4/Catalyst/Utils.pm line 316.
replacing non-multipart type (text/html) with multipart/mixed at /home/genehack/.cpanm/work/1761237119.1270480/Catalyst-View-Email-0.36/blib/lib/Catalyst/View/Email.pm line 396.
t/06config.t .... ok
t/07mason.t ..... skipped: Test requires module 'Catalyst::View::Mason' but it's not found
All tests successful.
Files=6, Tests=34, 2 wallclock secs ( 0.01 usr 0.01 sys + 1.60 cusr 0.14 csys = 1.76 CPU)
Result: PASS
------------------------------
PREREQUISITES
------------------------------
Prerequisite modules loaded:
runtime:
Module Need Have
--------------------- -------- --------
Authen::SASL 2.13 2.1900
Catalyst 5.7 5.90132
Email::MIME 1.859 1.954
Email::MIME::Creator 1.455 1.954
Email::Sender::Simple 0.100110 2.601
MIME::Base64 3.08 3.16_01
Module::Runtime 0.014 0.018
Moose 0.93 2.4000
parent 0.223 0.244
Test::More 0.88 1.302214
Test::Requires 0 0.11
build:
Module Need Have
--------------------- -------- --------
ExtUtils::MakeMaker 6.36 7.76
Test::More 0 1.302214
Test::Requires 0 0.11
configure:
Module Need Have
--------------------- -------- --------
ExtUtils::MakeMaker 0 7.76
------------------------------
ENVIRONMENT AND OTHER CONTEXT
------------------------------
Environment variables:
LANG = en_US.UTF-8
LC_ALL = en_US.UTF-8
LC_TERMINAL = iTerm2
LC_TERMINAL_VERSION = 3.6.1
PATH = /opt/plenv/versions/5.43.4/bin:/opt/plenv/libexec:/opt/plenv/plugins/Perl-Build/bin:/opt/rbenv/shims:/home/genehack/src/git-subrepo/lib:/opt/local/bin:/opt/rbenv/shims:/home/genehack/src/git-subrepo/lib:/opt/nextstrain-env/cli-standalone:/home/genehack/bin:/opt/rust/cargo/bin:/opt/miniconda3/condabin:/opt/plenv/shims:/opt/plenv/bin:/opt/git/bin:/opt/emacs/bin:/opt/local/bin:/usr/local/bin:/usr/bin:/bin:/usr/games:/opt/rbenv/bin/
PERL_CPANM_OPT = --skip-installed --prompt
SHELL = /usr/bin/zsh
TERM = screen-256color
Perl special variables (and OS-specific diagnostics, for MSWin32):
EGID = 1000 24 25 27 29 30 44 46 100 106 1000
EUID = 1027
EXECUTABLE_NAME = /opt/plenv/versions/5.43.4/bin/perl5.43.4
GID = 1000 24 25 27 29 30 44 46 100 106 1000
UID = 1027
Perl module toolchain versions installed:
Module Have
------------------- --------
CPAN 2.38
CPAN::Meta 2.150010
Cwd 3.94
ExtUtils::CBuilder 0.280242
ExtUtils::Command 7.76
ExtUtils::Install 2.22
ExtUtils::MakeMaker 7.76
ExtUtils::Manifest 1.75
ExtUtils::ParseXS 3.60
File::Spec 3.94
JSON 4.10
JSON::PP 4.16
Module::Build 0.4234
Module::Signature n/a
Parse::CPAN::Meta 2.150010
Test::Harness 3.52
Test::More 1.302214
YAML 1.31
YAML::Syck n/a
version 0.9933
--
Summary of my perl5 (revision 5 version 43 subversion 4) configuration:
Platform:
osname=linux
osvers=6.12.43+deb13-amd64
archname=x86_64-linux
uname='linux beeves 6.12.43+deb13-amd64 #1 smp preempt_dynamic debian 6.12.43-1 (2025-08-27) x86_64 gnulinux '
config_args='-Dprefix=/opt/plenv/versions/5.43.4 -de -Dversiononly -Dusedevel -A'eval:scriptdir=/opt/plenv/versions/5.43.4/bin''
hint=recommended
useposix=true
d_sigaction=define
useithreads=undef
usemultiplicity=undef
use64bitint=define
use64bitall=define
uselongdouble=undef
usemymalloc=n
default_inc_excludes_dot=define
Compiler:
cc='cc'
ccflags ='-fwrapv -fno-strict-aliasing -pipe -fstack-protector-strong -I/usr/local/include -D_LARGEFILE_SOURCE -D_FILE_OFFSET_BITS=64 -D_FORTIFY_SOURCE=2'
optimize='-O2'
cppflags='-fwrapv -fno-strict-aliasing -pipe -fstack-protector-strong -I/usr/local/include'
ccversion=''
gccversion='14.2.0'
gccosandvers=''
intsize=4
longsize=8
ptrsize=8
doublesize=8
byteorder=12345678
doublekind=3
d_longlong=define
longlongsize=8
d_longdbl=define
longdblsize=16
longdblkind=3
ivtype='long'
ivsize=8
nvtype='double'
nvsize=8
Off_t='off_t'
lseeksize=8
alignbytes=8
prototype=define
Linker and Libraries:
ld='cc'
ldflags =' -fstack-protector-strong -L/usr/local/lib'
libpth=/usr/local/lib /usr/lib/x86_64-linux-gnu /usr/lib /usr/lib64
libs=-lpthread -lgdbm -ldb -ldl -lm -lcrypt -lutil -lc
perllibs=-lpthread -ldl -lm -lcrypt -lutil -lc
libc=/lib/x86_64-linux-gnu/libc.so.6
so=so
useshrplib=false
libperl=libperl.a
gnulibc_version='2.41'
Dynamic Linking:
dlsrc=dl_dlopen.xs
dlext=so
d_dlsymun=undef
ccdlflags='-Wl,-E'
cccdlflags='-fPIC'
lddlflags='-shared -O2 -L/usr/local/lib -fstack-protector-strong'
Characteristics of this binary (from libperl):
Compile-time options:
HAS_LONG_DOUBLE
HAS_STRTOLD
HAS_TIMES
PERLIO_LAYERS
PERL_COPY_ON_WRITE
PERL_DONT_CREATE_GVSV
PERL_HASH_FUNC_SIPHASH13
PERL_HASH_USE_SBOX32
PERL_MALLOC_WRAP
PERL_OP_PARENT
PERL_PRESERVE_IVUV
PERL_USE_DEVEL
PERL_USE_SAFE_PUTENV
USE_64_BIT_ALL
USE_64_BIT_INT
USE_LARGE_FILES
USE_LOCALE
USE_LOCALE_COLLATE
USE_LOCALE_CTYPE
USE_LOCALE_NUMERIC
USE_LOCALE_TIME
USE_PERLIO
USE_PERL_ATOF
Built under linux
Compiled at Oct 23 2025 09:18:01
%ENV:
PERL_CPANM_OPT="--skip-installed --prompt"
@INC:
/opt/plenv/versions/5.43.4/lib/perl5/site_perl/5.43.4/x86_64-linux
/opt/plenv/versions/5.43.4/lib/perl5/site_perl/5.43.4
/opt/plenv/versions/5.43.4/lib/perl5/5.43.4/x86_64-linux
/opt/plenv/versions/5.43.4/lib/perl5/5.43.4