Net-APNs-Extended v0.07 Perl 5 v5.19.3 cygwin-thread-multi-64int

Status
Pass
From
Ryan Whitworth
Dist
Net-APNs-Extended v0.07
Platform
Perl 5 v5.19.3 cygwin-thread-multi-64int
Date
2013-09-03 22:11:55
ID
008308ee-6d8e-1014-a165-a3d17e0f01d3
This distribution has been tested as part of the CPAN Testers
project, supporting the Perl programming language.  See
http://wiki.cpantesters.org/ for more information or email
questions to cpan-testers-discuss@perl.org


--
Dear Yuji Shimada,

This is a computer-generated report for Net-APNs-Extended-0.07
on perl 5.19.3, created by CPAN-Reporter-1.2010.

Thank you for uploading your work to CPAN.  Congratulations!
All tests were successful.

Sections of this report:

    * Tester comments
    * Program output
    * Prerequisites
    * Environment and other context

------------------------------
TESTER COMMENTS
------------------------------

Additional comments from tester:

this report is from an automated smoke testing program
and was not reviewed by a human for accuracy

------------------------------
PROGRAM OUTPUT
------------------------------

Output from './Build test':

Module::Build will be removed from the Perl core distribution in the next major release. Please install it from CPAN. It is being used at /home/lithron/.cpan/build/Net-APNs-Extended-0.07-3lbegz/_build/lib/MyBuilder.pm, line 2.
t/00_compile.t .................... ok
t/01_new.t ........................ ok
t/02_send.t ....................... ok
t/03_send_multi.t ................. ok
t/04_create_send_data.t ........... ok
t/05_retrieve_error.t ............. ok
t/06_constants.t .................. ok
t/base/00_compile.t ............... ok
t/base/01_new.t ................... ok
t/base/02_accessors.t ............. ok
t/base/03_hostname.t .............. ok
t/feedback/01_new.t ............... ok
t/feedback/02_retrive_feedback.t .. ok
All tests successful.
Files=13, Tests=66,  5 wallclock secs ( 0.11 usr  0.12 sys +  2.33 cusr  2.65 csys =  5.22 CPU)
Result: PASS

------------------------------
PREREQUISITES
------------------------------

Prerequisite modules loaded:

requires:

    Module                Need     Have    
    --------------------- -------- --------
    Class::Accessor::Lite 0        0.05    
    JSON::XS              0        2.34    
    Net::SSLeay           0        1.55    
    parent                0        0.226   
    perl                  5.008001 5.019003

build_requires:

    Module                Need     Have    
    --------------------- -------- --------
    ExtUtils::CBuilder    0        0.280210
    Test::Mock::Guard     0.08     0.09    
    Test::More            0.98     0.98    

configure_requires:

    Module                Need     Have    
    --------------------- -------- --------
    CPAN::Meta            0        2.132140
    CPAN::Meta::Prereqs   0        2.132140
    Module::Build         0.38     0.4007  


------------------------------
ENVIRONMENT AND OTHER CONTEXT
------------------------------

Environment variables:

    AUTOMATED_TESTING = 1
    COMSPEC = C:\windows\system32\cmd.exe
    LANG = en_US.UTF-8
    NUMBER_OF_PROCESSORS = 8
    PATH = /home/lithron/perl5/perlbrew/bin:/home/lithron/perl5/perlbrew/perls/perl-5.19.3/bin:/usr/local/bin:/usr/bin:/cygdrive/c/windows/system32:/cygdrive/c/windows:/cygdrive/c/windows/System32/Wbem:/cygdrive/c/windows/System32/WindowsPowerShell/v1.0:/cygdrive/c/Dwimperl/perl/bin:/cygdrive/c/Dwimperl/perl/site/bin:/cygdrive/c/Dwimperl/c/bin:/cygdrive/c/Program Files/Intel/WiFi/bin:/cygdrive/c/Program Files/Common Files/Intel/WirelessCommon:/cygdrive/c/Program Files/Mercurial:.
    PERL5LIB = /home/lithron/.cpan/build/Test-Mock-Guard-0.09-eqlbaY/blib/arch:/home/lithron/.cpan/build/Test-Mock-Guard-0.09-eqlbaY/blib/lib
    PERL5OPT = 
    PERL5_CPANPLUS_IS_RUNNING = 468
    PERL5_CPAN_IS_RUNNING = 468
    PERL5_CPAN_IS_RUNNING_IN_RECURSION = 6588,468
    PERLBREW_BASHRC_VERSION = 0.66
    PERLBREW_HOME = /home/lithron/.perlbrew
    PERLBREW_MANPATH = /home/lithron/perl5/perlbrew/perls/perl-5.19.3/man
    PERLBREW_PATH = /home/lithron/perl5/perlbrew/bin:/home/lithron/perl5/perlbrew/perls/perl-5.19.3/bin
    PERLBREW_PERL = perl-5.19.3
    PERLBREW_ROOT = /home/lithron/perl5/perlbrew
    PERLBREW_VERSION = 0.66
    PERL_CR_SMOKER_CURRENT = Net-APNs-Extended-0.07
    PERL_EXTUTILS_AUTOINSTALL = --defaultdeps
    PERL_MM_USE_DEFAULT = 1
    PROCESSOR_IDENTIFIER = Intel64 Family 6 Model 42 Stepping 7, GenuineIntel
    SHELL = /bin/bash
    TEMP = /tmp
    TERM = xterm

Perl special variables (and OS-specific diagnostics, for MSWin32):

    $^X = /home/lithron/perl5/perlbrew/perls/perl-5.19.3/bin/perl5.19.3
    $UID/$EUID = 1002 / 1002
    $GID = 513 545 1001 513
    $EGID = 513 545 1001 513

Perl module toolchain versions installed:

    Module              Have    
    ------------------- --------
    CPAN                2.00    
    CPAN::Meta          2.132140
    Cwd                 3.44    
    ExtUtils::CBuilder  0.280210
    ExtUtils::Command   1.17    
    ExtUtils::Install   1.60    
    ExtUtils::MakeMaker 6.74    
    ExtUtils::Manifest  1.63    
    ExtUtils::ParseXS   3.22    
    File::Spec          3.44    
    JSON                2.59    
    JSON::PP            2.27202 
    Module::Build       0.4007  
    Module::Signature   n/a     
    Parse::CPAN::Meta   1.4405  
    Test::Harness       3.28    
    Test::More          0.98    
    YAML                0.84    
    YAML::Syck          1.27    
    version             0.9903  


--

Summary of my perl5 (revision 5 version 19 subversion 3) configuration:
   
  Platform:
    osname=cygwin, osvers=1.7.20(0.26653), archname=cygwin-thread-multi-64int
    uname='cygwin_nt-6.1-wow64 lithron-laptop 1.7.20(0.26653) 2013-06-07 11:11 i686 cygwin '
    config_args='-de -Dprefix=/home/lithron/perl5/perlbrew/perls/perl-5.19.3 -Dusedevel -Aeval:scriptdir=/home/lithron/perl5/perlbrew/perls/perl-5.19.3/bin'
    hint=recommended, useposix=true, d_sigaction=define
    useithreads=define, usemultiplicity=define
    useperlio=define, d_sfio=undef, uselargefiles=define, usesocks=undef
    use64bitint=define, use64bitall=undef, uselongdouble=undef
    usemymalloc=n, bincompat5005=undef
  Compiler:
    cc='gcc', ccflags ='-DPERL_USE_SAFE_PUTENV -U__STRICT_ANSI__ -fno-strict-aliasing -pipe -fstack-protector -I/usr/local/include',
    optimize='-O3',
    cppflags='-DPERL_USE_SAFE_PUTENV -U__STRICT_ANSI__ -fno-strict-aliasing -pipe -fstack-protector -I/usr/local/include'
    ccversion='', gccversion='4.5.3', gccosandvers=''
    intsize=4, longsize=4, ptrsize=4, doublesize=8, byteorder=12345678
    d_longlong=define, longlongsize=8, d_longdbl=define, longdblsize=12
    ivtype='long long', ivsize=8, nvtype='double', nvsize=8, Off_t='off_t', lseeksize=8
    alignbytes=8, prototype=define
  Linker and Libraries:
    ld='g++', ldflags =' -Wl,--enable-auto-import -Wl,--export-all-symbols -Wl,--enable-auto-image-base -fstack-protector -L/usr/local/lib'
    libpth=/usr/local/lib /usr/lib /lib
    libs=-ldb -ldl -lcrypt
    perllibs=-ldl -lcrypt
    libc=/usr/lib/libc.a, so=dll, useshrplib=true, libperl=cygperl5_19_3.dll
    gnulibc_version=''
  Dynamic Linking:
    dlsrc=dl_dlopen.xs, dlext=dll, d_dlsymun=undef, ccdlflags=' '
    cccdlflags=' ', lddlflags=' --shared  -Wl,--enable-auto-import -Wl,--export-all-symbols -Wl,--enable-auto-image-base -L/usr/local/lib -fstack-protector'


Characteristics of this binary (from libperl): 
  Compile-time options: HAS_TIMES MULTIPLICITY PERLIO_LAYERS
                        PERL_DONT_CREATE_GVSV
                        PERL_HASH_FUNC_ONE_AT_A_TIME_HARD
                        PERL_IMPLICIT_CONTEXT PERL_MALLOC_WRAP
                        PERL_NEW_COPY_ON_WRITE PERL_PRESERVE_IVUV
                        PERL_USE_DEVEL PERL_USE_SAFE_PUTENV USE_64_BIT_INT
                        USE_ITHREADS USE_LARGE_FILES USE_LOCALE
                        USE_LOCALE_COLLATE USE_LOCALE_CTYPE
                        USE_LOCALE_NUMERIC USE_PERLIO USE_PERL_ATOF
                        USE_REENTRANT_API
  Built under cygwin
  Compiled at Aug 24 2013 16:05:12
  %ENV:
    PERL5LIB="/home/lithron/.cpan/build/Test-Mock-Guard-0.09-eqlbaY/blib/arch:/home/lithron/.cpan/build/Test-Mock-Guard-0.09-eqlbaY/blib/lib"
    PERL5OPT=""
    PERL5_CPANPLUS_IS_RUNNING="468"
    PERL5_CPAN_IS_RUNNING="468"
    PERL5_CPAN_IS_RUNNING_IN_RECURSION="6588,468"
    PERLBREW_BASHRC_VERSION="0.66"
    PERLBREW_HOME="/home/lithron/.perlbrew"
    PERLBREW_MANPATH="/home/lithron/perl5/perlbrew/perls/perl-5.19.3/man"
    PERLBREW_PATH="/home/lithron/perl5/perlbrew/bin:/home/lithron/perl5/perlbrew/perls/perl-5.19.3/bin"
    PERLBREW_PERL="perl-5.19.3"
    PERLBREW_ROOT="/home/lithron/perl5/perlbrew"
    PERLBREW_VERSION="0.66"
    PERL_CR_SMOKER_CURRENT="Net-APNs-Extended-0.07"
    PERL_EXTUTILS_AUTOINSTALL="--defaultdeps"
    PERL_MM_USE_DEFAULT="1"
  @INC:
    /home/lithron/.cpan/build/Test-Mock-Guard-0.09-eqlbaY/blib/arch
    /home/lithron/.cpan/build/Test-Mock-Guard-0.09-eqlbaY/blib/lib
    /home/lithron/perl5/perlbrew/perls/perl-5.19.3/lib/site_perl/5.19.3/cygwin-thread-multi-64int
    /home/lithron/perl5/perlbrew/perls/perl-5.19.3/lib/site_perl/5.19.3
    /home/lithron/perl5/perlbrew/perls/perl-5.19.3/lib/5.19.3/cygwin-thread-multi-64int
    /home/lithron/perl5/perlbrew/perls/perl-5.19.3/lib/5.19.3
    .