Text-Tradition-Directory v1.2 Perl 5 v5.12.4 x86_64-linux-thread-multi

Status
Pass
From
Serguei Trouchelle (STRO)
Dist
Text-Tradition-Directory v1.2
Platform
Perl 5 v5.12.4 x86_64-linux-thread-multi
Date
2015-09-04 02:38:20
ID
0117f2da-52ae-11e5-9e4d-8ff451623f65
This distribution has been tested as part of the CPAN Testers
project, supporting the Perl programming language.  See
http://wiki.cpantesters.org/ for more information or email
questions to cpan-testers-discuss@perl.org


--
Dear Tara Andrews,

This is a computer-generated report for Text-Tradition-Directory-1.2
on perl 5.12.4, created by CPAN-Reporter-1.2015.

Thank you for uploading your work to CPAN.  Congratulations!
All tests were successful.

Sections of this report:

    * Tester comments
    * Program output
    * Prerequisites
    * Environment and other context

------------------------------
TESTER COMMENTS
------------------------------

Additional comments from tester:

this report is from an automated smoke testing program
and was not reviewed by a human for accuracy

------------------------------
PROGRAM OUTPUT
------------------------------

Output from '/usr/bin/make test':

PERL_DL_NONLAZY=1 "/home/stro/perl/5.12.4t/bin/perl" "-MExtUtils::Command::MM" "-MTest::Harness" "-e" "undef *Test::Harness::Switches; test_harness(0, 'inc', 'blib/lib', 'blib/arch')" t/*.t
t/00dependencies.t ................ ok
t/02pod.t ......................... ok
t/03podcoverage.t ................. skipped: set TEST_POD to enable this test
t/load-save-speed.t ............... skipped: Skipping performance tests under prove/make, run manually to test performance improvements
t/mysql_utf8.t .................... skipped: Please set TT_MYSQL_TEST to an appropriate db to run this test
Class::MOP::load_class is deprecated at /home/stro/perl/5.12.4t/lib/site_perl/5.12.4/x86_64-linux-thread-multi/Class/MOP.pm line 69.
	Class::MOP::load_class("Authen::Passphrase::SaltedDigest") called at /home/stro/perl/5.12.4t/lib/site_perl/5.12.4/KiokuX/User/Util.pm line 35
	KiokuX::User::Util::crypt_password("UserPass") called at /home/stro/cpan/build/5.12.4t/build/Text-Tradition-Directory-1.2-zDRhfG/blib/lib/Text/Tradition/Directory.pm line 448
	Text::Tradition::Directory::add_user(Text::Tradition::Directory=HASH(0x6334130), HASH(0x6fe53c8)) called at t/text_tradition_directory.t line 40
t/text_tradition_directory.t ...... ok
Class::MOP::load_class is deprecated at /home/stro/perl/5.12.4t/lib/site_perl/5.12.4/x86_64-linux-thread-multi/Class/MOP.pm line 69, <DATA> line 41.
	Class::MOP::load_class("Authen::Passphrase::SaltedDigest") called at /home/stro/perl/5.12.4t/lib/site_perl/5.12.4/KiokuX/User/Util.pm line 35
	KiokuX::User::Util::crypt_password("bloggspass") called at /home/stro/cpan/build/5.12.4t/build/Text-Tradition-Directory-1.2-zDRhfG/blib/lib/Text/Tradition/Directory.pm line 448
	Text::Tradition::Directory::add_user(Text::Tradition::Directory=HASH(0x5f61030), HASH(0x5e9ffc0)) called at t/text_tradition_user.t line 35
t/text_tradition_user.t ........... ok
Class::MOP::load_class is deprecated at /home/stro/perl/5.12.4t/lib/site_perl/5.12.4/x86_64-linux-thread-multi/Class/MOP.pm line 69, <DATA> line 41.
	Class::MOP::load_class("Authen::Passphrase::SaltedDigest") called at /home/stro/perl/5.12.4t/lib/site_perl/5.12.4/KiokuX/User/Util.pm line 35
	KiokuX::User::Util::crypt_password("bloggspass") called at /home/stro/cpan/build/5.12.4t/build/Text-Tradition-Directory-1.2-zDRhfG/blib/lib/Text/Tradition/Directory.pm line 448
	Text::Tradition::Directory::add_user(Text::Tradition::Directory=HASH(0x5004058), HASH(0x4f5aa08)) called at t/text_tradition_user_collapse.t line 29
t/text_tradition_user_collapse.t .. ok
t/userrestore.t ................... ok
All tests successful.
Files=9, Tests=101, 25 wallclock secs ( 0.05 usr  0.00 sys + 11.91 cusr  0.28 csys = 12.24 CPU)
Result: PASS

------------------------------
PREREQUISITES
------------------------------

Prerequisite modules loaded:

requires:

    Module                         Need  Have    
    ------------------------------ ----- --------
    Class::Load                    0     0.23    
    DBI                            0     1.634   
    JSON                           0     2.90    
    KiokuDB::Backend::DBI          0     1.23    
    KiokuDB::GC::Naive             0     0.57    
    KiokuDB::TypeMap               0     0.57    
    KiokuDB::TypeMap::Entry::Naive 0     0.57    
    KiokuX::Model                  0     0.02    
    KiokuX::User::Util             0     0       
    Moose                          0     2.1602  
    Moose::Role                    0     2.1602  
    namespace::clean               0     0.25    
    perl                           5.012 5.012004
    Safe::Isa                      0     1.000005
    Text::Tradition                1.1   2.0.1   
    TryCatch                       0     1.003002
    YAML::XS                       0     0.59    

build_requires:

    Module                         Need  Have    
    ------------------------------ ----- --------
    ExtUtils::MakeMaker            6.59  7.04    
    Test::Memory::Cycle            0     1.04    
    Test::More::UTF8               0     0.04    
    Test::Warn                     0     0.30    

configure_requires:

    Module                         Need  Have    
    ------------------------------ ----- --------
    ExtUtils::MakeMaker            6.59  7.04    


------------------------------
ENVIRONMENT AND OTHER CONTEXT
------------------------------

Environment variables:

    AUTOMATED_TESTING = 1
    LANG = en_US.UTF-8
    PATH = /usr/local/bin:/usr/bin:/bin:/usr/local/games:/usr/games
    PERL5LIB = 
    PERL5OPT = 
    PERL5_CPANPLUS_IS_RUNNING = 11590
    PERL5_CPAN_IS_RUNNING = 11590
    PERL5_CPAN_IS_RUNNING_IN_RECURSION = 9023,11590
    PERL_CR_SMOKER_CURRENT = Text-Tradition-Analysis-2.0.2
    PERL_EXTUTILS_AUTOINSTALL = --defaultdeps
    PERL_MM_USE_DEFAULT = 1
    SHELL = /bin/bash
    TERM = xterm

Perl special variables (and OS-specific diagnostics, for MSWin32):

    $^X = /home/stro/perl/5.12.4t/bin/perl
    $UID/$EUID = 1000 / 1000
    $GID = 1000 24 25 29 30 44 46 108 114 1000
    $EGID = 1000 24 25 29 30 44 46 108 114 1000

Perl module toolchain versions installed:

    Module              Have    
    ------------------- --------
    CPAN                1.94_56 
    CPAN::Meta          2.150005
    Cwd                 3.47    
    ExtUtils::CBuilder  0.280223
    ExtUtils::Command   1.16    
    ExtUtils::Install   1.55    
    ExtUtils::MakeMaker 7.04    
    ExtUtils::Manifest  1.70    
    ExtUtils::ParseXS   3.24    
    File::Spec          3.47    
    JSON                2.90    
    JSON::PP            2.27203 
    Module::Build       0.4214  
    Module::Signature   n/a     
    Parse::CPAN::Meta   1.4417  
    Test::Harness       3.35    
    Test::More          1.001014
    YAML                1.15    
    YAML::Syck          1.29    
    version             0.9912  


--

Summary of my perl5 (revision 5 version 12 subversion 4) configuration:
   
  Platform:
    osname=linux, osvers=3.16.0-4-amd64, archname=x86_64-linux-thread-multi
    uname='linux vm-debian-001 3.16.0-4-amd64 #1 smp debian 3.16.7-ckt11-1 (2015-05-24) x86_64 gnulinux '
    config_args=''
    hint=recommended, useposix=true, d_sigaction=define
    useithreads=define, usemultiplicity=define
    useperlio=define, d_sfio=undef, uselargefiles=define, usesocks=undef
    use64bitint=define, use64bitall=define, uselongdouble=undef
    usemymalloc=n, bincompat5005=undef
  Compiler:
    cc='cc', ccflags ='-D_REENTRANT -D_GNU_SOURCE -fno-strict-aliasing -pipe -fstack-protector -I/usr/local/include -D_LARGEFILE_SOURCE -D_FILE_OFFSET_BITS=64',
    optimize='-O2',
    cppflags='-D_REENTRANT -D_GNU_SOURCE -fno-strict-aliasing -pipe -fstack-protector -I/usr/local/include'
    ccversion='', gccversion='4.9.2', gccosandvers=''
    intsize=4, longsize=8, ptrsize=8, doublesize=8, byteorder=12345678
    d_longlong=define, longlongsize=8, d_longdbl=define, longdblsize=16
    ivtype='long', ivsize=8, nvtype='double', nvsize=8, Off_t='off_t', lseeksize=8
    alignbytes=8, prototype=define
  Linker and Libraries:
    ld='cc', ldflags =' -fstack-protector -L/usr/local/lib'
    libpth=/usr/local/lib /lib/x86_64-linux-gnu /lib/../lib /usr/lib/x86_64-linux-gnu /usr/lib/../lib /lib /usr/lib
    libs=-lnsl -ldl -lm -lcrypt -lutil -lpthread -lc
    perllibs=-lnsl -ldl -lm -lcrypt -lutil -lpthread -lc
    libc=, so=so, useshrplib=false, libperl=libperl.a
    gnulibc_version='2.19'
  Dynamic Linking:
    dlsrc=dl_dlopen.xs, dlext=so, d_dlsymun=undef, ccdlflags='-Wl,-E'
    cccdlflags='-fPIC', lddlflags='-shared -O2 -L/usr/local/lib -fstack-protector'


Characteristics of this binary (from libperl): 
  Compile-time options: MULTIPLICITY PERL_DONT_CREATE_GVSV
                        PERL_IMPLICIT_CONTEXT PERL_MALLOC_WRAP USE_64_BIT_ALL
                        USE_64_BIT_INT USE_ITHREADS USE_LARGE_FILES
                        USE_PERLIO USE_PERL_ATOF USE_REENTRANT_API
  Built under linux
  Compiled at Jul 17 2015 18:39:48
  %ENV:
    PERL5LIB=""
    PERL5OPT=""
    PERL5_CPANPLUS_IS_RUNNING="11590"
    PERL5_CPAN_IS_RUNNING="11590"
    PERL5_CPAN_IS_RUNNING_IN_RECURSION="9023,11590"
    PERL_CR_SMOKER_CURRENT="Text-Tradition-Analysis-2.0.2"
    PERL_EXTUTILS_AUTOINSTALL="--defaultdeps"
    PERL_MM_USE_DEFAULT="1"
  @INC:
    /home/stro/perl/5.12.4t/lib/site_perl/5.12.4/x86_64-linux-thread-multi
    /home/stro/perl/5.12.4t/lib/site_perl/5.12.4
    /home/stro/perl/5.12.4t/lib/5.12.4/x86_64-linux-thread-multi
    /home/stro/perl/5.12.4t/lib/5.12.4
    .