Back
From: metabase:user:314402c4-2aae-11df-837a-5e0a49663a4f
Subject: PASS Text-Tradition-Directory-1.2 v5.20.1 FreeBSD
Date: 2015-04-23T00:23:50Z
This distribution has been tested as part of the CPAN Testers
project, supporting the Perl programming language. See
http://wiki.cpantesters.org/ for more information or email
questions to cpan-testers-discuss@perl.org
--
Dear Tara Andrews,
This is a computer-generated report for Text-Tradition-Directory-1.2
on perl 5.20.1, created by CPAN-Reporter-1.2011.
Thank you for uploading your work to CPAN. Congratulations!
All tests were successful.
Sections of this report:
* Tester comments
* Program output
* Prerequisites
* Environment and other context
------------------------------
TESTER COMMENTS
------------------------------
Additional comments from tester:
none provided
------------------------------
PROGRAM OUTPUT
------------------------------
Output from '/usr/bin/make test':
PERL_DL_NONLAZY=1 "/usr/perl5.20.1p/bin/perl5.20.1" "-MExtUtils::Command::MM" "-MTest::Harness" "-e" "undef *Test::Harness::Switches; test_harness(0, 'inc', 'blib/lib', 'blib/arch')" t/*.t
t/00dependencies.t ................ ok
t/02pod.t ......................... ok
t/03podcoverage.t ................. skipped: set TEST_POD to enable this test
t/load-save-speed.t ............... skipped: Skipping performance tests under prove/make, run manually to test performance improvements
t/mysql_utf8.t .................... skipped: Please set TT_MYSQL_TEST to an appropriate db to run this test
Class::MOP::load_class is deprecated at /usr/perl5.20.1p/lib/site_perl/5.20.1/amd64-freebsd/Class/MOP.pm line 69.
Class::MOP::load_class("Authen::Passphrase::SaltedDigest") called at /home/cpansand/.cpan/build/KiokuX-User-0.02-kQTQNr/blib/lib/KiokuX/User/Util.pm line 35
KiokuX::User::Util::crypt_password("UserPass") called at /home/cpansand/.cpan/build/Text-Tradition-Directory-1.2-QVSNg5/blib/lib/Text/Tradition/Directory.pm line 448
Text::Tradition::Directory::add_user(Text::Tradition::Directory=HASH(0x4be8ad08), HASH(0x4e00d168)) called at t/text_tradition_directory.t line 40
t/text_tradition_directory.t ...... ok
Class::MOP::load_class is deprecated at /usr/perl5.20.1p/lib/site_perl/5.20.1/amd64-freebsd/Class/MOP.pm line 69, <DATA> line 41.
Class::MOP::load_class("Authen::Passphrase::SaltedDigest") called at /home/cpansand/.cpan/build/KiokuX-User-0.02-kQTQNr/blib/lib/KiokuX/User/Util.pm line 35
KiokuX::User::Util::crypt_password("bloggspass") called at /home/cpansand/.cpan/build/Text-Tradition-Directory-1.2-QVSNg5/blib/lib/Text/Tradition/Directory.pm line 448
Text::Tradition::Directory::add_user(Text::Tradition::Directory=HASH(0x4d1f1660), HASH(0x4bfb1d80)) called at t/text_tradition_user.t line 35
t/text_tradition_user.t ........... ok
Class::MOP::load_class is deprecated at /usr/perl5.20.1p/lib/site_perl/5.20.1/amd64-freebsd/Class/MOP.pm line 69, <DATA> line 41.
Class::MOP::load_class("Authen::Passphrase::SaltedDigest") called at /home/cpansand/.cpan/build/KiokuX-User-0.02-kQTQNr/blib/lib/KiokuX/User/Util.pm line 35
KiokuX::User::Util::crypt_password("bloggspass") called at /home/cpansand/.cpan/build/Text-Tradition-Directory-1.2-QVSNg5/blib/lib/Text/Tradition/Directory.pm line 448
Text::Tradition::Directory::add_user(Text::Tradition::Directory=HASH(0x4d265840), HASH(0x4bef56f0)) called at t/text_tradition_user_collapse.t line 29
t/text_tradition_user_collapse.t .. ok
t/userrestore.t ................... ok
All tests successful.
Files=9, Tests=101, 71 wallclock secs ( 0.12 usr 0.09 sys + 60.95 cusr 7.33 csys = 68.48 CPU)
Result: PASS
------------------------------
PREREQUISITES
------------------------------
Prerequisite modules loaded:
requires:
Module Need Have
------------------------------ ----- --------
Class::Load 0 0.22
DBI 0 1.633
JSON 0 2.90
KiokuDB::Backend::DBI 0 1.23
KiokuDB::GC::Naive 0 0.57
KiokuDB::TypeMap 0 0.57
KiokuDB::TypeMap::Entry::Naive 0 0.57
KiokuX::Model 0 0.02
KiokuX::User::Util 0 0
Moose 0 2.1404
Moose::Role 0 2.1404
namespace::clean 0 0.25
perl 5.012 5.020001
Safe::Isa 0 1.000005
Text::Tradition 1.1 2.0.1
TryCatch 0 1.003002
YAML::XS 0 0.59
build_requires:
Module Need Have
------------------------------ ----- --------
ExtUtils::MakeMaker 6.59 7.04
Test::Memory::Cycle 0 1.04
Test::More::UTF8 0 0.04
Test::Warn 0 0.30
configure_requires:
Module Need Have
------------------------------ ----- --------
ExtUtils::MakeMaker 6.59 7.04
------------------------------
ENVIRONMENT AND OTHER CONTEXT
------------------------------
Environment variables:
DBIC_NO_WARN_BAD_PERL = 1
LC_ALL = de_DE.ISO8859-1
PATH = /usr/local/bin:/usr/bin:/bin:/usr/local/sbin:/usr/sbin:/sbin:/home/cpansand/bin/freebsd10.0:/home/cpansand/bin/sh:/home/cpansand/bin:/usr/games:/home/cpansand/devel:/home/eserte/src/srezic-misc/scripts
PERL5LIB = /home/cpansand/.cpan/build/KiokuX-Model-0.02-Lz9urj/blib/arch:/home/cpansand/.cpan/build/KiokuX-Model-0.02-Lz9urj/blib/lib:/home/cpansand/.cpan/build/KiokuDB-Backend-DBI-1.23-YgtHGd/blib/arch:/home/cpansand/.cpan/build/KiokuDB-Backend-DBI-1.23-YgtHGd/blib/lib:/home/cpansand/.cpan/build/Text-Tradition-2.0.1-5hfE7v/blib/arch:/home/cpansand/.cpan/build/Text-Tradition-2.0.1-5hfE7v/blib/lib:/home/cpansand/.cpan/build/Text-TEI-Markup-1.9-cB5u9w/blib/arch:/home/cpansand/.cpan/build/Text-TEI-Markup-1.9-cB5u9w/blib/lib:/home/cpansand/.cpan/build/Convert-Number-Armenian-0.1-2CQEOf/blib/arch:/home/cpansand/.cpan/build/Convert-Number-Armenian-0.1-2CQEOf/blib/lib:/home/cpansand/.cpan/build/Spreadsheet-XLSX-0.13-cR0Pay/blib/arch:/home/cpansand/.cpan/build/Spreadsheet-XLSX-0.13-cR0Pay/blib/lib:/home/cpansand/.cpan/build/KiokuX-User-0.02-kQTQNr/blib/arch:/home/cpansand/.cpan/build/KiokuX-User-0.02-kQTQNr/blib/lib:/home/cpansand/.cpan/build/MooseX-Types-Authen-Passphrase-0.04-noyy8s/blib/arch:/home/cpansand/.cpan/build/MooseX-Types-Authen-Passphrase-0.04-noyy8s/blib/lib
PERL5OPT =
PERL5_CPANPLUS_IS_RUNNING = 3245
PERL5_CPAN_IS_RUNNING = 3245
PERL5_CPAN_IS_RUNNING_IN_RECURSION = 43995,3245
PERLDOC = -MPod::Perldoc::ToTextOverstrike
PERL_BATCH = yes
PERL_CPAN_REPORTER_CONFIG = /var/tmp/cpansmoker-1023/cpanreporter_002_config.ini
PERL_EXTUTILS_AUTOINSTALL = --defaultdeps
PERL_HTML_DISPLAY_CLASS = HTML::Display::Mozilla
SHELL = /usr/local/bin/zsh
TERM = screen
TMPDIR = /var/tmp/cpansmoker-1023
Perl special variables (and OS-specific diagnostics, for MSWin32):
$^X = /usr/perl5.20.1p/bin/perl5.20.1
$UID/$EUID = 1023 / 1023
$GID = 1023 1023
$EGID = 1023 1023
Perl module toolchain versions installed:
Module Have
------------------- --------
CPAN 2.10
CPAN::Meta 2.150001
Cwd 3.48
ExtUtils::CBuilder 0.280217
ExtUtils::Command 1.18
ExtUtils::Install 1.67
ExtUtils::MakeMaker 7.04
ExtUtils::Manifest 1.70
ExtUtils::ParseXS 3.24
File::Spec 3.48
JSON 2.90
JSON::PP 2.27203
Module::Build 0.4211
Module::Signature 0.77
Parse::CPAN::Meta 1.4414
Test::Harness 3.30
Test::More 1.001014
YAML 1.15
YAML::Syck 1.29
version 0.9912
--
Summary of my perl5 (revision 5 version 20 subversion 1) configuration:
Platform:
osname=freebsd, osvers=10.1-release, archname=amd64-freebsd
uname='freebsd cvrsnica-freebsd-101.herceg.de 10.1-release freebsd 10.1-release #0 r274401: tue nov 11 21:02:49 utc 2014 root@releng1.nyi.freebsd.org:usrobjusrsrcsysgeneric amd64 '
config_args='-ds -e -Dprefix=/usr/perl5.20.1p'
hint=recommended, useposix=true, d_sigaction=define
useithreads=undef, usemultiplicity=undef
use64bitint=define, use64bitall=define, uselongdouble=undef
usemymalloc=n, bincompat5005=undef
Compiler:
cc='cc', ccflags ='-DHAS_FPSETMASK -DHAS_FLOATINGPOINT_H -fno-strict-aliasing -pipe -fstack-protector -I/usr/local/include',
optimize='-O',
cppflags='-DHAS_FPSETMASK -DHAS_FLOATINGPOINT_H -fno-strict-aliasing -pipe -fstack-protector -I/usr/local/include'
ccversion='', gccversion='4.2.1 Compatible FreeBSD Clang 3.4.1 (tags/RELEASE_34/dot1-final 208032)', gccosandvers=''
intsize=4, longsize=8, ptrsize=8, doublesize=8, byteorder=12345678
d_longlong=define, longlongsize=8, d_longdbl=define, longdblsize=16
ivtype='long', ivsize=8, nvtype='double', nvsize=8, Off_t='off_t', lseeksize=8
alignbytes=8, prototype=define
Linker and Libraries:
ld='cc', ldflags ='-pthread -Wl,-E -fstack-protector -L/usr/local/lib'
libpth=/usr/lib /usr/local/lib /usr/include/clang/3.4.1 /usr/lib
libs=-lm -lcrypt -lutil -lc
perllibs=-lm -lcrypt -lutil -lc
libc=, so=so, useshrplib=false, libperl=libperl.a
gnulibc_version=''
Dynamic Linking:
dlsrc=dl_dlopen.xs, dlext=so, d_dlsymun=undef, ccdlflags=' '
cccdlflags='-DPIC -fPIC', lddlflags='-shared -L/usr/local/lib -fstack-protector'
Characteristics of this binary (from libperl):
Compile-time options: HAS_TIMES PERLIO_LAYERS PERL_DONT_CREATE_GVSV
PERL_HASH_FUNC_ONE_AT_A_TIME_HARD PERL_MALLOC_WRAP
PERL_NEW_COPY_ON_WRITE PERL_PRESERVE_IVUV
USE_64_BIT_ALL USE_64_BIT_INT USE_LARGE_FILES
USE_LOCALE USE_LOCALE_COLLATE USE_LOCALE_CTYPE
USE_LOCALE_NUMERIC USE_PERLIO USE_PERL_ATOF
Built under freebsd
Compiled at Jan 29 2015 08:45:50
%ENV:
PERL5LIB="/home/cpansand/.cpan/build/KiokuX-Model-0.02-Lz9urj/blib/arch:/home/cpansand/.cpan/build/KiokuX-Model-0.02-Lz9urj/blib/lib:/home/cpansand/.cpan/build/KiokuDB-Backend-DBI-1.23-YgtHGd/blib/arch:/home/cpansand/.cpan/build/KiokuDB-Backend-DBI-1.23-YgtHGd/blib/lib:/home/cpansand/.cpan/build/Text-Tradition-2.0.1-5hfE7v/blib/arch:/home/cpansand/.cpan/build/Text-Tradition-2.0.1-5hfE7v/blib/lib:/home/cpansand/.cpan/build/Text-TEI-Markup-1.9-cB5u9w/blib/arch:/home/cpansand/.cpan/build/Text-TEI-Markup-1.9-cB5u9w/blib/lib:/home/cpansand/.cpan/build/Convert-Number-Armenian-0.1-2CQEOf/blib/arch:/home/cpansand/.cpan/build/Convert-Number-Armenian-0.1-2CQEOf/blib/lib:/home/cpansand/.cpan/build/Spreadsheet-XLSX-0.13-cR0Pay/blib/arch:/home/cpansand/.cpan/build/Spreadsheet-XLSX-0.13-cR0Pay/blib/lib:/home/cpansand/.cpan/build/KiokuX-User-0.02-kQTQNr/blib/arch:/home/cpansand/.cpan/build/KiokuX-User-0.02-kQTQNr/blib/lib:/home/cpansand/.cpan/build/MooseX-Types-Authen-Passphrase-0.04-noyy8s/blib/arch:/home/cpansand/.cpan/build/MooseX-Types-Authen-Passphrase-0.04-noyy8s/blib/lib"
PERL5OPT=""
PERL5_CPANPLUS_IS_RUNNING="3245"
PERL5_CPAN_IS_RUNNING="3245"
PERL5_CPAN_IS_RUNNING_IN_RECURSION="43995,3245"
PERLDOC="-MPod::Perldoc::ToTextOverstrike"
PERL_BATCH="yes"
PERL_CPAN_REPORTER_CONFIG="/var/tmp/cpansmoker-1023/cpanreporter_002_config.ini"
PERL_EXTUTILS_AUTOINSTALL="--defaultdeps"
PERL_HTML_DISPLAY_CLASS="HTML::Display::Mozilla"
@INC:
/home/cpansand/.cpan/build/KiokuX-Model-0.02-Lz9urj/blib/arch
/home/cpansand/.cpan/build/KiokuX-Model-0.02-Lz9urj/blib/lib
/home/cpansand/.cpan/build/KiokuDB-Backend-DBI-1.23-YgtHGd/blib/arch
/home/cpansand/.cpan/build/KiokuDB-Backend-DBI-1.23-YgtHGd/blib/lib
/home/cpansand/.cpan/build/Text-Tradition-2.0.1-5hfE7v/blib/arch
/home/cpansand/.cpan/build/Text-Tradition-2.0.1-5hfE7v/blib/lib
/home/cpansand/.cpan/build/Text-TEI-Markup-1.9-cB5u9w/blib/arch
/home/cpansand/.cpan/build/Text-TEI-Markup-1.9-cB5u9w/blib/lib
/home/cpansand/.cpan/build/Convert-Number-Armenian-0.1-2CQEOf/blib/arch
/home/cpansand/.cpan/build/Convert-Number-Armenian-0.1-2CQEOf/blib/lib
/home/cpansand/.cpan/build/Spreadsheet-XLSX-0.13-cR0Pay/blib/arch
/home/cpansand/.cpan/build/Spreadsheet-XLSX-0.13-cR0Pay/blib/lib
/home/cpansand/.cpan/build/KiokuX-User-0.02-kQTQNr/blib/arch
/home/cpansand/.cpan/build/KiokuX-User-0.02-kQTQNr/blib/lib
/home/cpansand/.cpan/build/MooseX-Types-Authen-Passphrase-0.04-noyy8s/blib/arch
/home/cpansand/.cpan/build/MooseX-Types-Authen-Passphrase-0.04-noyy8s/blib/lib
/usr/perl5.20.1p/lib/site_perl/5.20.1/amd64-freebsd
/usr/perl5.20.1p/lib/site_perl/5.20.1
/usr/perl5.20.1p/lib/5.20.1/amd64-freebsd
/usr/perl5.20.1p/lib/5.20.1
.