Mojolicious v9.32 Perl 5 v5.18.4 darwin-thread-multi-2level
- Status
- Pass
- From
- Roland van Ipenburg (IPENBURG)
- Dist
-
Mojolicious v9.32
- Platform
- Perl 5 v5.18.4 darwin-thread-multi-2level
- Date
- 2023-06-09 23:19:04
- ID
- 065968b6-071c-11ee-a587-a2d6b844f6c3
This distribution has been tested as part of the CPAN Testers
project, supporting the Perl programming language. See
http://wiki.cpantesters.org/ for more information or email
questions to cpan-testers-discuss@perl.org
--
Dear Sebastian Riedel,
This is a computer-generated report for Mojolicious-9.32
on perl 5.18.4, created by CPAN-Reporter-1.2018.
Thank you for uploading your work to CPAN. Congratulations!
All tests were successful.
Sections of this report:
* Tester comments
* Program output
* Prerequisites
* Environment and other context
------------------------------
TESTER COMMENTS
------------------------------
Additional comments from tester:
none provided
------------------------------
PROGRAM OUTPUT
------------------------------
Output from '/usr/bin/make test':
PERL_DL_NONLAZY=1 "/usr/bin/perl" "-MExtUtils::Command::MM" "-MTest::Harness" "-e" "undef *Test::Harness::Switches; test_harness(0, 'blib/lib', 'blib/arch')" t/*.t t/*/*.t
t/mojo/asset.t ............................. ok
t/mojo/base.t .............................. ok
t/mojo/bytestream.t ........................ ok
t/mojo/cache.t ............................. ok
t/mojo/cgi.t ............................... ok
t/mojo/collection.t ........................ ok
t/mojo/content.t ........................... ok
t/mojo/cookie.t ............................ ok
t/mojo/cookiejar.t ......................... ok
t/mojo/daemon.t ............................ ok
t/mojo/daemon_ipv6_tls.t ................... skipped: set TEST_IPV6 to enable this test (developer only!)
t/mojo/date.t .............................. ok
t/mojo/dom.t ............................... ok
t/mojo/dynamic_methods.t ................... ok
t/mojo/eventemitter.t ...................... ok
t/mojo/exception.t ......................... ok
t/mojo/file.t .............................. ok
t/mojo/headers.t ........................... ok
t/mojo/home.t .............................. ok
t/mojo/hypnotoad.t ......................... skipped: set TEST_HYPNOTOAD to enable this test (developer only!)
t/mojo/ioloop.t ............................ ok
t/mojo/ioloop_ipv6.t ....................... skipped: set TEST_IPV6 to enable this test (developer only!)
t/mojo/ioloop_tls.t ........................ skipped: set TEST_TLS to enable this test (developer only!)
t/mojo/json.t .............................. ok
t/mojo/json_pointer.t ...................... ok
t/mojo/json_xs.t ........................... ok
t/mojo/loader.t ............................ ok
t/mojo/log.t ............................... ok
t/mojo/morbo.t ............................. skipped: set TEST_MORBO to enable this test (developer only!)
t/mojo/parameters.t ........................ ok
t/mojo/path.t .............................. ok
t/mojo/prefork.t ........................... skipped: set TEST_PREFORK to enable this test (developer only!)
t/mojo/promise.t ........................... ok
t/mojo/promise_async_await.t ............... skipped: set TEST_ASYNC_AWAIT to enable this test (developer only!)
t/mojo/proxy.t ............................. ok
t/mojo/psgi.t .............................. ok
t/mojo/reactor_detect.t .................... ok
t/mojo/reactor_ev.t ........................ skipped: set TEST_EV to enable this test (developer only!)
t/mojo/reactor_poll.t ...................... ok
t/mojo/request.t ........................... ok
t/mojo/request_cgi.t ....................... ok
t/mojo/response.t .......................... ok
t/mojo/roles.t ............................. ok
t/mojo/signatures.t ........................ skipped: Perl 5.20+ required for this test!
t/mojo/subprocess.t ........................ skipped: set TEST_SUBPROCESS to enable this test (developer only!)
t/mojo/subprocess_ev.t ..................... skipped: set TEST_SUBPROCESS to enable this test (developer only!)
t/mojo/template.t .......................... ok
t/mojo/tls.t ............................... skipped: set TEST_TLS to enable this test (developer only!)
t/mojo/transactor.t ........................ ok
t/mojo/url.t ............................... ok
t/mojo/user_agent.t ........................ ok
t/mojo/user_agent_online.t ................. skipped: set TEST_ONLINE to enable this test (developer only!)
t/mojo/user_agent_socks.t .................. skipped: set TEST_SOCKS to enable this test (developer only!)
t/mojo/user_agent_tls.t .................... skipped: set TEST_TLS to enable this test (developer only!)
t/mojo/user_agent_unix.t ................... skipped: set TEST_UNIX to enable this test (developer only!)
t/mojo/util.t .............................. ok
t/mojo/websocket.t ......................... ok
t/mojo/websocket_frames.t .................. ok
t/mojo/websocket_proxy.t ................... ok
t/mojo/websocket_proxy_tls.t ............... skipped: set TEST_TLS to enable this test (developer only!)
t/mojolicious/app.t ........................ ok
t/mojolicious/charset_lite_app.t ........... ok
t/mojolicious/command.t .................... ok
t/mojolicious/commands.t ................... ok
t/mojolicious/dispatch.t ................... ok
t/mojolicious/dispatcher_lite_app.t ........ ok
t/mojolicious/embedded_app.t ............... ok
t/mojolicious/embedded_lite_app.t .......... ok
t/mojolicious/exception_lite_app.t ......... ok
t/mojolicious/external_app.t ............... ok
t/mojolicious/external_lite_app.t .......... ok
t/mojolicious/group_lite_app.t ............. ok
t/mojolicious/json_config_lite_app.t ....... ok
t/mojolicious/json_config_mode_lite_app.t .. ok
t/mojolicious/layouted_lite_app.t .......... ok
t/mojolicious/lite_app.t ................... ok
t/mojolicious/log_lite_app.t ............... ok
t/mojolicious/longpolling_lite_app.t ....... ok
t/mojolicious/multipath_lite_app.t ......... ok
t/mojolicious/ojo.t ........................ ok
t/mojolicious/ojo_signatures.t ............. skipped: Perl 5.20+ required for this test!
t/mojolicious/pattern.t .................... ok
t/mojolicious/production_app.t ............. ok
t/mojolicious/proxy_app.t .................. ok
t/mojolicious/rebased_lite_app.t ........... ok
t/mojolicious/renderer.t ................... ok
t/mojolicious/restful_lite_app.t ........... ok
t/mojolicious/routes.t ..................... ok
t/mojolicious/signatures_lite_app.t ........ skipped: Perl 5.20+ required for this test!
t/mojolicious/static_lite_app.t ............ ok
t/mojolicious/tag_helper_lite_app.t ........ ok
t/mojolicious/testing_app.t ................ ok
t/mojolicious/tls_lite_app.t ............... skipped: set TEST_TLS to enable this test (developer only!)
t/mojolicious/twinkle_lite_app.t ........... ok
t/mojolicious/types.t ...................... ok
t/mojolicious/upload_lite_app.t ............ ok
t/mojolicious/upload_stream_lite_app.t ..... ok
t/mojolicious/validation_lite_app.t ........ ok
t/mojolicious/websocket_lite_app.t ......... ok
t/mojolicious/yaml_config_lite_app.t ....... ok
t/pod.t .................................... skipped: set TEST_POD to enable this test (developer only!)
t/pod_coverage.t ........................... skipped: set TEST_POD to enable this test (developer only!)
t/test/mojo.t .............................. ok
All tests successful.
Files=103, Tests=4257, 70 wallclock secs ( 1.82 usr 0.42 sys + 53.52 cusr 6.57 csys = 62.33 CPU)
Result: PASS
------------------------------
PREREQUISITES
------------------------------
Prerequisite modules loaded:
requires:
Module Need Have
------------------- ----- --------
IO::Socket::IP 0.37 0.41
perl 5.016 5.018004
Sub::Util 1.41 1.63
build_requires:
Module Need Have
------------------- ----- --------
ExtUtils::MakeMaker 0 7.70
configure_requires:
Module Need Have
------------------- ----- --------
ExtUtils::MakeMaker 0 7.70
------------------------------
ENVIRONMENT AND OTHER CONTEXT
------------------------------
Environment variables:
LANG = en_US.UTF-8
LC_ALL = en_US.UTF-8
PATH = /usr/bin:/bin
PERL5LIB =
PERL5OPT =
PERL5_CPANPLUS_IS_RUNNING = 53872
PERL5_CPAN_IS_RUNNING = 53872
SHELL = /bin/sh
TERM = xterm-256color
VERSIONER_PERL_VERSION = 5.18
Perl special variables (and OS-specific diagnostics, for MSWin32):
$^X = /usr/bin/perl
$UID/$EUID = 0 / 0
$GID = 0 0 1 2 3 4 5 8 9 12 20 29 61 80 702 701 33 98 100 204 250 395 398 399 400
$EGID = 0 0 1 2 3 4 5 8 9 12 20 29 61 80 702 701 33 98 100 204 250 395 398 399 400
Perl module toolchain versions installed:
Module Have
------------------- --------
CPAN 2.36
CPAN::Meta 2.150010
Cwd 3.75
ExtUtils::CBuilder 0.280236
ExtUtils::Command 7.70
ExtUtils::Install 2.22
ExtUtils::MakeMaker 7.70
ExtUtils::Manifest 1.75
ExtUtils::ParseXS 3.35
File::Spec 3.75
JSON 4.10
JSON::PP 4.16
Module::Build 0.4224
Module::Signature 0.88
Parse::CPAN::Meta 2.150010
Test::Harness 3.44
Test::More 1.302194
YAML 1.30
YAML::Syck 1.29
version 0.9929
--
Summary of my perl5 (revision 5 version 18 subversion 4) configuration:
Platform:
osname=darwin, osvers=19.0, archname=darwin-thread-multi-2level
uname='darwin osx397.sd.apple.com 19.0 darwin kernel version 18.0.0: tue jul 9 11:12:08 pdt 2019; root:xnu-4903.201.2.100.7~1release_x86_64 x86_64 '
config_args='-ds -e -Dprefix=/usr -Dccflags=-g -pipe -Dldflags= -Dman3ext=3pm -Duseithreads -Duseshrplib -Dinc_version_list=none -Dcc=cc'
hint=recommended, useposix=true, d_sigaction=define
useithreads=define, usemultiplicity=define
useperlio=define, d_sfio=undef, uselargefiles=define, usesocks=undef
use64bitint=define, use64bitall=define, uselongdouble=undef
usemymalloc=n, bincompat5005=undef
Compiler:
cc='cc', ccflags =' -g -pipe -fno-common -DPERL_DARWIN -fno-strict-aliasing -fstack-protector',
optimize='-Os',
cppflags='-g -pipe -fno-common -DPERL_DARWIN -fno-strict-aliasing -fstack-protector'
ccversion='', gccversion='4.2.1 Compatible Apple LLVM 11.0.3 (clang-1103.0.29.20) (-macos10.15-objc-selector-opts)', gccosandvers=''
intsize=4, longsize=8, ptrsize=8, doublesize=8, byteorder=12345678
d_longlong=define, longlongsize=8, d_longdbl=define, longdblsize=16
ivtype='long', ivsize=8, nvtype='double', nvsize=8, Off_t='off_t', lseeksize=8
alignbytes=8, prototype=define
Linker and Libraries:
ld='cc', ldflags =' -fstack-protector'
libpth=/usr/lib /usr/local/lib
libs=
perllibs=
libc=, so=dylib, useshrplib=true, libperl=libperl.dylib
gnulibc_version=''
Dynamic Linking:
dlsrc=dl_dlopen.xs, dlext=bundle, d_dlsymun=undef, ccdlflags=' '
cccdlflags=' ', lddlflags=' -bundle -undefined dynamic_lookup -fstack-protector'
Characteristics of this binary (from libperl):
Compile-time options: HAS_TIMES MULTIPLICITY PERLIO_LAYERS
PERL_DONT_CREATE_GVSV
PERL_HASH_FUNC_ONE_AT_A_TIME_HARD
PERL_IMPLICIT_CONTEXT PERL_MALLOC_WRAP
PERL_PRESERVE_IVUV PERL_SAWAMPERSAND USE_64_BIT_ALL
USE_64_BIT_INT USE_ITHREADS USE_LARGE_FILES
USE_LOCALE USE_LOCALE_COLLATE USE_LOCALE_CTYPE
USE_LOCALE_NUMERIC USE_PERLIO USE_PERL_ATOF
USE_REENTRANT_API
Locally applied patches:
/Library/Perl/Updates/<version> comes before system perl directories
installprivlib and installarchlib points to the Updates directory
Built under darwin
Compiled at Jun 5 2020 17:34:07
%ENV:
PERL5LIB=""
PERL5OPT=""
PERL5_CPANPLUS_IS_RUNNING="53872"
PERL5_CPAN_IS_RUNNING="53872"
@INC:
/Library/Perl/5.18/darwin-thread-multi-2level
/Library/Perl/5.18
/Network/Library/Perl/5.18/darwin-thread-multi-2level
/Network/Library/Perl/5.18
/Library/Perl/Updates/5.18.4/darwin-thread-multi-2level
/Library/Perl/Updates/5.18.4
/System/Library/Perl/5.18/darwin-thread-multi-2level
/System/Library/Perl/5.18
/System/Library/Perl/Extras/5.18/darwin-thread-multi-2level
/System/Library/Perl/Extras/5.18
.