Report for Image-Base-X11-Protocol-9

Back
From: metabase:user:3198cbe2-2aae-11df-837a-5e0a49663a4f
Subject: PASS Image-Base-X11-Protocol-9 v5.12.3 GNU/Linux
Date: 2011-04-05T16:01:55Z

This distribution has been tested as part of the CPAN Testers
project, supporting the Perl programming language.  See
http://wiki.cpantesters.org/ for more information or email
questions to cpan-testers-discuss@perl.org


--
Dear Kevin Ryde,

This is a computer-generated report for Image-Base-X11-Protocol-9
on perl 5.12.3, created by CPAN-Reporter-1.1902.

Thank you for uploading your work to CPAN.  Congratulations!
All tests were successful.

Sections of this report:

    * Tester comments
    * Program output
    * Prerequisites
    * Environment and other context

------------------------------
TESTER COMMENTS
------------------------------

Additional comments from tester:

this report is from an automated smoke testing program
and was not reviewed by a human for accuracy

------------------------------
PROGRAM OUTPUT
------------------------------

Output from '/usr/bin/make test':

PERL_DL_NONLAZY=1 /home/graham/perltest/perl5123/perl/bin/perl "-MExtUtils::Command::MM" "-e" "test_harness(0, 'blib/lib', 'blib/arch')" t/*.t
t/Drawable-load.t ... ok
# DISPLAY :0.0
# Image::Base version 1.15
# 
# X server info
# vendor: The X.Org Foundation
# release_number: 10902000
# protocol_major_version: 11
# protocol_minor_version: 0
# byte_order: l
# num screens: 1
# width_in_pixels:  1280
# height_in_pixels: 1024
# width_in_millimeters:  339
# height_in_millimeters: 271
# root_visual: 33
#   depth: 24
#   class: 4 TrueColor
#   colormap_entries: 256
#   bits_per_rgb_value: 8
#   red_mask:   0XFF0000
#   green_mask: 0XFF00
#   blue_mask:  0XFF
# image_byte_order: 0 LeastSignificant
# black_pixel: 0
# white_pixel: 0XFFFFFF
# chosen screen: 0
# 
# use screen number 0 for checking
# MyTestImageBase on bitmap
# ellipse 0,0, 0,0, fill=0
# ellipse 0,0, 0,0, fill=1
# ellipse 5,7, 5,7, fill=0
# ellipse 5,7, 5,7, fill=1
# ellipse 3,2, 4,2, fill=0
# ellipse 3,2, 4,2, fill=1
# ellipse 3,2, 13,2, fill=0
# ellipse 3,2, 13,2, fill=1
# ellipse 3,3, 4,3, fill=0
# ellipse 3,3, 4,3, fill=1
# ellipse 3,3, 13,3, fill=0
# ellipse 3,3, 13,3, fill=1
# ellipse 5,2, 5,3, fill=0
# ellipse 5,2, 5,3, fill=1
# ellipse 5,2, 5,9, fill=0
# ellipse 5,2, 5,9, fill=1
# ellipse 6,2, 6,3, fill=0
# ellipse 6,2, 6,3, fill=1
# ellipse 6,2, 6,9, fill=0
# ellipse 6,2, 6,9, fill=1
# ellipse 1,1, 2,2, fill=0
# ellipse 1,1, 2,2, fill=1
# ellipse 5,6, 7,8, fill=0
# ellipse 5,6, 7,8, fill=1
# ellipse 1,1, 18,8, fill=0
# ellipse 1,1, 18,8, fill=1
# add_colours()
# MyTestImageBase on pixmap depth=24
# ellipse 0,0, 0,0, fill=0
# ellipse 0,0, 0,0, fill=1
# ellipse 5,7, 5,7, fill=0
# ellipse 5,7, 5,7, fill=1
# ellipse 3,2, 4,2, fill=0
# ellipse 3,2, 4,2, fill=1
# ellipse 3,2, 13,2, fill=0
# ellipse 3,2, 13,2, fill=1
# ellipse 3,3, 4,3, fill=0
# ellipse 3,3, 4,3, fill=1
# ellipse 3,3, 13,3, fill=0
# ellipse 3,3, 13,3, fill=1
# ellipse 5,2, 5,3, fill=0
# ellipse 5,2, 5,3, fill=1
# ellipse 5,2, 5,9, fill=0
# ellipse 5,2, 5,9, fill=1
# ellipse 6,2, 6,3, fill=0
# ellipse 6,2, 6,3, fill=1
# ellipse 6,2, 6,9, fill=0
# ellipse 6,2, 6,9, fill=1
# ellipse 1,1, 2,2, fill=0
# ellipse 1,1, 2,2, fill=1
# ellipse 5,6, 7,8, fill=0
# ellipse 5,6, 7,8, fill=1
# ellipse 1,1, 18,8, fill=0
# ellipse 1,1, 18,8, fill=1
# add_colours() error received
# add_colours() 5000
# add_colours() 5000 with seq wraparound
# run_seq_to_FFA0() 54736 steps to seq 65431
t/Drawable.t ........ ok
# Image::Base version 1.15
t/Pixmap.t .......... ok
t/Window-load.t ..... ok
# event VisibilityNotify
#   visibility now Unobscured
#   skip now [undef]
# ellipse 0,0, 0,0, fill=0
# ellipse 0,0, 0,0, fill=1
# ellipse 5,7, 5,7, fill=0
# ellipse 5,7, 5,7, fill=1
# ellipse 3,2, 4,2, fill=0
# ellipse 3,2, 4,2, fill=1
# ellipse 3,2, 13,2, fill=0
# ellipse 3,2, 13,2, fill=1
# ellipse 3,3, 4,3, fill=0
# ellipse 3,3, 4,3, fill=1
# ellipse 3,3, 13,3, fill=0
# ellipse 3,3, 13,3, fill=1
# ellipse 5,2, 5,3, fill=0
# ellipse 5,2, 5,3, fill=1
# ellipse 5,2, 5,9, fill=0
# ellipse 5,2, 5,9, fill=1
# ellipse 6,2, 6,3, fill=0
# ellipse 6,2, 6,3, fill=1
# ellipse 6,2, 6,9, fill=0
# ellipse 6,2, 6,9, fill=1
# ellipse 1,1, 2,2, fill=0
# ellipse 1,1, 2,2, fill=1
# ellipse 5,6, 7,8, fill=0
# ellipse 5,6, 7,8, fill=1
# ellipse 1,1, 18,8, fill=0
# ellipse 1,1, 18,8, fill=1
t/Window-visible.t .. ok
# Image::Base version 1.15
t/Window.t .......... ok
All tests successful.
Files=6, Tests=6957, 18 wallclock secs ( 3.97 usr  0.18 sys + 13.53 cusr  1.05 csys = 18.73 CPU)
Result: PASS

------------------------------
PREREQUISITES
------------------------------

Prerequisite modules loaded:

requires:

    Module               Need Have
    -------------------- ---- ----
    Image::Base          0    1.15
    Test                 0    1.25
    X11::Protocol        0.56 0.56
    X11::Protocol::Other 3    3   

configure_requires:

    Module               Need Have
    -------------------- ---- ----
    ExtUtils::MakeMaker  0    6.56


------------------------------
ENVIRONMENT AND OTHER CONTEXT
------------------------------

Environment variables:

    AUTOMATED_TESTING = 1
    LANG = C
    PATH = /home/graham/perltest/perl5123/perl/bin:/usr/local/bin:/usr/bin:/bin:/usr/local/sbin:/usr/sbin:/sbin:/opt/java/bin:/opt/java/db/bin:/opt/java/jre/bin:/opt/kde/bin:/usr/bin/perlbin/site:/usr/bin/perlbin/vendor:/usr/lib/perl5/core_perl/bin:/opt/qt/bin
    PERL5LIB = 
    PERL5OPT = 
    PERL5_CPANPLUS_IS_RUNNING = 3995
    PERL5_CPAN_IS_RUNNING = 3995
    PERL5_CPAN_IS_RUNNING_IN_RECURSION = 3723,3995
    PERL_CR_SMOKER_CURRENT = Image-Base-X11-Protocol-9
    PERL_EXTUTILS_AUTOINSTALL = --defaultdeps
    PERL_MM_USE_DEFAULT = 1
    SHELL = /bin/bash
    TERM = xterm

Perl special variables (and OS-specific diagnostics, for MSWin32):

    $^X = /home/graham/perltest/perl5123/perl/bin/perl
    $UID/$EUID = 1000 / 1000
    $GID = 1000 7 10 91 92 93 95 98 100 108 1000 1001
    $EGID = 1000 7 10 91 92 93 95 98 100 108 1000 1001

Perl module toolchain versions installed:

    Module              Have    
    ------------------- --------
    CPAN                1.9304  
    Cwd                 3.33    
    ExtUtils::CBuilder  0.280202
    ExtUtils::Command   1.17    
    ExtUtils::Install   1.55    
    ExtUtils::MakeMaker 6.56    
    ExtUtils::Manifest  1.57    
    ExtUtils::ParseXS   2.2206  
    File::Spec          3.33    
    Module::Build       0.37_05 
    Module::Signature   0.66    
    Test::Harness       3.23    
    Test::More          2.00_07 
    YAML                0.72    
    YAML::Syck          1.17    
    version             0.88    


--

Summary of my perl5 (revision 5 version 12 subversion 3) configuration:
   
  Platform:
    osname=linux, osvers=2.6.36-arch, archname=i686-linux
    uname='linux lorant 2.6.36-arch #1 smp preempt fri dec 10 20:01:53 utc 2010 i686 intel(r) pentium(r) 4 cpu 2.80ghz genuineintel gnulinux '
    config_args=''
    hint=recommended, useposix=true, d_sigaction=define
    useithreads=undef, usemultiplicity=undef
    useperlio=define, d_sfio=undef, uselargefiles=define, usesocks=undef
    use64bitint=undef, use64bitall=undef, uselongdouble=undef
    usemymalloc=n, bincompat5005=undef
  Compiler:
    cc='cc', ccflags ='-fno-strict-aliasing -pipe -fstack-protector -I/usr/local/include -D_LARGEFILE_SOURCE -D_FILE_OFFSET_BITS=64',
    optimize='-O2',
    cppflags='-fno-strict-aliasing -pipe -fstack-protector -I/usr/local/include'
    ccversion='', gccversion='4.5.2', gccosandvers=''
    intsize=4, longsize=4, ptrsize=4, doublesize=8, byteorder=1234
    d_longlong=define, longlongsize=8, d_longdbl=define, longdblsize=12
    ivtype='long', ivsize=4, nvtype='double', nvsize=8, Off_t='off_t', lseeksize=8
    alignbytes=4, prototype=define
  Linker and Libraries:
    ld='cc', ldflags =' -fstack-protector -L/usr/local/lib'
    libpth=/usr/local/lib /lib /usr/lib
    libs=-lnsl -lgdbm -ldb -ldl -lm -lcrypt -lutil -lc -lgdbm_compat
    perllibs=-lnsl -ldl -lm -lcrypt -lutil -lc
    libc=/lib/libc-2.12.2.so, so=so, useshrplib=true, libperl=libperl.so
    gnulibc_version='2.12.2'
  Dynamic Linking:
    dlsrc=dl_dlopen.xs, dlext=so, d_dlsymun=undef, ccdlflags='-Wl,-E -Wl,-rpath,/home/graham/perltest/perl5123/perl/lib/5.12.3/i686-linux/CORE'
    cccdlflags='-fPIC', lddlflags='-shared -O2 -L/usr/local/lib -fstack-protector'


Characteristics of this binary (from libperl): 
  Compile-time options: PERL_DONT_CREATE_GVSV PERL_MALLOC_WRAP
                        USE_LARGE_FILES USE_PERLIO USE_PERL_ATOF
  Built under linux
  Compiled at Feb 19 2011 10:41:34
  %ENV:
    PERL5LIB=""
    PERL5OPT=""
    PERL5_CPANPLUS_IS_RUNNING="3995"
    PERL5_CPAN_IS_RUNNING="3995"
    PERL5_CPAN_IS_RUNNING_IN_RECURSION="3723,3995"
    PERL_CR_SMOKER_CURRENT="Image-Base-X11-Protocol-9"
    PERL_EXTUTILS_AUTOINSTALL="--defaultdeps"
    PERL_MM_USE_DEFAULT="1"
  @INC:
    /home/graham/perltest/perl5123/perl/lib/site_perl/5.12.3/i686-linux
    /home/graham/perltest/perl5123/perl/lib/site_perl/5.12.3
    /home/graham/perltest/perl5123/perl/lib/5.12.3/i686-linux
    /home/graham/perltest/perl5123/perl/lib/5.12.3
    .