Text-Hyphen v0.3 Perl 5 v5.12.0 amd64-freebsd

Status
Pass
From
Bartosz Jarzyna
Dist
Text-Hyphen v0.3
Platform
Perl 5 v5.12.0 amd64-freebsd
Date
2023-06-26 08:25:38
ID
07992f4a-13fb-11ee-9129-c48fb4867730
This distribution has been tested as part of the CPAN Testers
project, supporting the Perl programming language.  See
http://wiki.cpantesters.org/ for more information or email
questions to cpan-testers-discuss@perl.org


--
Dear Alex Kapranoff,

This is a computer-generated report for Text-Hyphen-0.3
on perl 5.12.0, created by CPAN-Reporter-1.2018.

Thank you for uploading your work to CPAN.  Congratulations!
All tests were successful.

Sections of this report:

    * Tester comments
    * Program output
    * Prerequisites
    * Environment and other context

------------------------------
TESTER COMMENTS
------------------------------

Additional comments from tester:

this report is from an automated smoke testing program
and was not reviewed by a human for accuracy

------------------------------
PROGRAM OUTPUT
------------------------------

Output from './Build test':

# Testing Text::Hyphen 0.3, Perl 5.012000, /home/smoker12/perl5/perlbrew/perls/perl-5.12.0/bin/perl
t/00-load.t ....... ok
t/01-enhyphen.t ... ok
t/02-contexts.t ... ok
t/pod-coverage.t .. skipped: Test::Pod::Coverage 1.08 required for testing POD coverage
t/pod.t ........... ok
All tests successful.
Files=5, Tests=21,  2 wallclock secs ( 0.03 usr  0.02 sys +  0.44 cusr  0.09 csys =  0.58 CPU)
Result: PASS

------------------------------
PREREQUISITES
------------------------------

Prerequisite modules loaded:

requires:

    Module              Need      Have    
    ------------------- --------- --------
    perl                5.008_001 5.012000

build_requires:

    Module              Need      Have    
    ------------------- --------- --------
    Test::More          0         1.302191

configure_requires:

    Module              Need      Have    
    ------------------- --------- --------
    Module::Build       0         0.4234  
    Module::Build::Tiny 0.035     0.046   
    perl                5.008_001 5.012000


------------------------------
ENVIRONMENT AND OTHER CONTEXT
------------------------------

Environment variables:

    AUTOMATED_TESTING = 1
    LANG = C.UTF-8
    PATH = /sbin:/bin:/usr/sbin:/usr/bin:/usr/local/sbin:/usr/local/bin:/home/smoker12/bin
    PERL5LIB = /home/smoker12/.cpan/build/Module-Build-Tiny-0.046-yr5zOC/blib/arch:/home/smoker12/.cpan/build/Module-Build-Tiny-0.046-yr5zOC/blib/lib:/home/smoker12/.cpan/build/ExtUtils-InstallPaths-0.012-fUTYH9/blib/arch:/home/smoker12/.cpan/build/ExtUtils-InstallPaths-0.012-fUTYH9/blib/lib:/home/smoker12/.cpan/build/ExtUtils-Config-0.008-EYdwGA/blib/arch:/home/smoker12/.cpan/build/ExtUtils-Config-0.008-EYdwGA/blib/lib:/home/smoker12/.cpan/build/ExtUtils-Helpers-0.026-LuTBdE/blib/arch:/home/smoker12/.cpan/build/ExtUtils-Helpers-0.026-LuTBdE/blib/lib:/home/smoker12/.cpan/build/Module-Build-0.4234-i0DBo5/blib/arch:/home/smoker12/.cpan/build/Module-Build-0.4234-i0DBo5/blib/lib:/home/smoker12/.cpan/build/Test-Harness-3.44-TYUq50/blib/arch:/home/smoker12/.cpan/build/Test-Harness-3.44-TYUq50/blib/lib:/home/smoker12/.cpan/build/Perl-OSType-1.010-nXJ9Rl/blib/arch:/home/smoker12/.cpan/build/Perl-OSType-1.010-nXJ9Rl/blib/lib
    PERL5OPT = 
    PERL5_CPANPLUS_IS_RUNNING = 24366
    PERL5_CPAN_IS_RUNNING = 24366
    PERL5_CPAN_IS_RUNNING_IN_RECURSION = 75715,24366
    PERL_CR_SMOKER_CURRENT = Text-KnuthPlass-1.07
    PERL_EXTUTILS_AUTOINSTALL = --defaultdeps
    PERL_MM_USE_DEFAULT = 1
    SHELL = /bin/sh

Perl special variables (and OS-specific diagnostics, for MSWin32):

    $^X = /home/smoker12/perl5/perlbrew/perls/perl-5.12.0/bin/perl
    $UID/$EUID = 1002 / 1002
    $GID = 1002 1002
    $EGID = 1002 1002

Perl module toolchain versions installed:

    Module              Have    
    ------------------- --------
    CPAN                1.94_56 
    CPAN::Meta          2.143240
    Cwd                 3.31    
    ExtUtils::CBuilder  0.27    
    ExtUtils::Command   7.64    
    ExtUtils::Install   2.06    
    ExtUtils::MakeMaker 7.64    
    ExtUtils::Manifest  1.70    
    ExtUtils::ParseXS   2.21    
    File::Spec          3.31    
    JSON                n/a     
    JSON::PP            4.12    
    Module::Build       0.4234  
    Module::Signature   n/a     
    Parse::CPAN::Meta   1.4414  
    Test::Harness       3.44    
    Test::More          1.302191
    YAML                n/a     
    YAML::Syck          1.34    
    version             0.9929  


--

Summary of my perl5 (revision 5 version 12 subversion 0) configuration:
   
  Platform:
    osname=freebsd, osvers=13.1-release-p3, archname=amd64-freebsd
    uname='freebsd smoker-10.smoker 13.1-release-p3 freebsd 13.1-release-p3 generic amd64 '
    config_args='-de -Dprefix=/home/smoker12/perl5/perlbrew/perls/perl-5.12.0 -Duse64bitint -Aeval:scriptdir=/home/smoker12/perl5/perlbrew/perls/perl-5.12.0/bin'
    hint=recommended, useposix=true, d_sigaction=define
    useithreads=undef, usemultiplicity=undef
    useperlio=define, d_sfio=undef, uselargefiles=define, usesocks=undef
    use64bitint=define, use64bitall=define, uselongdouble=undef
    usemymalloc=n, bincompat5005=undef
  Compiler:
    cc='cc', ccflags ='-DHAS_FPSETMASK -DHAS_FLOATINGPOINT_H -fno-strict-aliasing -pipe -fstack-protector -I/usr/local/include',
    optimize='-O2',
    cppflags='-DHAS_FPSETMASK -DHAS_FLOATINGPOINT_H -fno-strict-aliasing -pipe -fstack-protector -I/usr/local/include'
    ccversion='', gccversion='FreeBSD Clang 13.0.0 (git@github.com:llvm/llvm-project.git llvmorg-13.0.0-0-gd7b669b3a303)', gccosandvers=''
    intsize=4, longsize=8, ptrsize=8, doublesize=8, byteorder=12345678
    d_longlong=define, longlongsize=8, d_longdbl=define, longdblsize=16
    ivtype='long', ivsize=8, nvtype='double', nvsize=8, Off_t='off_t', lseeksize=8
    alignbytes=8, prototype=define
  Linker and Libraries:
    ld='cc', ldflags ='-Wl,-E  -fstack-protector -L/usr/local/lib'
    libpth=/usr/lib /usr/local/lib
    libs=-ldl -lm -lcrypt -lutil -lc
    perllibs=-ldl -lm -lcrypt -lutil -lc
    libc=, so=so, useshrplib=false, libperl=libperl.a
    gnulibc_version=''
  Dynamic Linking:
    dlsrc=dl_dlopen.xs, dlext=so, d_dlsymun=undef, ccdlflags=' '
    cccdlflags='-DPIC -fPIC', lddlflags='-shared  -L/usr/local/lib -fstack-protector'


Characteristics of this binary (from libperl): 
  Compile-time options: PERL_DONT_CREATE_GVSV PERL_MALLOC_WRAP USE_64_BIT_ALL
                        USE_64_BIT_INT USE_LARGE_FILES USE_PERLIO
                        USE_PERL_ATOF
  Locally applied patches:
	Devel::PatchPerl 2.08
  Built under freebsd
  Compiled at Nov 17 2022 20:51:41
  %ENV:
    PERL5LIB="/home/smoker12/.cpan/build/Module-Build-Tiny-0.046-yr5zOC/blib/arch:/home/smoker12/.cpan/build/Module-Build-Tiny-0.046-yr5zOC/blib/lib:/home/smoker12/.cpan/build/ExtUtils-InstallPaths-0.012-fUTYH9/blib/arch:/home/smoker12/.cpan/build/ExtUtils-InstallPaths-0.012-fUTYH9/blib/lib:/home/smoker12/.cpan/build/ExtUtils-Config-0.008-EYdwGA/blib/arch:/home/smoker12/.cpan/build/ExtUtils-Config-0.008-EYdwGA/blib/lib:/home/smoker12/.cpan/build/ExtUtils-Helpers-0.026-LuTBdE/blib/arch:/home/smoker12/.cpan/build/ExtUtils-Helpers-0.026-LuTBdE/blib/lib:/home/smoker12/.cpan/build/Module-Build-0.4234-i0DBo5/blib/arch:/home/smoker12/.cpan/build/Module-Build-0.4234-i0DBo5/blib/lib:/home/smoker12/.cpan/build/Test-Harness-3.44-TYUq50/blib/arch:/home/smoker12/.cpan/build/Test-Harness-3.44-TYUq50/blib/lib:/home/smoker12/.cpan/build/Perl-OSType-1.010-nXJ9Rl/blib/arch:/home/smoker12/.cpan/build/Perl-OSType-1.010-nXJ9Rl/blib/lib"
    PERL5OPT=""
    PERL5_CPANPLUS_IS_RUNNING="24366"
    PERL5_CPAN_IS_RUNNING="24366"
    PERL5_CPAN_IS_RUNNING_IN_RECURSION="75715,24366"
    PERL_CR_SMOKER_CURRENT="Text-KnuthPlass-1.07"
    PERL_EXTUTILS_AUTOINSTALL="--defaultdeps"
    PERL_MM_USE_DEFAULT="1"
  @INC:
    /home/smoker12/.cpan/build/Module-Build-Tiny-0.046-yr5zOC/blib/arch
    /home/smoker12/.cpan/build/Module-Build-Tiny-0.046-yr5zOC/blib/lib
    /home/smoker12/.cpan/build/ExtUtils-InstallPaths-0.012-fUTYH9/blib/arch
    /home/smoker12/.cpan/build/ExtUtils-InstallPaths-0.012-fUTYH9/blib/lib
    /home/smoker12/.cpan/build/ExtUtils-Config-0.008-EYdwGA/blib/arch
    /home/smoker12/.cpan/build/ExtUtils-Config-0.008-EYdwGA/blib/lib
    /home/smoker12/.cpan/build/ExtUtils-Helpers-0.026-LuTBdE/blib/arch
    /home/smoker12/.cpan/build/ExtUtils-Helpers-0.026-LuTBdE/blib/lib
    /home/smoker12/.cpan/build/Module-Build-0.4234-i0DBo5/blib/arch
    /home/smoker12/.cpan/build/Module-Build-0.4234-i0DBo5/blib/lib
    /home/smoker12/.cpan/build/Test-Harness-3.44-TYUq50/blib/arch
    /home/smoker12/.cpan/build/Test-Harness-3.44-TYUq50/blib/lib
    /home/smoker12/.cpan/build/Perl-OSType-1.010-nXJ9Rl/blib/arch
    /home/smoker12/.cpan/build/Perl-OSType-1.010-nXJ9Rl/blib/lib
    /home/smoker12/perl5/perlbrew/perls/perl-5.12.0/lib/site_perl/5.12.0/amd64-freebsd
    /home/smoker12/perl5/perlbrew/perls/perl-5.12.0/lib/site_perl/5.12.0
    /home/smoker12/perl5/perlbrew/perls/perl-5.12.0/lib/5.12.0/amd64-freebsd
    /home/smoker12/perl5/perlbrew/perls/perl-5.12.0/lib/5.12.0
    .