Tcl-pTk v1.08_01 Perl 5 v5.16.3 x86_64-linux-thread-multi

Status
Pass
From
Slaven Rezić (SREZIC)
Dist
Tcl-pTk v1.08_01
Platform
Perl 5 v5.16.3 x86_64-linux-thread-multi
Date
2020-07-18 21:09:57
ID
08a03ea0-c93b-11ea-9831-1e871f24ea8f
This distribution has been tested as part of the CPAN Testers
project, supporting the Perl programming language.  See
http://wiki.cpantesters.org/ for more information or email
questions to cpan-testers-discuss@perl.org


--
Dear Christopher Alexander Chavez,

This is a computer-generated report for Tcl-pTk-1.08_01
on perl 5.16.3, created by CPAN-Reporter-1.2011.

Thank you for uploading your work to CPAN.  Congratulations!
All tests were successful.

Sections of this report:

    * Tester comments
    * Program output
    * Prerequisites
    * Environment and other context

------------------------------
TESTER COMMENTS
------------------------------

Additional comments from tester:

none provided

------------------------------
PROGRAM OUTPUT
------------------------------

Output from '/usr/bin/make test':

PERL_DL_NONLAZY=1 /usr/bin/perl "-MExtUtils::Command::MM" "-e" "test_harness(0, 'blib/lib', 'blib/arch')" t/*.t
Operator or semicolon missing before &__inline at (eval 127) line 1.
Ambiguous use of & resolved as operator & at (eval 127) line 1.
t/after.t ..................... ok
Operator or semicolon missing before &__inline at (eval 127) line 1.
Ambiguous use of & resolved as operator & at (eval 127) line 1.
t/afterDestroy.t .............. ok
Operator or semicolon missing before &__inline at (eval 127) line 1.
Ambiguous use of & resolved as operator & at (eval 127) line 1.
t/afterIdle.t ................. ok
Operator or semicolon missing before &__inline at (eval 127) line 1.
Ambiguous use of & resolved as operator & at (eval 127) line 1.
t/balloon.t ................... ok
Operator or semicolon missing before &__inline at (eval 127) line 1.
Ambiguous use of & resolved as operator & at (eval 127) line 1.
Balloon should appear over 'Balloon Text' button
t/balloon2.t .................. ok
Operator or semicolon missing before &__inline at (eval 127) line 1.
Ambiguous use of & resolved as operator & at (eval 127) line 1.
t/bgerror1.t .................. ok
Operator or semicolon missing before &__inline at (eval 127) line 1.
Ambiguous use of & resolved as operator & at (eval 127) line 1.
t/bgerror2.t .................. ok
Operator or semicolon missing before &__inline at (eval 127) line 1.
Ambiguous use of & resolved as operator & at (eval 127) line 1.
Error Dialog Should Show. This is expected
t/bgerror3.t .................. ok
Operator or semicolon missing before &__inline at (eval 127) line 1.
Ambiguous use of & resolved as operator & at (eval 127) line 1.
t/bind.t ...................... ok
Operator or semicolon missing before &__inline at (eval 127) line 1.
Ambiguous use of & resolved as operator & at (eval 127) line 1.
t/bindBreak.t ................. ok
Operator or semicolon missing before &__inline at (eval 127) line 1.
Ambiguous use of & resolved as operator & at (eval 127) line 1.
t/bitmapSubClass.t ............ ok
Operator or semicolon missing before &__inline at (eval 127) line 1.
Ambiguous use of & resolved as operator & at (eval 127) line 1.
t/browseEntry.t ............... ok
Operator or semicolon missing before &__inline at (eval 130) line 1.
Ambiguous use of & resolved as operator & at (eval 130) line 1.
t/browseEntry2.t .............. ok
Operator or semicolon missing before &__inline at (eval 127) line 1.
Ambiguous use of & resolved as operator & at (eval 127) line 1.
t/busy.t ...................... ok
Operator or semicolon missing before &__inline at (eval 130) line 1.
Ambiguous use of & resolved as operator & at (eval 130) line 1.
t/callback.t .................. ok
Operator or semicolon missing before &__inline at (eval 127) line 1.
Ambiguous use of & resolved as operator & at (eval 127) line 1.
t/callbackSet.t ............... ok
Operator or semicolon missing before &__inline at (eval 127) line 1.
Ambiguous use of & resolved as operator & at (eval 127) line 1.
t/canFind.t ................... ok
Operator or semicolon missing before &__inline at (eval 127) line 1.
Ambiguous use of & resolved as operator & at (eval 127) line 1.
t/canIndex.t .................. ok
Operator or semicolon missing before &__inline at (eval 127) line 1.
Ambiguous use of & resolved as operator & at (eval 127) line 1.
t/canScale.t .................. ok
Operator or semicolon missing before &__inline at (eval 127) line 1.
Ambiguous use of & resolved as operator & at (eval 127) line 1.
t/canvasFocusBusy.t ........... ok
Operator or semicolon missing before &__inline at (eval 127) line 1.
Ambiguous use of & resolved as operator & at (eval 127) line 1.
t/checkradio.t ................ ok
Operator or semicolon missing before &__inline at (eval 127) line 1.
Ambiguous use of & resolved as operator & at (eval 127) line 1.
t/cleanupCrashTest.t .......... ok
Operator or semicolon missing before &__inline at (eval 127) line 1.
Ambiguous use of & resolved as operator & at (eval 127) line 1.
t/command.t ................... ok
Operator or semicolon missing before &__inline at (eval 127) line 1.
Ambiguous use of & resolved as operator & at (eval 127) line 1.
t/configureReturn.t ........... ok
Operator or semicolon missing before &__inline at (eval 127) line 1.
Ambiguous use of & resolved as operator & at (eval 127) line 1.
t/dialog.t .................... ok
Operator or semicolon missing before &__inline at (eval 127) line 1.
Ambiguous use of & resolved as operator & at (eval 127) line 1.
t/dialogBox.t ................. ok
Operator or semicolon missing before &__inline at (eval 127) line 1.
Ambiguous use of & resolved as operator & at (eval 127) line 1.
t/dialogBoxGeom.t ............. ok
Operator or semicolon missing before &__inline at (eval 127) line 1.
Ambiguous use of & resolved as operator & at (eval 127) line 1.
t/dirtree.t ................... skipped: Tix Tcl package not available
Operator or semicolon missing before &__inline at (eval 127) line 1.
Ambiguous use of & resolved as operator & at (eval 127) line 1.
t/dndlocal.t .................. ok
Operator or semicolon missing before &__inline at (eval 127) line 1.
Ambiguous use of & resolved as operator & at (eval 127) line 1.
t/emptyMenuButtonSubclass.t ... ok
Operator or semicolon missing before &__inline at (eval 127) line 1.
Ambiguous use of & resolved as operator & at (eval 127) line 1.
t/emptyMenuSubclass.t ......... ok
Operator or semicolon missing before &__inline at (eval 128) line 1.
Ambiguous use of & resolved as operator & at (eval 128) line 1.
t/emptySubclass.t ............. ok
Operator or semicolon missing before &__inline at (eval 127) line 1.
Ambiguous use of & resolved as operator & at (eval 127) line 1.
t/entry.t ..................... ok
Operator or semicolon missing before &__inline at (eval 127) line 1.
Ambiguous use of & resolved as operator & at (eval 127) line 1.
t/entryPaste.t ................ ok
Operator or semicolon missing before &__inline at (eval 127) line 1.
Ambiguous use of & resolved as operator & at (eval 127) line 1.
t/entryValidate.t ............. ok
Operator or semicolon missing before &__inline at (eval 127) line 1.
Ambiguous use of & resolved as operator & at (eval 127) line 1.
t/fileevent.t ................. ok
Operator or semicolon missing before &__inline at (eval 127) line 1.
Ambiguous use of & resolved as operator & at (eval 127) line 1.
t/fileevent2.t ................ ok
Operator or semicolon missing before &__inline at (eval 127) line 1.
Ambiguous use of & resolved as operator & at (eval 127) line 1.
# Test 1 got: <UNDEF> (t/focusMethods.t at line 28 *TODO*)
#   Expected: ".ent02" (initial focus on entry1 failed)
#  t/focusMethods.t line 28 is: ok($mw->focusCurrent, $entry1, 'initial focus on entry1 failed');
# Test 2 got: <UNDEF> (t/focusMethods.t at line 32 *TODO*)
#   Expected: ".ent03" (focusNext from entry1 to entry2 failed)
#  t/focusMethods.t line 32 is: ok($mw->focusCurrent, $entry2, 'focusNext from entry1 to entry2 failed');
# Test 3 got: <UNDEF> (t/focusMethods.t at line 36 *TODO*)
#   Expected: ".ent04" (focusNext from entry2 to entry3 failed)
#  t/focusMethods.t line 36 is: ok($mw->focusCurrent, $entry3, 'focusNext from entry2 to entry3 failed');
# Test 4 got: <UNDEF> (t/focusMethods.t at line 40 *TODO*)
#   Expected: ".ent03" (focusPrev from entry3 to entry2 failed)
#  t/focusMethods.t line 40 is: ok($mw->focusCurrent, $entry2, 'focusPrev from entry3 to entry2 failed');
# Test 5 got: <UNDEF> (t/focusMethods.t at line 44 *TODO*)
#   Expected: ".ent02" (focusPrev from entry2 to entry1 failed)
#  t/focusMethods.t line 44 is: ok($mw->focusCurrent, $entry1, 'focusPrev from entry2 to entry1 failed');
# Test 6 got: <UNDEF> (t/focusMethods.t at line 48 *TODO*)
#   Expected: ".ent02" (before focusFollowsMouse: failed to keep focus on entry1 while entering entry3)
#  t/focusMethods.t line 48 is: ok(
# Test 7 got: <UNDEF> (t/focusMethods.t at line 58 *TODO*)
#   Expected: ".ent04" (after focusFollowsMouse: failed to focus on entry3 by entering)
#  t/focusMethods.t line 58 is: ok($mw->focusCurrent, $entry3,
t/focusMethods.t .............. ok
Operator or semicolon missing before &__inline at (eval 127) line 1.
Ambiguous use of & resolved as operator & at (eval 127) line 1.
t/font.t ...................... ok
Operator or semicolon missing before &__inline at (eval 127) line 1.
Ambiguous use of & resolved as operator & at (eval 127) line 1.
t/font2.t ..................... ok
Operator or semicolon missing before &__inline at (eval 127) line 1.
Ambiguous use of & resolved as operator & at (eval 127) line 1.
t/fontAttr.t .................. ok
Operator or semicolon missing before &__inline at (eval 127) line 1.
Ambiguous use of & resolved as operator & at (eval 127) line 1.
t/frameForeground.t ........... ok
Operator or semicolon missing before &__inline at (eval 127) line 1.
Ambiguous use of & resolved as operator & at (eval 127) line 1.
t/geomgr.t .................... ok
Operator or semicolon missing before &__inline at (eval 127) line 1.
Ambiguous use of & resolved as operator & at (eval 127) line 1.
t/hlist.t ..................... skipped: Tix Tcl package not available
Operator or semicolon missing before &__inline at (eval 127) line 1.
Ambiguous use of & resolved as operator & at (eval 127) line 1.
t/iconimage.t ................. ok
Operator or semicolon missing before &__inline at (eval 127) line 1.
Ambiguous use of & resolved as operator & at (eval 127) line 1.
t/imageLoad.t ................. skipped: Tix Tcl package not available
Operator or semicolon missing before &__inline at (eval 127) line 1.
Ambiguous use of & resolved as operator & at (eval 127) line 1.
t/itemStyle.t ................. skipped: Tix Tcl package not available
Operator or semicolon missing before &__inline at (eval 127) line 1.
Ambiguous use of & resolved as operator & at (eval 127) line 1.
t/labEntry.t .................. ok
Operator or semicolon missing before &__inline at (eval 127) line 1.
Ambiguous use of & resolved as operator & at (eval 127) line 1.
t/labEntryFacelift.t .......... ok
Operator or semicolon missing before &__inline at (eval 127) line 1.
Ambiguous use of & resolved as operator & at (eval 127) line 1.
t/labEntryParentChild.t ....... ok
Operator or semicolon missing before &__inline at (eval 127) line 1.
Ambiguous use of & resolved as operator & at (eval 127) line 1.
t/libLoad.t ................... skipped: Tix Tcl package not available
Operator or semicolon missing before &__inline at (eval 127) line 1.
Ambiguous use of & resolved as operator & at (eval 127) line 1.
t/listbox.t ................... ok
Operator or semicolon missing before &__inline at (eval 127) line 1.
Ambiguous use of & resolved as operator & at (eval 127) line 1.
t/mainloopMult.t .............. ok
Operator or semicolon missing before &__inline at (eval 127) line 1.
Ambiguous use of & resolved as operator & at (eval 127) line 1.
t/menub-cascade.t ............. ok
Operator or semicolon missing before &__inline at (eval 127) line 1.
Ambiguous use of & resolved as operator & at (eval 127) line 1.
t/menub_newMenu.t ............. ok
Operator or semicolon missing before &__inline at (eval 127) line 1.
Ambiguous use of & resolved as operator & at (eval 127) line 1.
t/menubarpath.t ............... ok
Operator or semicolon missing before &__inline at (eval 127) line 1.
Ambiguous use of & resolved as operator & at (eval 127) line 1.
t/menuitems.t ................. ok
Operator or semicolon missing before &__inline at (eval 127) line 1.
Ambiguous use of & resolved as operator & at (eval 127) line 1.
t/messageBox.t ................ ok
Operator or semicolon missing before &__inline at (eval 127) line 1.
Ambiguous use of & resolved as operator & at (eval 127) line 1.
t/moveResizeWindow.t .......... ok
Operator or semicolon missing before &__inline at (eval 127) line 1.
Ambiguous use of & resolved as operator & at (eval 127) line 1.
t/moveToplevelWindow.t ........ ok
Operator or semicolon missing before &__inline at (eval 127) line 1.
Ambiguous use of & resolved as operator & at (eval 127) line 1.
t/multMainWindow1.t ........... ok
Operator or semicolon missing before &__inline at (eval 127) line 1.
Ambiguous use of & resolved as operator & at (eval 127) line 1.
t/multMainWindow2.t ........... ok
Operator or semicolon missing before &__inline at (eval 127) line 1.
Ambiguous use of & resolved as operator & at (eval 127) line 1.
t/notebook.t .................. skipped: Tix Tcl package not available
Operator or semicolon missing before &__inline at (eval 127) line 1.
Ambiguous use of & resolved as operator & at (eval 127) line 1.
t/notebook2.t ................. skipped: Tix Tcl package not available
Operator or semicolon missing before &__inline at (eval 127) line 1.
Ambiguous use of & resolved as operator & at (eval 127) line 1.
t/onDestroy.t ................. ok
Operator or semicolon missing before &__inline at (eval 127) line 1.
Ambiguous use of & resolved as operator & at (eval 127) line 1.
t/optmenu.t ................... ok
Operator or semicolon missing before &__inline at (eval 127) line 1.
Ambiguous use of & resolved as operator & at (eval 127) line 1.
t/palette.t ................... ok
Operator or semicolon missing before &__inline at (eval 127) line 1.
Ambiguous use of & resolved as operator & at (eval 127) line 1.
t/pane.t ...................... skipped: BWidget Tcl package not available
Operator or semicolon missing before &__inline at (eval 127) line 1.
Ambiguous use of & resolved as operator & at (eval 127) line 1.
t/patchTk.t ................... skipped: Not using Aqua Tk
Operator or semicolon missing before &__inline at (eval 127) line 1.
Ambiguous use of & resolved as operator & at (eval 127) line 1.
t/photoGetImage.t ............. skipped: no Img extension available (can't find package Img at /home/cpansand/.cpan/build/2020071823/Tcl-pTk-1.08_01-Uz0hUP/blib/lib/Tcl/pTk.pm line 1208.
Operator or semicolon missing before &__inline at (eval 127) line 1.
Ambiguous use of & resolved as operator & at (eval 127) line 1.
t/photoImg.t .................. skipped: Tk Img extension not found
Operator or semicolon missing before &__inline at (eval 127) line 1.
Ambiguous use of & resolved as operator & at (eval 127) line 1.
t/photoSubClass.t ............. ok
Operator or semicolon missing before &__inline at (eval 127) line 1.
Ambiguous use of & resolved as operator & at (eval 127) line 1.
t/photoTk.t ................... ok
Operator or semicolon missing before &__inline at (eval 127) line 1.
Ambiguous use of & resolved as operator & at (eval 127) line 1.
t/progBar.t ................... ok
Operator or semicolon missing before &__inline at (eval 127) line 1.
Ambiguous use of & resolved as operator & at (eval 127) line 1.
t/protocol.t .................. ok
Operator or semicolon missing before &__inline at (eval 127) line 1.
Ambiguous use of & resolved as operator & at (eval 127) line 1.
t/ptk-compat.t ................ ok
Operator or semicolon missing before &__inline at (eval 127) line 1.
Ambiguous use of & resolved as operator & at (eval 127) line 1.
t/ptk-compat2.t ............... ok
Operator or semicolon missing before &__inline at (eval 127) line 1.
Ambiguous use of & resolved as operator & at (eval 127) line 1.
t/repeat.t .................... ok
Operator or semicolon missing before &__inline at (eval 127) line 1.
Ambiguous use of & resolved as operator & at (eval 127) line 1.
t/repeatSubReuse.t ............ ok
Operator or semicolon missing before &__inline at (eval 130) line 1.
Ambiguous use of & resolved as operator & at (eval 130) line 1.
t/rt125058.t .................. ok
Operator or semicolon missing before &__inline at (eval 127) line 1.
Ambiguous use of & resolved as operator & at (eval 127) line 1.
t/scrolled.t .................. ok
Operator or semicolon missing before &__inline at (eval 127) line 1.
Ambiguous use of & resolved as operator & at (eval 127) line 1.
t/scrolledOptional.t .......... ok
Operator or semicolon missing before &__inline at (eval 127) line 1.
Ambiguous use of & resolved as operator & at (eval 127) line 1.
t/selection.t ................. ok
Operator or semicolon missing before &__inline at (eval 127) line 1.
Ambiguous use of & resolved as operator & at (eval 127) line 1.
t/slideMegaWidget.t ........... ok
Operator or semicolon missing before &__inline at (eval 127) line 1.
Ambiguous use of & resolved as operator & at (eval 127) line 1.
t/slideMegaWidget2.t .......... ok
Operator or semicolon missing before &__inline at (eval 127) line 1.
Ambiguous use of & resolved as operator & at (eval 127) line 1.
t/spreadsheetHideRows.t ....... skipped: Tktable Tcl package not available
Operator or semicolon missing before &__inline at (eval 127) line 1.
Ambiguous use of & resolved as operator & at (eval 127) line 1.
t/table.t ..................... skipped: Tktable Tcl package not available
Operator or semicolon missing before &__inline at (eval 127) line 1.
Ambiguous use of & resolved as operator & at (eval 127) line 1.
t/tableFacelift.t ............. skipped: Tktable Tcl package not available
Operator or semicolon missing before &__inline at (eval 127) line 1.
Ambiguous use of & resolved as operator & at (eval 127) line 1.
t/tableMatrixCallbacks.t ...... skipped: Tktable Tcl package not available
Operator or semicolon missing before &__inline at (eval 127) line 1.
Ambiguous use of & resolved as operator & at (eval 127) line 1.
t/tableMatrixCleanup.t ........ skipped: Tktable Tcl package not available
Operator or semicolon missing before &__inline at (eval 127) line 1.
Ambiguous use of & resolved as operator & at (eval 127) line 1.
t/tableMatrixDebug.t .......... skipped: Tktable Tcl package not available
Operator or semicolon missing before &__inline at (eval 127) line 1.
Ambiguous use of & resolved as operator & at (eval 127) line 1.
t/tableMatrixSpreadsheet.t .... skipped: Tktable Tcl package not available
Operator or semicolon missing before &__inline at (eval 127) line 1.
Ambiguous use of & resolved as operator & at (eval 127) line 1.
t/tclVersion.t ................ ok
Operator or semicolon missing before &__inline at (eval 127) line 1.
Ambiguous use of & resolved as operator & at (eval 127) line 1.
t/text.t ...................... ok
Operator or semicolon missing before &__inline at (eval 127) line 1.
Ambiguous use of & resolved as operator & at (eval 127) line 1.
t/text2-old.t ................. ok
Operator or semicolon missing before &__inline at (eval 127) line 1.
Ambiguous use of & resolved as operator & at (eval 127) line 1.
t/text2.t ..................... ok
Operator or semicolon missing before &__inline at (eval 127) line 1.
Ambiguous use of & resolved as operator & at (eval 127) line 1.
t/text3.t ..................... ok
Operator or semicolon missing before &__inline at (eval 127) line 1.
Ambiguous use of & resolved as operator & at (eval 127) line 1.
t/textEdit.t .................. ok
Operator or semicolon missing before &__inline at (eval 127) line 1.
Ambiguous use of & resolved as operator & at (eval 127) line 1.
t/textRO.t .................... ok
Operator or semicolon missing before &__inline at (eval 127) line 1.
Ambiguous use of & resolved as operator & at (eval 127) line 1.
t/textSubwidget.t ............. ok
Operator or semicolon missing before &__inline at (eval 127) line 1.
Ambiguous use of & resolved as operator & at (eval 127) line 1.
t/textUndo.t .................. ok
Operator or semicolon missing before &__inline at (eval 127) line 1.
Ambiguous use of & resolved as operator & at (eval 127) line 1.
t/tileLabelFont.t ............. ok
Operator or semicolon missing before &__inline at (eval 127) line 1.
Ambiguous use of & resolved as operator & at (eval 127) line 1.
t/tileTree.t .................. ok
Operator or semicolon missing before &__inline at (eval 127) line 1.
Ambiguous use of & resolved as operator & at (eval 127) line 1.
t/tileWidget.t ................ ok
Operator or semicolon missing before &__inline at (eval 127) line 1.
Ambiguous use of & resolved as operator & at (eval 127) line 1.
t/tixTree.t ................... skipped: Tix Tcl package not available
Operator or semicolon missing before &__inline at (eval 127) line 1.
Ambiguous use of & resolved as operator & at (eval 127) line 1.
t/tk-mw.t ..................... ok
Operator or semicolon missing before &__inline at (eval 128) line 1.
Ambiguous use of & resolved as operator & at (eval 128) line 1.
t/tkFacelift_BEsubclass.t ..... ok
Operator or semicolon missing before &__inline at (eval 127) line 1.
Ambiguous use of & resolved as operator & at (eval 127) line 1.
t/tkFacelift_browseEntry.t .... ok
Operator or semicolon missing before &__inline at (eval 127) line 1.
Ambiguous use of & resolved as operator & at (eval 127) line 1.
t/tkFacelift_frameSubclass.t .. ok
Operator or semicolon missing before &__inline at (eval 127) line 1.
Ambiguous use of & resolved as operator & at (eval 127) line 1.
t/tkFacelift_mega1.t .......... ok
Operator or semicolon missing before &__inline at (eval 127) line 1.
Ambiguous use of & resolved as operator & at (eval 127) line 1.
t/tkFacelift_notebook.t ....... ok
Operator or semicolon missing before &__inline at (eval 127) line 1.
Ambiguous use of & resolved as operator & at (eval 127) line 1.
t/tkFacelift_simple.t ......... skipped: Tix Tcl package not available
Operator or semicolon missing before &__inline at (eval 127) line 1.
Ambiguous use of & resolved as operator & at (eval 127) line 1.
t/tkHijack_BEsubclass.t ....... ok
Operator or semicolon missing before &__inline at (eval 127) line 1.
Ambiguous use of & resolved as operator & at (eval 127) line 1.
t/tkHijack_bgerror1.t ......... ok
Operator or semicolon missing before &__inline at (eval 127) line 1.
Ambiguous use of & resolved as operator & at (eval 127) line 1.
t/tkHijack_bgerror2.t ......... ok
Operator or semicolon missing before &__inline at (eval 127) line 1.
Ambiguous use of & resolved as operator & at (eval 127) line 1.
t/tkHijack_bgerror3.t ......... ok
Operator or semicolon missing before &__inline at (eval 127) line 1.
Ambiguous use of & resolved as operator & at (eval 127) line 1.
t/tkHijack_mega1.t ............ ok
Operator or semicolon missing before &__inline at (eval 127) line 1.
Ambiguous use of & resolved as operator & at (eval 127) line 1.
t/tkHijack_simple.t ........... skipped: Tix Tcl package not available
Operator or semicolon missing before &__inline at (eval 127) line 1.
Ambiguous use of & resolved as operator & at (eval 127) line 1.
t/tkHijack_spreadsheet.t ...... skipped: Tktable Tcl package not available
Operator or semicolon missing before &__inline at (eval 127) line 1.
Ambiguous use of & resolved as operator & at (eval 127) line 1.
t/trace.t ..................... ok
Operator or semicolon missing before &__inline at (eval 127) line 1.
Ambiguous use of & resolved as operator & at (eval 127) line 1.
t/tree.t ...................... skipped: Tix Tcl package not available
Operator or semicolon missing before &__inline at (eval 127) line 1.
Ambiguous use of & resolved as operator & at (eval 127) line 1.
t/ttkBrowseEntry.t ............ ok
Operator or semicolon missing before &__inline at (eval 127) line 1.
Ambiguous use of & resolved as operator & at (eval 127) line 1.
t/ttkEntryValidate.t .......... ok
Operator or semicolon missing before &__inline at (eval 127) line 1.
Ambiguous use of & resolved as operator & at (eval 127) line 1.
t/ttkTixNoteBook.t ............ ok
Operator or semicolon missing before &__inline at (eval 127) line 1.
Ambiguous use of & resolved as operator & at (eval 127) line 1.
t/unicode.t ................... ok
Operator or semicolon missing before &__inline at (eval 127) line 1.
Ambiguous use of & resolved as operator & at (eval 127) line 1.
t/virtualEv.t ................. ok
Operator or semicolon missing before &__inline at (eval 127) line 1.
Ambiguous use of & resolved as operator & at (eval 127) line 1.
t/widgetDelete.t .............. ok
Operator or semicolon missing before &__inline at (eval 127) line 1.
Ambiguous use of & resolved as operator & at (eval 127) line 1.
t/widgetName.t ................ ok
Operator or semicolon missing before &__inline at (eval 127) line 1.
Ambiguous use of & resolved as operator & at (eval 127) line 1.
t/wmForget.t .................. ok
Operator or semicolon missing before &__inline at (eval 127) line 1.
Ambiguous use of & resolved as operator & at (eval 127) line 1.
t/wmStackorder.t .............. ok
Operator or semicolon missing before &__inline at (eval 127) line 1.
Ambiguous use of & resolved as operator & at (eval 127) line 1.
t/xevent.t .................... ok
Operator or semicolon missing before &__inline at (eval 127) line 1.
Ambiguous use of & resolved as operator & at (eval 127) line 1.
t/zzPhoto.t ................... skipped: no Img extension available
All tests successful.

Test Summary Report
-------------------
t/font.t                    (Wstat: 0 Tests: 13 Failed: 0)
  TODO passed:   11
t/fontAttr.t                (Wstat: 0 Tests: 8 Failed: 0)
  TODO passed:   1-8
t/wmStackorder.t            (Wstat: 0 Tests: 10 Failed: 0)
  TODO passed:   1-10
Files=132, Tests=474, 179 wallclock secs ( 0.53 usr  0.15 sys + 25.78 cusr  3.42 csys = 29.88 CPU)
Result: PASS

------------------------------
PREREQUISITES
------------------------------

Prerequisite modules loaded:

requires:

    Module              Need  Have    
    ------------------- ----- --------
    Class::ISA          0.36  0.36    
    perl                5.008 5.016003
    Sub::Name           0.05  0.26    
    Tcl                 0.9   1.27    
    Time::HiRes         0     1.9725  

build_requires:

    Module              Need  Have    
    ------------------- ----- --------
    ExtUtils::MakeMaker 0     6.68    

configure_requires:

    Module              Need  Have    
    ------------------- ----- --------
    ExtUtils::MakeMaker 0     6.68    


------------------------------
ENVIRONMENT AND OTHER CONTEXT
------------------------------

Environment variables:

    LANG = en_US.UTF-8
    PATH = /usr/local/bin:/usr/bin:/bin:/usr/local/sbin:/usr/sbin:/sbin:/home/cpansand/bin/linux-gnu:/home/cpansand/bin/sh:/home/cpansand/bin:/usr/games:/home/cpansand/devel:/home/eserte/src/srezic-misc/scripts
    PERL5LIB = /home/cpansand/.cpan/build/2020071823/Sub-Name-0.26-uOh1H6/blib/arch:/home/cpansand/.cpan/build/2020071823/Sub-Name-0.26-uOh1H6/blib/lib:/home/cpansand/.cpan/build/2020071823/Class-ISA-0.36-eOyLYE/blib/arch:/home/cpansand/.cpan/build/2020071823/Class-ISA-0.36-eOyLYE/blib/lib:/home/cpansand/.cpan/build/2020071823/Tcl-1.27-APWkPk/blib/arch:/home/cpansand/.cpan/build/2020071823/Tcl-1.27-APWkPk/blib/lib
    PERL5OPT = 
    PERL5_CPANPLUS_IS_RUNNING = 18092
    PERL5_CPAN_IS_RUNNING = 18092
    PERL5_CPAN_IS_RUNNING_IN_RECURSION = 5737,18092
    PERLDOC = -MPod::Perldoc::ToTextOverstrike
    PERL_BATCH = yes
    PERL_CANARY_STABILITY_NOPROMPT = 1
    PERL_CPAN_REPORTER_CONFIG = /var/tmp/cpansmoker-1023/2020071822/cpanreporter_000_config.ini
    PERL_EXTUTILS_AUTOINSTALL = --defaultdeps
    SHELL = /usr/bin/zsh
    TERM = screen
    TMPDIR = /var/tmp/cpansmoker-1023/2020071822

Perl special variables (and OS-specific diagnostics, for MSWin32):

    $^X = /usr/bin/perl
    $UID/$EUID = 1023 / 1023
    $GID = 1023 1023
    $EGID = 1023 1023

Perl module toolchain versions installed:

    Module              Have    
    ------------------- --------
    CPAN                1.9800  
    CPAN::Meta          2.120921
    Cwd                 3.40    
    ExtUtils::CBuilder  0.280206
    ExtUtils::Command   1.17    
    ExtUtils::Install   1.58    
    ExtUtils::MakeMaker 6.68    
    ExtUtils::Manifest  1.61    
    ExtUtils::ParseXS   3.18    
    File::Spec          3.40    
    JSON                n/a     
    JSON::PP            2.27202 
    Module::Build       0.4005  
    Module::Signature   n/a     
    Parse::CPAN::Meta   1.4404  
    Test::Harness       3.28    
    Test::More          0.98    
    YAML                n/a     
    YAML::Syck          1.27    
    version             0.9907  


--

Summary of my perl5 (revision 5 version 16 subversion 3) configuration:
   
  Platform:
    osname=linux, osvers=3.10.0-957.1.3.el7.x86_64, archname=x86_64-linux-thread-multi
    uname='linux x86-02.bsys.centos.org 3.10.0-957.1.3.el7.x86_64 #1 smp thu nov 29 14:49:43 utc 2018 x86_64 x86_64 x86_64 gnulinux '
    config_args='-des -Doptimize=-O2 -g -pipe -Wall -Wp,-D_FORTIFY_SOURCE=2 -fexceptions -fstack-protector-strong --param=ssp-buffer-size=4 -grecord-gcc-switches   -m64 -mtune=generic -Dccdlflags=-Wl,--enable-new-dtags -Dlddlflags=-shared -O2 -g -pipe -Wall -Wp,-D_FORTIFY_SOURCE=2 -fexceptions -fstack-protector-strong --param=ssp-buffer-size=4 -grecord-gcc-switches   -m64 -mtune=generic -Wl,-z,relro  -DDEBUGGING=-g -Dversion=5.16.3 -Dmyhostname=localhost -Dperladmin=root@localhost -Dcc=gcc -Dcf_by=Red Hat, Inc. -Dprefix=/usr -Dvendorprefix=/usr -Dsiteprefix=/usr/local -Dsitelib=/usr/local/share/perl5 -Dsitearch=/usr/local/lib64/perl5 -Dprivlib=/usr/share/perl5 -Dvendorlib=/usr/share/perl5/vendor_perl -Darchlib=/usr/lib64/perl5 -Dvendorarch=/usr/lib64/perl5/vendor_perl -Darchname=x86_64-linux-thread-multi -Dlibpth=/usr/local/lib64 /lib64 /usr/lib64 -Duseshrplib -Dusethreads -Duseithreads -Dusedtrace=/usr/bin/dtrace -Duselargefiles -Dd_semctl_semun -Di_db -Ui_ndbm -Di_gdbm -Di_shadow -Di_syslog -Dman3ext=3pm -Duseperlio -Dinstallusrbinperl=n -Ubincompat5005 -Uversiononly -Dpager=/usr/bin/less -isr -Dd_gethostent_r_proto -Ud_endhostent_r_proto -Ud_sethostent_r_proto -Ud_endprotoent_r_proto -Ud_setprotoent_r_proto -Ud_endservent_r_proto -Ud_setservent_r_proto -Dscriptdir=/usr/bin -Dusesitecustomize'
    hint=recommended, useposix=true, d_sigaction=define
    useithreads=define, usemultiplicity=define
    useperlio=define, d_sfio=undef, uselargefiles=define, usesocks=undef
    use64bitint=define, use64bitall=define, uselongdouble=undef
    usemymalloc=n, bincompat5005=undef
  Compiler:
    cc='gcc', ccflags ='-D_REENTRANT -D_GNU_SOURCE -fno-strict-aliasing -pipe -fstack-protector -I/usr/local/include -D_LARGEFILE_SOURCE -D_FILE_OFFSET_BITS=64',
    optimize='-O2 -g -pipe -Wall -Wp,-D_FORTIFY_SOURCE=2 -fexceptions -fstack-protector-strong --param=ssp-buffer-size=4 -grecord-gcc-switches -m64 -mtune=generic',
    cppflags='-D_REENTRANT -D_GNU_SOURCE -fno-strict-aliasing -pipe -fstack-protector -I/usr/local/include'
    ccversion='', gccversion='4.8.5 20150623 (Red Hat 4.8.5-39)', gccosandvers=''
    intsize=4, longsize=8, ptrsize=8, doublesize=8, byteorder=12345678
    d_longlong=define, longlongsize=8, d_longdbl=define, longdblsize=16
    ivtype='long', ivsize=8, nvtype='double', nvsize=8, Off_t='off_t', lseeksize=8
    alignbytes=8, prototype=define
  Linker and Libraries:
    ld='gcc', ldflags =' -fstack-protector'
    libpth=/usr/local/lib64 /lib64 /usr/lib64
    libs=-lresolv -lnsl -lgdbm -ldb -ldl -lm -lcrypt -lutil -lpthread -lc -lgdbm_compat
    perllibs=-lresolv -lnsl -ldl -lm -lcrypt -lutil -lpthread -lc
    libc=, so=so, useshrplib=true, libperl=libperl.so
    gnulibc_version='2.17'
  Dynamic Linking:
    dlsrc=dl_dlopen.xs, dlext=so, d_dlsymun=undef, ccdlflags='-Wl,--enable-new-dtags -Wl,-rpath,/usr/lib64/perl5/CORE'
    cccdlflags='-fPIC', lddlflags='-shared -O2 -g -pipe -Wall -Wp,-D_FORTIFY_SOURCE=2 -fexceptions -fstack-protector-strong --param=ssp-buffer-size=4 -grecord-gcc-switches -m64 -mtune=generic -Wl,-z,relro '


Characteristics of this binary (from libperl): 
  Compile-time options: HAS_TIMES MULTIPLICITY PERLIO_LAYERS
                        PERL_DONT_CREATE_GVSV PERL_IMPLICIT_CONTEXT
                        PERL_MALLOC_WRAP PERL_PRESERVE_IVUV USE_64_BIT_ALL
                        USE_64_BIT_INT USE_ITHREADS USE_LARGE_FILES
                        USE_LOCALE USE_LOCALE_COLLATE USE_LOCALE_CTYPE
                        USE_LOCALE_NUMERIC USE_PERLIO USE_PERL_ATOF
                        USE_REENTRANT_API USE_SITECUSTOMIZE
  Locally applied patches:
	Fedora Patch1: Removes date check, Fedora/RHEL specific
	Fedora Patch3: support for libdir64
	Fedora Patch4: use libresolv instead of libbind
	Fedora Patch5: USE_MM_LD_RUN_PATH
	Fedora Patch6: Skip hostname tests, due to builders not being network capable
	Fedora Patch7: Dont run one io test due to random builder failures
	Fedora Patch9: Fix find2perl to translate ? glob properly (RT#113054)
	Fedora Patch10: Fix broken atof (RT#109318)
	Fedora Patch13: Clear $@ before "do" I/O error (RT#113730)
	Fedora Patch14: Do not truncate syscall() return value to 32 bits (RT#113980)
	Fedora Patch15: Override the Pod::Simple::parse_file (CPANRT#77530)
	Fedora Patch16: Do not leak with attribute on my variable (RT#114764)
	Fedora Patch17: Allow operator after numeric keyword argument (RT#105924)
	Fedora Patch18: Extend stack in File::Glob::glob, (RT#114984)
	Fedora Patch19: Do not crash when vivifying $|
	Fedora Patch20: Fix misparsing of maketext strings (CVE-2012-6329)
	Fedora Patch21: Add NAME headings to CPAN modules (CPANRT#73396)
	Fedora Patch22: Fix leaking tied hashes (RT#107000) [1]
	Fedora Patch23: Fix leaking tied hashes (RT#107000) [2]
	Fedora Patch24: Fix leaking tied hashes (RT#107000) [3]
	Fedora Patch25: Fix dead lock in PerlIO after fork from thread (RT#106212)
	Fedora Patch26: Make regexp safe in a signal handler (RT#114878)
	Fedora Patch27: Update h2ph(1) documentation (RT#117647)
	Fedora Patch28: Update pod2html(1) documentation (RT#117623)
	Fedora Patch29: Document Math::BigInt::CalcEmu requires Math::BigInt (CPAN RT#85015)
	RHEL Patch30: Use stronger algorithm needed for FIPS in t/op/crypt.t (RT#121591)
	RHEL Patch31: Make *DBM_File desctructors thread-safe (RT#61912)
	RHEL Patch32: Use stronger algorithm needed for FIPS in t/op/taint.t (RT#123338)
	RHEL Patch33: Remove CPU-speed-sensitive test in Benchmark test
	RHEL Patch34: Make File::Glob work with threads again
	RHEL Patch35: Fix CRLF conversion in ASCII FTP upload (CPAN RT#41642)
	RHEL Patch36: Do not leak the temp utf8 copy of namepv (CPAN RT#123786)
	RHEL Patch37: Fix duplicating PerlIO::encoding when spawning threads (RT#31923)
	RHEL Patch38: Add SSL support to Net::SMTP (CPAN RT#93823) [1]
	RHEL Patch39: Add SSL support to Net::SMTP (CPAN RT#93823) [2]
	RHEL Patch40: Add SSL support to Net::SMTP (CPAN RT#93823) [3]
	RHEL Patch41: Add SSL support to Net::SMTP (CPAN RT#93823) [4]
	RHEL Patch42: Do not overload ".." in Math::BigInt (CPAN RT#80182)
	RHEL Patch43: Fix CVE-2018-18311 Integer overflow leading to buffer overflow
	RHEL Patch44: Fix a spurious timeout in Net::FTP::close (CPAN RT#18504)
  Built under linux
  Compiled at Apr  2 2020 01:18:37
  %ENV:
    PERL5LIB="/home/cpansand/.cpan/build/2020071823/Sub-Name-0.26-uOh1H6/blib/arch:/home/cpansand/.cpan/build/2020071823/Sub-Name-0.26-uOh1H6/blib/lib:/home/cpansand/.cpan/build/2020071823/Class-ISA-0.36-eOyLYE/blib/arch:/home/cpansand/.cpan/build/2020071823/Class-ISA-0.36-eOyLYE/blib/lib:/home/cpansand/.cpan/build/2020071823/Tcl-1.27-APWkPk/blib/arch:/home/cpansand/.cpan/build/2020071823/Tcl-1.27-APWkPk/blib/lib"
    PERL5OPT=""
    PERL5_CPANPLUS_IS_RUNNING="18092"
    PERL5_CPAN_IS_RUNNING="18092"
    PERL5_CPAN_IS_RUNNING_IN_RECURSION="5737,18092"
    PERLDOC="-MPod::Perldoc::ToTextOverstrike"
    PERL_BATCH="yes"
    PERL_CANARY_STABILITY_NOPROMPT="1"
    PERL_CPAN_REPORTER_CONFIG="/var/tmp/cpansmoker-1023/2020071822/cpanreporter_000_config.ini"
    PERL_EXTUTILS_AUTOINSTALL="--defaultdeps"
  @INC:
    /home/cpansand/.cpan/build/2020071823/Sub-Name-0.26-uOh1H6/blib/arch
    /home/cpansand/.cpan/build/2020071823/Sub-Name-0.26-uOh1H6/blib/lib
    /home/cpansand/.cpan/build/2020071823/Class-ISA-0.36-eOyLYE/blib/arch
    /home/cpansand/.cpan/build/2020071823/Class-ISA-0.36-eOyLYE/blib/lib
    /home/cpansand/.cpan/build/2020071823/Tcl-1.27-APWkPk/blib/arch
    /home/cpansand/.cpan/build/2020071823/Tcl-1.27-APWkPk/blib/lib
    /usr/local/lib64/perl5
    /usr/local/share/perl5
    /usr/lib64/perl5/vendor_perl
    /usr/share/perl5/vendor_perl
    /usr/lib64/perl5
    /usr/share/perl5
    .