Mojolicious v9.40 Perl 5 v5.40.2 x86_64-linux-thread-multi

Status
Pass
From
Daniel Șuteu
Dist
Mojolicious v9.40
Platform
Perl 5 v5.40.2 x86_64-linux-thread-multi
Date
2025-05-31 07:51:17
ID
08ec3e4e-3df4-11f0-a05e-cdaebf742632
This distribution has been tested as part of the CPAN Testers
project, supporting the Perl programming language.  See
http://wiki.cpantesters.org/ for more information or email
questions to cpan-testers-discuss@perl.org


--
Dear SRI,

This is a computer-generated report for Mojolicious-9.40
on perl 5.40.2, created by App::cpanminus::reporter 0.22 (1.7048).

Thank you for uploading your work to CPAN.  Congratulations!
All tests were successful.

Sections of this report:

    * Tester comments
    * Program output
    * Prerequisites
    * Environment and other context

------------------------------
TESTER COMMENTS
------------------------------

Additional comments from tester:

none provided

------------------------------
PROGRAM OUTPUT
------------------------------

Output from '':

Building and testing Mojolicious-9.40
cp lib/Mojo/JSON/Pointer.pm blib/lib/Mojo/JSON/Pointer.pm
cp lib/Mojo/Cache.pm blib/lib/Mojo/Cache.pm
cp lib/Mojo/Asset/Memory.pm blib/lib/Mojo/Asset/Memory.pm
cp lib/Mojo/Message.pm blib/lib/Mojo/Message.pm
cp lib/Mojo/JSON.pm blib/lib/Mojo/JSON.pm
cp lib/Mojo/Message/Request.pm blib/lib/Mojo/Message/Request.pm
cp lib/Mojo/HelloWorld.pm blib/lib/Mojo/HelloWorld.pm
cp lib/Mojo.pm blib/lib/Mojo.pm
cp lib/Mojo/DOM/CSS.pm blib/lib/Mojo/DOM/CSS.pm
cp lib/Mojo/DynamicMethods.pm blib/lib/Mojo/DynamicMethods.pm
cp lib/Mojo/IOLoop/Client.pm blib/lib/Mojo/IOLoop/Client.pm
cp lib/Mojo/Asset.pm blib/lib/Mojo/Asset.pm
cp lib/Mojo/Base.pm blib/lib/Mojo/Base.pm
cp lib/Mojo/Date.pm blib/lib/Mojo/Date.pm
cp lib/Mojo/File.pm blib/lib/Mojo/File.pm
cp lib/Mojo/IOLoop/Server.pm blib/lib/Mojo/IOLoop/Server.pm
cp lib/Mojo/BaseUtil.pm blib/lib/Mojo/BaseUtil.pm
cp lib/Mojo/Content.pm blib/lib/Mojo/Content.pm
cp lib/Mojo/Cookie/Request.pm blib/lib/Mojo/Cookie/Request.pm
cp lib/Mojo/Home.pm blib/lib/Mojo/Home.pm
cp lib/Mojo/Parameters.pm blib/lib/Mojo/Parameters.pm
cp lib/Mojo/Cookie/Response.pm blib/lib/Mojo/Cookie/Response.pm
cp lib/Mojo/Content/Single.pm blib/lib/Mojo/Content/Single.pm
cp lib/Mojo/Collection.pm blib/lib/Mojo/Collection.pm
cp lib/Mojo/Cookie.pm blib/lib/Mojo/Cookie.pm
cp lib/Mojo/DOM/HTML.pm blib/lib/Mojo/DOM/HTML.pm
cp lib/Mojo/IOLoop/Stream.pm blib/lib/Mojo/IOLoop/Stream.pm
cp lib/Mojo/Headers.pm blib/lib/Mojo/Headers.pm
cp lib/Mojo/IOLoop.pm blib/lib/Mojo/IOLoop.pm
cp lib/Mojo/Exception.pm blib/lib/Mojo/Exception.pm
cp lib/Mojo/IOLoop/TLS.pm blib/lib/Mojo/IOLoop/TLS.pm
cp lib/Mojo/DOM.pm blib/lib/Mojo/DOM.pm
cp lib/Mojo/ByteStream.pm blib/lib/Mojo/ByteStream.pm
cp lib/Mojo/IOLoop/Subprocess.pm blib/lib/Mojo/IOLoop/Subprocess.pm
cp lib/Mojo/Loader.pm blib/lib/Mojo/Loader.pm
cp lib/Mojo/Log.pm blib/lib/Mojo/Log.pm
cp lib/Mojo/EventEmitter.pm blib/lib/Mojo/EventEmitter.pm
cp lib/Mojo/IOLoop/resources/server.key blib/lib/Mojo/IOLoop/resources/server.key
cp lib/Mojo/IOLoop/resources/server.crt blib/lib/Mojo/IOLoop/resources/server.crt
cp lib/Mojo/Message/Response.pm blib/lib/Mojo/Message/Response.pm
cp lib/Mojo/Asset/File.pm blib/lib/Mojo/Asset/File.pm
cp lib/Mojo/Content/MultiPart.pm blib/lib/Mojo/Content/MultiPart.pm
cp lib/Mojo/Server.pm blib/lib/Mojo/Server.pm
cp lib/Mojo/Server/Hypnotoad.pm blib/lib/Mojo/Server/Hypnotoad.pm
cp lib/Mojo/Upload.pm blib/lib/Mojo/Upload.pm
cp lib/Mojo/WebSocket.pm blib/lib/Mojo/WebSocket.pm
cp lib/Mojo/UserAgent.pm blib/lib/Mojo/UserAgent.pm
cp lib/Mojo/Transaction.pm blib/lib/Mojo/Transaction.pm
cp lib/Mojo/UserAgent/Proxy.pm blib/lib/Mojo/UserAgent/Proxy.pm
cp lib/Mojo/Server/PSGI.pm blib/lib/Mojo/Server/PSGI.pm
cp lib/Mojo/Reactor.pm blib/lib/Mojo/Reactor.pm
cp lib/Mojo/Path.pm blib/lib/Mojo/Path.pm
cp lib/Mojolicious/Command/Author/generate/app.pm blib/lib/Mojolicious/Command/Author/generate/app.pm
cp lib/Mojo/UserAgent/Transactor.pm blib/lib/Mojo/UserAgent/Transactor.pm
cp lib/Mojo/Server/Morbo.pm blib/lib/Mojo/Server/Morbo.pm
cp lib/Mojo/Util.pm blib/lib/Mojo/Util.pm
cp lib/Mojo/URL.pm blib/lib/Mojo/URL.pm
cp lib/Mojolicious/Command/Author/cpanify.pm blib/lib/Mojolicious/Command/Author/cpanify.pm
cp lib/Mojo/resources/html_entities.txt blib/lib/Mojo/resources/html_entities.txt
cp lib/Mojolicious/Command.pm blib/lib/Mojolicious/Command.pm
cp lib/Mojo/Reactor/Poll.pm blib/lib/Mojo/Reactor/Poll.pm
cp lib/Mojo/Server/CGI.pm blib/lib/Mojo/Server/CGI.pm
cp lib/Mojo/Template.pm blib/lib/Mojo/Template.pm
cp lib/Mojo/Server/Morbo/Backend/Poll.pm blib/lib/Mojo/Server/Morbo/Backend/Poll.pm
cp lib/Mojolicious/Command/Author/generate/dockerfile.pm blib/lib/Mojolicious/Command/Author/generate/dockerfile.pm
cp lib/Mojo/Server/Morbo/Backend.pm blib/lib/Mojo/Server/Morbo/Backend.pm
cp lib/Mojo/Server/Prefork.pm blib/lib/Mojo/Server/Prefork.pm
cp lib/Mojolicious/Command/Author/generate.pm blib/lib/Mojolicious/Command/Author/generate.pm
cp lib/Mojo/Reactor/EV.pm blib/lib/Mojo/Reactor/EV.pm
cp lib/Mojo/Server/Daemon.pm blib/lib/Mojo/Server/Daemon.pm
cp lib/Mojolicious/Command/Author/generate/lite_app.pm blib/lib/Mojolicious/Command/Author/generate/lite_app.pm
cp lib/Mojo/UserAgent/Server.pm blib/lib/Mojo/UserAgent/Server.pm
cp lib/Mojo/Transaction/HTTP.pm blib/lib/Mojo/Transaction/HTTP.pm
cp lib/Mojolicious.pm blib/lib/Mojolicious.pm
cp lib/Mojo/Promise.pm blib/lib/Mojo/Promise.pm
cp lib/Mojo/UserAgent/CookieJar.pm blib/lib/Mojo/UserAgent/CookieJar.pm
cp lib/Mojo/Transaction/WebSocket.pm blib/lib/Mojo/Transaction/WebSocket.pm
cp lib/Mojolicious/Plugin/HeaderCondition.pm blib/lib/Mojolicious/Plugin/HeaderCondition.pm
cp lib/Mojolicious/Command/Author/generate/makefile.pm blib/lib/Mojolicious/Command/Author/generate/makefile.pm
cp lib/Mojolicious/Guides/FAQ.pod blib/lib/Mojolicious/Guides/FAQ.pod
cp lib/Mojolicious/Plugin/EPRenderer.pm blib/lib/Mojolicious/Plugin/EPRenderer.pm
cp lib/Mojolicious/Command/daemon.pm blib/lib/Mojolicious/Command/daemon.pm
cp lib/Mojolicious/Command/version.pm blib/lib/Mojolicious/Command/version.pm
cp lib/Mojolicious/Command/routes.pm blib/lib/Mojolicious/Command/routes.pm
cp lib/Mojolicious/Command/Author/generate/plugin.pm blib/lib/Mojolicious/Command/Author/generate/plugin.pm
cp lib/Mojolicious/Guides/Cookbook.pod blib/lib/Mojolicious/Guides/Cookbook.pod
cp lib/Mojolicious/Plugin.pm blib/lib/Mojolicious/Plugin.pm
cp lib/Mojolicious/Guides/Tutorial.pod blib/lib/Mojolicious/Guides/Tutorial.pod
cp lib/Mojolicious/Guides/Growing.pod blib/lib/Mojolicious/Guides/Growing.pod
cp lib/Mojolicious/Guides/Routing.pod blib/lib/Mojolicious/Guides/Routing.pod
cp lib/Mojolicious/Controller.pm blib/lib/Mojolicious/Controller.pm
cp lib/Mojolicious/Plugin/Config.pm blib/lib/Mojolicious/Plugin/Config.pm
cp lib/Mojolicious/Command/Author/inflate.pm blib/lib/Mojolicious/Command/Author/inflate.pm
cp lib/Mojolicious/Lite.pm blib/lib/Mojolicious/Lite.pm
cp lib/Mojolicious/Commands.pm blib/lib/Mojolicious/Commands.pm
cp lib/Mojolicious/Guides/Testing.pod blib/lib/Mojolicious/Guides/Testing.pod
cp lib/Mojolicious/Command/psgi.pm blib/lib/Mojolicious/Command/psgi.pm
cp lib/Mojolicious/Command/cgi.pm blib/lib/Mojolicious/Command/cgi.pm
cp lib/Mojolicious/Plugin/DefaultHelpers.pm blib/lib/Mojolicious/Plugin/DefaultHelpers.pm
cp lib/Mojolicious/Command/eval.pm blib/lib/Mojolicious/Command/eval.pm
cp lib/Mojolicious/Guides/Rendering.pod blib/lib/Mojolicious/Guides/Rendering.pod
cp lib/Mojolicious/Command/get.pm blib/lib/Mojolicious/Command/get.pm
cp lib/Mojolicious/Guides/Contributing.pod blib/lib/Mojolicious/Guides/Contributing.pod
cp lib/Mojolicious/Guides.pod blib/lib/Mojolicious/Guides.pod
cp lib/Mojolicious/Plugin/EPLRenderer.pm blib/lib/Mojolicious/Plugin/EPLRenderer.pm
cp lib/Mojolicious/Command/prefork.pm blib/lib/Mojolicious/Command/prefork.pm
cp lib/Mojolicious/Renderer.pm blib/lib/Mojolicious/Renderer.pm
cp lib/Mojolicious/Routes/Pattern.pm blib/lib/Mojolicious/Routes/Pattern.pm
cp lib/Mojolicious/Routes/Route.pm blib/lib/Mojolicious/Routes/Route.pm
cp lib/Mojolicious/resources/public/mojo/highlight.js/mojolicious.min.js blib/lib/Mojolicious/resources/public/mojo/highlight.js/mojolicious.min.js
cp lib/Mojolicious/resources/public/mojo/bootstrap/bootstrap.css blib/lib/Mojolicious/resources/public/mojo/bootstrap/bootstrap.css
cp lib/Mojolicious/Validator.pm blib/lib/Mojolicious/Validator.pm
cp lib/Mojolicious/Plugin/NotYAMLConfig.pm blib/lib/Mojolicious/Plugin/NotYAMLConfig.pm
cp lib/Mojolicious/resources/public/mojo/logo-white-2x.png blib/lib/Mojolicious/resources/public/mojo/logo-white-2x.png
cp lib/Mojolicious/Plugin/JSONConfig.pm blib/lib/Mojolicious/Plugin/JSONConfig.pm
cp lib/Mojolicious/Routes.pm blib/lib/Mojolicious/Routes.pm
cp lib/Mojolicious/Sessions.pm blib/lib/Mojolicious/Sessions.pm
cp lib/Mojolicious/resources/public/mojo/bootstrap/bootstrap.js blib/lib/Mojolicious/resources/public/mojo/bootstrap/bootstrap.js
cp lib/Mojolicious/resources/public/mojo/highlight.js/highlight-mojo-dark.css blib/lib/Mojolicious/resources/public/mojo/highlight.js/highlight-mojo-dark.css
cp lib/Mojolicious/Plugin/TagHelpers.pm blib/lib/Mojolicious/Plugin/TagHelpers.pm
cp lib/Mojolicious/resources/public/favicon.ico blib/lib/Mojolicious/resources/public/favicon.ico
cp lib/Mojolicious/Routes/Match.pm blib/lib/Mojolicious/Routes/Match.pm
cp lib/Mojolicious/Plugins.pm blib/lib/Mojolicious/Plugins.pm
cp lib/Mojolicious/Static.pm blib/lib/Mojolicious/Static.pm
cp lib/Mojolicious/resources/public/mojo/bootstrap/bootstrap.min.css.map blib/lib/Mojolicious/resources/public/mojo/bootstrap/bootstrap.min.css.map
cp lib/Mojolicious/resources/public/mojo/highlight.js/highlight.min.js blib/lib/Mojolicious/resources/public/mojo/highlight.js/highlight.min.js
cp lib/Mojolicious/Validator/Validation.pm blib/lib/Mojolicious/Validator/Validation.pm
cp lib/Mojolicious/resources/public/mojo/failraptor.png blib/lib/Mojolicious/resources/public/mojo/failraptor.png
cp lib/Mojolicious/Types.pm blib/lib/Mojolicious/Types.pm
cp lib/Mojolicious/Plugin/Mount.pm blib/lib/Mojolicious/Plugin/Mount.pm
cp lib/Mojolicious/resources/public/mojo/notfound.png blib/lib/Mojolicious/resources/public/mojo/notfound.png
cp lib/Mojolicious/resources/public/mojo/popper/popper.js blib/lib/Mojolicious/resources/public/mojo/popper/popper.js
cp lib/Mojolicious/resources/templates/mojo/not_found.html.ep blib/lib/Mojolicious/resources/templates/mojo/not_found.html.ep
cp lib/Mojolicious/resources/public/mojo/noraptor.png blib/lib/Mojolicious/resources/public/mojo/noraptor.png
cp lib/Mojolicious/resources/public/mojo/logo-white.png blib/lib/Mojolicious/resources/public/mojo/logo-white.png
cp lib/ojo.pm blib/lib/ojo.pm
cp lib/Mojolicious/resources/public/mojo/logo.png blib/lib/Mojolicious/resources/public/mojo/logo.png
cp lib/Mojolicious/resources/templates/mojo/exception.html.ep blib/lib/Mojolicious/resources/templates/mojo/exception.html.ep
cp lib/Mojolicious/resources/public/mojo/pinstripe-light.png blib/lib/Mojolicious/resources/public/mojo/pinstripe-light.png
cp lib/Mojolicious/resources/templates/mojo/debug.html.ep blib/lib/Mojolicious/resources/templates/mojo/debug.html.ep
cp lib/Test/Mojo.pm blib/lib/Test/Mojo.pm
cp lib/Mojolicious/resources/public/mojo/pinstripe-dark.png blib/lib/Mojolicious/resources/public/mojo/pinstripe-dark.png
cp lib/Mojolicious/resources/public/mojo/mojo.css blib/lib/Mojolicious/resources/public/mojo/mojo.css
cp script/hypnotoad blib/script/hypnotoad
cp script/mojo blib/script/mojo
"/usr/bin/perl" -MExtUtils::MY -e 'MY->fixin(shift)' -- blib/script/hypnotoad
"/usr/bin/perl" -MExtUtils::MY -e 'MY->fixin(shift)' -- blib/script/mojo
cp script/morbo blib/script/morbo
"/usr/bin/perl" -MExtUtils::MY -e 'MY->fixin(shift)' -- blib/script/morbo
Manifying 3 pod documents
Manifying 40 pod documents
Manifying 34 pod documents
Manifying 29 pod documents
Manifying 17 pod documents
PERL_DL_NONLAZY=1 "/usr/bin/perl" "-MExtUtils::Command::MM" "-MTest::Harness" "-e" "undef *Test::Harness::Switches; test_harness(0, 'blib/lib', 'blib/arch')" t/*.t t/*/*.t
t/mojo/asset.t ............................. ok
t/mojo/base.t .............................. ok
t/mojo/base_util.t ......................... ok
t/mojo/bytestream.t ........................ ok
t/mojo/cache.t ............................. ok
t/mojo/cgi.t ............................... ok
t/mojo/collection.t ........................ ok
t/mojo/content.t ........................... ok
t/mojo/cookie.t ............................ ok
t/mojo/cookiejar.t ......................... ok
t/mojo/daemon.t ............................ ok
t/mojo/daemon_ipv6_tls.t ................... skipped: set TEST_IPV6 to enable this test (developer only!)
t/mojo/date.t .............................. ok
t/mojo/dom.t ............................... ok
t/mojo/dynamic_methods.t ................... ok
t/mojo/eventemitter.t ...................... ok
t/mojo/exception.t ......................... ok
t/mojo/file.t .............................. ok
t/mojo/file_download.t ..................... ok
t/mojo/headers.t ........................... ok
t/mojo/home.t .............................. ok
t/mojo/hypnotoad.t ......................... skipped: set TEST_HYPNOTOAD to enable this test (developer only!)
t/mojo/ioloop.t ............................ ok
t/mojo/ioloop_ipv6.t ....................... skipped: set TEST_IPV6 to enable this test (developer only!)
t/mojo/ioloop_tls.t ........................ skipped: set TEST_TLS to enable this test (developer only!)
t/mojo/json.t .............................. ok
t/mojo/json_pointer.t ...................... ok
t/mojo/json_xs.t ........................... skipped: Cpanel::JSON::XS 4.09+ required for this test!
t/mojo/loader.t ............................ ok
t/mojo/log.t ............................... ok
t/mojo/morbo.t ............................. skipped: set TEST_MORBO to enable this test (developer only!)
t/mojo/parameters.t ........................ ok
t/mojo/path.t .............................. ok
t/mojo/prefork.t ........................... skipped: set TEST_PREFORK to enable this test (developer only!)
t/mojo/promise.t ........................... ok
t/mojo/promise_async_await.t ............... skipped: set TEST_ASYNC_AWAIT to enable this test (developer only!)
t/mojo/proxy.t ............................. ok
t/mojo/psgi.t .............................. ok
t/mojo/reactor_detect.t .................... ok
t/mojo/reactor_ev.t ........................ skipped: set TEST_EV to enable this test (developer only!)
t/mojo/reactor_poll.t ...................... ok
t/mojo/request.t ........................... ok
t/mojo/request_cgi.t ....................... ok
t/mojo/response.t .......................... ok
t/mojo/roles.t ............................. ok
t/mojo/signatures.t ........................ ok
t/mojo/subprocess.t ........................ skipped: set TEST_SUBPROCESS to enable this test (developer only!)
t/mojo/subprocess_ev.t ..................... skipped: set TEST_SUBPROCESS to enable this test (developer only!)
t/mojo/template.t .......................... ok
t/mojo/tls.t ............................... skipped: set TEST_TLS to enable this test (developer only!)
t/mojo/transactor.t ........................ ok
t/mojo/url.t ............................... ok
t/mojo/user_agent.t ........................ ok
t/mojo/user_agent_online.t ................. skipped: set TEST_ONLINE to enable this test (developer only!)
t/mojo/user_agent_socks.t .................. skipped: set TEST_SOCKS to enable this test (developer only!)
t/mojo/user_agent_tls.t .................... skipped: set TEST_TLS to enable this test (developer only!)
t/mojo/user_agent_unix.t ................... skipped: set TEST_UNIX to enable this test (developer only!)
t/mojo/util.t .............................. ok
t/mojo/websocket.t ......................... ok
t/mojo/websocket_frames.t .................. ok
t/mojo/websocket_proxy.t ................... ok
t/mojo/websocket_proxy_tls.t ............... skipped: set TEST_TLS to enable this test (developer only!)
t/mojolicious/app.t ........................ ok
t/mojolicious/charset_lite_app.t ........... ok
t/mojolicious/command.t .................... ok
t/mojolicious/commands.t ................... ok
t/mojolicious/dispatch.t ................... ok
t/mojolicious/dispatcher_lite_app.t ........ ok
t/mojolicious/embedded_app.t ............... ok
t/mojolicious/embedded_lite_app.t .......... ok
t/mojolicious/exception_lite_app.t ......... ok
t/mojolicious/external_app.t ............... ok
t/mojolicious/external_lite_app.t .......... ok
t/mojolicious/group_lite_app.t ............. ok
t/mojolicious/json_config_lite_app.t ....... ok
t/mojolicious/json_config_mode_lite_app.t .. ok
t/mojolicious/layouted_lite_app.t .......... ok
t/mojolicious/lite_app.t ................... ok
t/mojolicious/log_lite_app.t ............... ok
t/mojolicious/longpolling_lite_app.t ....... ok
t/mojolicious/multipath_lite_app.t ......... ok
t/mojolicious/ojo.t ........................ ok
t/mojolicious/ojo_signatures.t ............. ok
t/mojolicious/pattern.t .................... ok
t/mojolicious/production_app.t ............. ok
t/mojolicious/proxy_app.t .................. ok
t/mojolicious/rebased_lite_app.t ........... ok
t/mojolicious/renderer.t ................... ok
t/mojolicious/restful_lite_app.t ........... ok
t/mojolicious/routes.t ..................... ok
t/mojolicious/session_lite_app.t ........... ok
t/mojolicious/signatures_lite_app.t ........ ok
t/mojolicious/static_lite_app.t ............ ok
t/mojolicious/static_prefix_lite_app.t ..... ok
t/mojolicious/tag_helper_lite_app.t ........ ok
t/mojolicious/testing_app.t ................ ok
t/mojolicious/tls_lite_app.t ............... skipped: set TEST_TLS to enable this test (developer only!)
t/mojolicious/twinkle_lite_app.t ........... ok
t/mojolicious/types.t ...................... ok
t/mojolicious/upload_lite_app.t ............ ok
t/mojolicious/upload_stream_lite_app.t ..... ok
t/mojolicious/validation_lite_app.t ........ ok
t/mojolicious/websocket_lite_app.t ......... ok
t/mojolicious/yaml_config_lite_app.t ....... ok
t/pod.t .................................... skipped: set TEST_POD to enable this test (developer only!)
t/pod_coverage.t ........................... skipped: set TEST_POD to enable this test (developer only!)
t/test/mojo.t .............................. ok
All tests successful.
Files=107, Tests=4286, 81 wallclock secs ( 1.79 usr  0.19 sys + 59.38 cusr  3.94 csys = 65.30 CPU)
Result: PASS

------------------------------
PREREQUISITES
------------------------------

Prerequisite modules loaded:

runtime:

    Module              Need  Have    
    ------------------- ----- --------
    IO::Socket::IP      0.37  0.43    
    perl                5.016 5.040002
    Sub::Util           1.41  1.69    

build:

    Module              Need  Have    
    ------------------- ----- --------
    ExtUtils::MakeMaker 0     7.76    

configure:

    Module              Need  Have    
    ------------------- ----- --------
    ExtUtils::MakeMaker 0     7.76    


------------------------------
ENVIRONMENT AND OTHER CONTEXT
------------------------------

Environment variables:

    CCFLAGS = -march=native -O3 -pipe -fno-plt -fexceptions -Wp,-D_FORTIFY_SOURCE=2 -Wformat -Werror=format-security -fstack-clash-protection -fcf-protection
    LANG = en_US.UTF-8
    LANGUAGE = 
    LC_ADDRESS = 
    LC_COLLATE = 
    LC_CTYPE = 
    LC_IDENTIFICATION = 
    LC_MEASUREMENT = 
    LC_MESSAGES = 
    LC_MONETARY = 
    LC_NAME = 
    LC_NUMERIC = 
    LC_PAPER = 
    LC_TELEPHONE = 
    LC_TIME = 
    LDFLAGS = -Wl,-O1,--sort-common,--as-needed,-z,relro,-z,now
    PATH = /usr/lib/ccache/bin:/usr/local/sbin:/usr/local/bin:/usr/bin:/opt/android-sdk/platform-tools:/usr/lib/jvm/default/bin:/usr/bin/site_perl:/usr/bin/vendor_perl:/usr/bin/core_perl:/usr/share/perl6/vendor/bin:/home/swampyx/.raku/bin:/opt/android-ndk/toolchains/llvm/prebuilt/linux-x86_64/bin
    PERL_MM_OPT = OPTIMIZE="-march=native -O3 -pipe -fno-plt -fstack-clash-protection -fcf-protection"
    SHELL = /usr/bin/zsh
    TEMP = /tmp
    TERM = xterm

Perl special variables (and OS-specific diagnostics, for MSWin32):

    EGID = 100 50 91 92 93 95 98 100 108
    EUID = 1000
    EXECUTABLE_NAME = /usr/bin/perl
    GID = 100 50 91 92 93 95 98 100 108
    UID = 1000

Perl module toolchain versions installed:

    Module              Have    
    ------------------- --------
    CPAN                2.38    
    CPAN::Meta          2.150010
    Cwd                 3.91    
    ExtUtils::CBuilder  0.280236
    ExtUtils::Command   7.76    
    ExtUtils::Install   2.22    
    ExtUtils::MakeMaker 7.76    
    ExtUtils::Manifest  1.75    
    ExtUtils::ParseXS   3.57    
    File::Spec          3.91    
    JSON                4.10    
    JSON::PP            4.16    
    Module::Build       0.4234  
    Module::Signature   0.89    
    Parse::CPAN::Meta   2.150010
    Test::Harness       3.52    
    Test::More          1.302214
    YAML                1.31    
    YAML::Syck          n/a     
    version             0.9933  


--

Summary of my perl5 (revision 5 version 40 subversion 2) configuration:
   
  Platform:
    osname=linux
    osvers=5.12.15-arch1-1
    archname=x86_64-linux-thread-multi
    uname='archlinux'
    config_args='-des -Dusethreads -Duseshrplib -Doptimize=-march=x86-64 -mtune=generic -O2 -pipe -fno-plt -fexceptions         -Wp,-D_FORTIFY_SOURCE=3 -Wformat -Werror=format-security         -fstack-clash-protection -fcf-protection         -fno-omit-frame-pointer -mno-omit-leaf-frame-pointer -g -ffile-prefix-map=/build/perl/src=/usr/src/debug/perl -flto=auto -Dprefix=/usr -Dvendorprefix=/usr -Dprivlib=/usr/share/perl5/core_perl -Darchlib=/usr/lib/perl5/5.40/core_perl -Dsitelib=/usr/share/perl5/site_perl -Dsitearch=/usr/lib/perl5/5.40/site_perl -Dvendorlib=/usr/share/perl5/vendor_perl -Dvendorarch=/usr/lib/perl5/5.40/vendor_perl -Dscriptdir=/usr/bin/core_perl -Dsitescript=/usr/bin/site_perl -Dvendorscript=/usr/bin/vendor_perl -Dinc_version_list=none -Dman1ext=1perl -Dman3ext=3perl -Dlddlflags=-shared -Wl,-O1 -Wl,--sort-common -Wl,--as-needed -Wl,-z,relro -Wl,-z,now          -Wl,-z,pack-relative-relocs -flto=auto -Dldflags=-Wl,-O1 -Wl,--sort-common -Wl,--as-needed -Wl,-z,relro -Wl,-z,now          -Wl,-z,pack-relative-relocs -flto=auto -Dloclibpth=/usr/lib/db5.3 -Dlocincpth=/usr/include/db5.3'
    hint=recommended
    useposix=true
    d_sigaction=define
    useithreads=define
    usemultiplicity=define
    use64bitint=define
    use64bitall=define
    uselongdouble=undef
    usemymalloc=n
    default_inc_excludes_dot=define
  Compiler:
    cc='cc'
    ccflags ='-D_REENTRANT -D_GNU_SOURCE -fwrapv -fno-strict-aliasing -pipe -fstack-protector-strong -I/usr/include/db5.3 -D_LARGEFILE_SOURCE -D_FILE_OFFSET_BITS=64'
    optimize='-march=x86-64 -mtune=generic -O2 -pipe -fno-plt -fexceptions -Wp,-D_FORTIFY_SOURCE=3 -Wformat -Werror=format-security -fstack-clash-protection -fcf-protection -fno-omit-frame-pointer -mno-omit-leaf-frame-pointer -g -ffile-prefix-map=/build/perl/src=/usr/src/debug/perl -flto=auto'
    cppflags='-D_REENTRANT -D_GNU_SOURCE -fwrapv -fno-strict-aliasing -pipe -fstack-protector-strong -I/usr/include/db5.3'
    ccversion=''
    gccversion='14.2.1 20250207'
    gccosandvers=''
    intsize=4
    longsize=8
    ptrsize=8
    doublesize=8
    byteorder=12345678
    doublekind=3
    d_longlong=define
    longlongsize=8
    d_longdbl=define
    longdblsize=16
    longdblkind=3
    ivtype='long'
    ivsize=8
    nvtype='double'
    nvsize=8
    Off_t='off_t'
    lseeksize=8
    alignbytes=8
    prototype=define
  Linker and Libraries:
    ld='cc'
    ldflags ='-Wl,-O1 -Wl,--sort-common -Wl,--as-needed -Wl,-z,relro -Wl,-z,now -Wl,-z,pack-relative-relocs -flto=auto -fstack-protector-strong -L/usr/lib/db5.3'
    libpth=/usr/local/lib /usr/lib /usr/lib/db5.3
    libs=-lpthread -lgdbm -ldb -ldl -lm -lcrypt -lutil -lc -lgdbm_compat
    perllibs=-lpthread -ldl -lm -lcrypt -lutil -lc
    libc=/lib/../lib/libc.so.6
    so=so
    useshrplib=true
    libperl=libperl.so
    gnulibc_version='2.41'
  Dynamic Linking:
    dlsrc=dl_dlopen.xs
    dlext=so
    d_dlsymun=undef
    ccdlflags='-Wl,-E -Wl,-rpath,/usr/lib/perl5/5.40/core_perl/CORE'
    cccdlflags='-fPIC'
    lddlflags='-shared -Wl,-O1 -Wl,--sort-common -Wl,--as-needed -Wl,-z,relro -Wl,-z,now -Wl,-z,pack-relative-relocs -flto=auto -L/usr/lib/db5.3 -fstack-protector-strong'


Characteristics of this binary (from libperl): 
  Compile-time options:
    HAS_LONG_DOUBLE
    HAS_STRTOLD
    HAS_TIMES
    MULTIPLICITY
    PERLIO_LAYERS
    PERL_COPY_ON_WRITE
    PERL_DONT_CREATE_GVSV
    PERL_HASH_FUNC_SIPHASH13
    PERL_HASH_USE_SBOX32
    PERL_MALLOC_WRAP
    PERL_OP_PARENT
    PERL_PRESERVE_IVUV
    PERL_USE_SAFE_PUTENV
    USE_64_BIT_ALL
    USE_64_BIT_INT
    USE_ITHREADS
    USE_LARGE_FILES
    USE_LOCALE
    USE_LOCALE_COLLATE
    USE_LOCALE_CTYPE
    USE_LOCALE_NUMERIC
    USE_LOCALE_TIME
    USE_PERLIO
    USE_PERL_ATOF
    USE_REENTRANT_API
    USE_THREAD_SAFE_LOCALE
  Built under linux
  Compiled at Apr 14 2025 20:46:26
  %ENV:
    PERL_MM_OPT="OPTIMIZE="-march=native -O3 -pipe -fno-plt -fstack-clash-protection -fcf-protection""
  @INC:
    /usr/lib/perl5/5.40/site_perl
    /usr/share/perl5/site_perl
    /usr/lib/perl5/5.40/vendor_perl
    /usr/share/perl5/vendor_perl
    /usr/lib/perl5/5.40/core_perl
    /usr/share/perl5/core_perl