Back
From: metabase:user:314402c4-2aae-11df-837a-5e0a49663a4f
Subject: PASS Text-Tradition-Directory-1.2 v5.23.4 GNU/Linux
Date: 2015-11-01T00:03:53Z
This distribution has been tested as part of the CPAN Testers
project, supporting the Perl programming language. See
http://wiki.cpantesters.org/ for more information or email
questions to cpan-testers-discuss@perl.org
--
Dear Tara Andrews,
This is a computer-generated report for Text-Tradition-Directory-1.2
on perl 5.23.4, created by CPAN-Reporter-1.2015.
Thank you for uploading your work to CPAN. Congratulations!
All tests were successful.
Sections of this report:
* Tester comments
* Program output
* Prerequisites
* Environment and other context
------------------------------
TESTER COMMENTS
------------------------------
Additional comments from tester:
none provided
------------------------------
PROGRAM OUTPUT
------------------------------
Output from '/usr/bin/make test':
PERL_DL_NONLAZY=1 "/bbbike/perl-5.23.4/bin/perl5.23.4" "-MExtUtils::Command::MM" "-MTest::Harness" "-e" "undef *Test::Harness::Switches; test_harness(0, 'inc', 'blib/lib', 'blib/arch')" t/*.t
t/00dependencies.t ................ ok
t/02pod.t ......................... ok
t/03podcoverage.t ................. skipped: set TEST_POD to enable this test
t/load-save-speed.t ............... skipped: Skipping performance tests under prove/make, run manually to test performance improvements
t/mysql_utf8.t .................... skipped: Please set TT_MYSQL_TEST to an appropriate db to run this test
Class::MOP::load_class is deprecated at /opt/perl-5.23.4/lib/site_perl/5.23.4/x86_64-linux/Class/MOP.pm line 69.
Class::MOP::load_class("Authen::Passphrase::SaltedDigest") called at /opt/perl-5.23.4/lib/site_perl/5.23.4/KiokuX/User/Util.pm line 35
KiokuX::User::Util::crypt_password("UserPass") called at /tmpfs/.cpan-build/2015103121/Text-Tradition-Directory-1.2-_mAPLP/blib/lib/Text/Tradition/Directory.pm line 451
Text::Tradition::Directory::add_user(Text::Tradition::Directory=HASH(0x6294d20), HASH(0x75b8e60)) called at t/text_tradition_directory.t line 40
t/text_tradition_directory.t ...... ok
Class::MOP::load_class is deprecated at /opt/perl-5.23.4/lib/site_perl/5.23.4/x86_64-linux/Class/MOP.pm line 69, <DATA> line 41.
Class::MOP::load_class("Authen::Passphrase::SaltedDigest") called at /opt/perl-5.23.4/lib/site_perl/5.23.4/KiokuX/User/Util.pm line 35
KiokuX::User::Util::crypt_password("bloggspass") called at /tmpfs/.cpan-build/2015103121/Text-Tradition-Directory-1.2-_mAPLP/blib/lib/Text/Tradition/Directory.pm line 451
Text::Tradition::Directory::add_user(Text::Tradition::Directory=HASH(0x4782790), HASH(0x4f35ed8)) called at t/text_tradition_user.t line 35
t/text_tradition_user.t ........... ok
Class::MOP::load_class is deprecated at /opt/perl-5.23.4/lib/site_perl/5.23.4/x86_64-linux/Class/MOP.pm line 69, <DATA> line 41.
Class::MOP::load_class("Authen::Passphrase::SaltedDigest") called at /opt/perl-5.23.4/lib/site_perl/5.23.4/KiokuX/User/Util.pm line 35
KiokuX::User::Util::crypt_password("bloggspass") called at /tmpfs/.cpan-build/2015103121/Text-Tradition-Directory-1.2-_mAPLP/blib/lib/Text/Tradition/Directory.pm line 451
Text::Tradition::Directory::add_user(Text::Tradition::Directory=HASH(0x5bc19e8), HASH(0x6549718)) called at t/text_tradition_user_collapse.t line 29
t/text_tradition_user_collapse.t .. ok
t/userrestore.t ................... ok
All tests successful.
Files=9, Tests=101, 19 wallclock secs ( 0.04 usr 0.03 sys + 12.05 cusr 1.58 csys = 13.70 CPU)
Result: PASS
------------------------------
PREREQUISITES
------------------------------
Prerequisite modules loaded:
requires:
Module Need Have
------------------------------ ----- --------
Class::Load 0 0.23
DBI 0 1.634
JSON 0 2.90
KiokuDB::Backend::DBI 0 1.23
KiokuDB::GC::Naive 0 0.57
KiokuDB::TypeMap 0 0.57
KiokuDB::TypeMap::Entry::Naive 0 0.57
KiokuX::Model 0 0.02
KiokuX::User::Util 0 0
Moose 0 2.1603
Moose::Role 0 2.1603
namespace::clean 0 0.26
perl 5.012 5.023004
Safe::Isa 0 1.000005
Text::Tradition 1.1 2.0.1
TryCatch 0 1.003002
YAML::XS 0 0.59
build_requires:
Module Need Have
------------------------------ ----- --------
ExtUtils::MakeMaker 6.59 7.10
Test::Memory::Cycle 0 1.04
Test::More::UTF8 0 0.04
Test::Warn 0 0.30
configure_requires:
Module Need Have
------------------------------ ----- --------
ExtUtils::MakeMaker 6.59 7.10
------------------------------
ENVIRONMENT AND OTHER CONTEXT
------------------------------
Environment variables:
LANG = C
LC_ALL = de_DE.UTF-8
PATH = /usr/local/bin:/usr/bin:/bin:/usr/local/sbin:/usr/sbin:/sbin:/home/eserte/bin/linux-gnu:/home/eserte/bin/sh:/home/eserte/bin:/usr/games:/home/eserte/devel:/home/eserte/src/srezic-misc/scripts
PERL5LIB =
PERL5OPT =
PERL5_CPANPLUS_IS_RUNNING = 13003
PERL5_CPAN_IS_RUNNING = 13003
PERL5_CPAN_IS_RUNNING_IN_RECURSION = 3135,13003
PERLDOC = -MPod::Perldoc::ToTextOverstrike
PERL_BATCH = yes
PERL_CANARY_STABILITY_NOPROMPT = 1
PERL_CPAN_REPORTER_CONFIG = /var/tmp/cpansmoker-1001/2015103118/cpanreporter_007_config.ini
PERL_EXTUTILS_AUTOINSTALL = --defaultdeps
PERL_PARALLEL_SMOKER = yes
SHELL = /bin/zsh
TERM = screen
TMPDIR = /var/tmp/cpansmoker-1001/2015103118
Perl special variables (and OS-specific diagnostics, for MSWin32):
$^X = /bbbike/perl-5.23.4/bin/perl5.23.4
$UID/$EUID = 1001 / 1001
$GID = 1001 109 1001
$EGID = 1001 109 1001
Perl module toolchain versions installed:
Module Have
------------------- --------
CPAN 2.11
CPAN::Meta 2.150005
Cwd 3.58
ExtUtils::CBuilder 0.280224
ExtUtils::Command 7.10
ExtUtils::Install 2.04
ExtUtils::MakeMaker 7.10
ExtUtils::Manifest 1.70
ExtUtils::ParseXS 3.30
File::Spec 3.58
JSON 2.90
JSON::PP 2.27300
Module::Build 0.4214
Module::Signature n/a
Parse::CPAN::Meta 1.4417
Test::Harness 3.35
Test::More 1.001014
YAML 1.15
YAML::Syck 1.29
version 0.9912
--
Summary of my perl5 (revision 5 version 23 subversion 4) configuration:
Platform:
osname=linux, osvers=3.2.0-4-amd64, archname=x86_64-linux
uname='linux eserte 3.2.0-4-amd64 #1 smp debian 3.2.68-1+deb7u5 x86_64 gnulinux '
config_args='-ds -e -Dprefix=/opt/perl-5.23.4 -Dusedevel -Dusemallocwrap=no -Dcf_email=srezic@cpan.org'
hint=recommended, useposix=true, d_sigaction=define
useithreads=undef, usemultiplicity=undef
use64bitint=define, use64bitall=define, uselongdouble=undef
usemymalloc=n, bincompat5005=undef
Compiler:
cc='cc', ccflags ='-fwrapv -fno-strict-aliasing -pipe -fstack-protector -I/usr/local/include -D_LARGEFILE_SOURCE -D_FILE_OFFSET_BITS=64 -D_FORTIFY_SOURCE=2',
optimize='-O2',
cppflags='-fwrapv -fno-strict-aliasing -pipe -fstack-protector -I/usr/local/include'
ccversion='', gccversion='4.7.2', gccosandvers=''
intsize=4, longsize=8, ptrsize=8, doublesize=8, byteorder=12345678, doublekind=3
d_longlong=define, longlongsize=8, d_longdbl=define, longdblsize=16, longdblkind=3
ivtype='long', ivsize=8, nvtype='double', nvsize=8, Off_t='off_t', lseeksize=8
alignbytes=8, prototype=define
Linker and Libraries:
ld='cc', ldflags =' -fstack-protector -L/usr/local/lib'
libpth=/usr/local/lib /usr/lib/gcc/x86_64-linux-gnu/4.7/include-fixed /usr/include/x86_64-linux-gnu /usr/lib /lib/x86_64-linux-gnu /lib/../lib /usr/lib/x86_64-linux-gnu /usr/lib/../lib /lib
libs=-lpthread -lnsl -ldb -ldl -lm -lcrypt -lutil -lc
perllibs=-lpthread -lnsl -ldl -lm -lcrypt -lutil -lc
libc=libc-2.13.so, so=so, useshrplib=false, libperl=libperl.a
gnulibc_version='2.13'
Dynamic Linking:
dlsrc=dl_dlopen.xs, dlext=so, d_dlsymun=undef, ccdlflags='-Wl,-E'
cccdlflags='-fPIC', lddlflags='-shared -O2 -L/usr/local/lib -fstack-protector'
Characteristics of this binary (from libperl):
Compile-time options: HAS_TIMES PERLIO_LAYERS PERL_COPY_ON_WRITE
PERL_DONT_CREATE_GVSV
PERL_HASH_FUNC_ONE_AT_A_TIME_HARD PERL_PRESERVE_IVUV
PERL_USE_DEVEL USE_64_BIT_ALL USE_64_BIT_INT
USE_LARGE_FILES USE_LOCALE USE_LOCALE_COLLATE
USE_LOCALE_CTYPE USE_LOCALE_NUMERIC USE_LOCALE_TIME
USE_PERLIO USE_PERL_ATOF
Built under linux
Compiled at Oct 28 2015 23:42:47
%ENV:
PERL5LIB=""
PERL5OPT=""
PERL5_CPANPLUS_IS_RUNNING="13003"
PERL5_CPAN_IS_RUNNING="13003"
PERL5_CPAN_IS_RUNNING_IN_RECURSION="3135,13003"
PERLDOC="-MPod::Perldoc::ToTextOverstrike"
PERL_BATCH="yes"
PERL_CANARY_STABILITY_NOPROMPT="1"
PERL_CPAN_REPORTER_CONFIG="/var/tmp/cpansmoker-1001/2015103118/cpanreporter_007_config.ini"
PERL_EXTUTILS_AUTOINSTALL="--defaultdeps"
PERL_PARALLEL_SMOKER="yes"
@INC:
/opt/perl-5.23.4/lib/site_perl/5.23.4/x86_64-linux
/opt/perl-5.23.4/lib/site_perl/5.23.4
/opt/perl-5.23.4/lib/5.23.4/x86_64-linux
/opt/perl-5.23.4/lib/5.23.4
.