Imager v1.024_002 Perl 5 v5.14.4 x86_64-linux

Status
Pass
From
Chris Williams (BINGOS)
Dist
Imager v1.024_002
Platform
Perl 5 v5.14.4 x86_64-linux
Date
2024-04-21 11:41:11
ID
0d4fa192-ffd4-11ee-98b0-b3c3213a625c
This distribution has been tested as part of the CPAN Testers
project, supporting the Perl programming language.  See
http://wiki.cpantesters.org/ for more information or email
questions to cpan-testers-discuss@perl.org


--

Dear TONYC,

This is a computer-generated error report created automatically by
CPANPLUS, version 0.9914. Testers personal comments may appear
at the end of this report.


Thank you for uploading your work to CPAN.  Congratulations!
All tests were successful.

TEST RESULTS:

Below is the error stack from stage 'make test':

"/home/cpan/pit/bare/perl-5.14.4/bin/perl" -MExtUtils::Command::MM -e 'cp_nonempty' -- Imager.bs blib/arch/auto/Imager/Imager.bs 644
make[1]: Entering directory '/home/cpan/pit/bare/conf/perl-5.14.4/.cpanplus/5.14.4/build/qDuRuoWQow/Imager-1.024_002/CountColor'
"/home/cpan/pit/bare/perl-5.14.4/bin/perl" -MExtUtils::Command::MM -e 'cp_nonempty' -- CountColor.bs ../blib/arch/auto/Imager/CountColor/CountColor.bs 644
Manifying 1 pod document
make[1]: Leaving directory '/home/cpan/pit/bare/conf/perl-5.14.4/.cpanplus/5.14.4/build/qDuRuoWQow/Imager-1.024_002/CountColor'
make[1]: Entering directory '/home/cpan/pit/bare/conf/perl-5.14.4/.cpanplus/5.14.4/build/qDuRuoWQow/Imager-1.024_002/DynTest'
"/home/cpan/pit/bare/perl-5.14.4/bin/perl" -MExtUtils::Command::MM -e 'cp_nonempty' -- DynTest.bs ../blib/arch/auto/Imager/Filter/DynTest/DynTest.bs 644
make[1]: Leaving directory '/home/cpan/pit/bare/conf/perl-5.14.4/.cpanplus/5.14.4/build/qDuRuoWQow/Imager-1.024_002/DynTest'
make[1]: Entering directory '/home/cpan/pit/bare/conf/perl-5.14.4/.cpanplus/5.14.4/build/qDuRuoWQow/Imager-1.024_002/FT2'
"/home/cpan/pit/bare/perl-5.14.4/bin/perl" -MExtUtils::Command::MM -e 'cp_nonempty' -- FT2.bs ../blib/arch/auto/Imager/Font/FT2/FT2.bs 644
Manifying 1 pod document
make[1]: Leaving directory '/home/cpan/pit/bare/conf/perl-5.14.4/.cpanplus/5.14.4/build/qDuRuoWQow/Imager-1.024_002/FT2'
make[1]: Entering directory '/home/cpan/pit/bare/conf/perl-5.14.4/.cpanplus/5.14.4/build/qDuRuoWQow/Imager-1.024_002/Flines'
"/home/cpan/pit/bare/perl-5.14.4/bin/perl" -MExtUtils::Command::MM -e 'cp_nonempty' -- Flines.bs ../blib/arch/auto/Imager/Filter/Flines/Flines.bs 644
Manifying 1 pod document
make[1]: Leaving directory '/home/cpan/pit/bare/conf/perl-5.14.4/.cpanplus/5.14.4/build/qDuRuoWQow/Imager-1.024_002/Flines'
make[1]: Entering directory '/home/cpan/pit/bare/conf/perl-5.14.4/.cpanplus/5.14.4/build/qDuRuoWQow/Imager-1.024_002/GIF'
make[1]: Nothing to be done for 'all'.
make[1]: Leaving directory '/home/cpan/pit/bare/conf/perl-5.14.4/.cpanplus/5.14.4/build/qDuRuoWQow/Imager-1.024_002/GIF'
make[1]: Entering directory '/home/cpan/pit/bare/conf/perl-5.14.4/.cpanplus/5.14.4/build/qDuRuoWQow/Imager-1.024_002/ICO'
"/home/cpan/pit/bare/perl-5.14.4/bin/perl" -MExtUtils::Command::MM -e 'cp_nonempty' -- ICO.bs ../blib/arch/auto/Imager/File/ICO/ICO.bs 644
Manifying 1 pod document
make[1]: Leaving directory '/home/cpan/pit/bare/conf/perl-5.14.4/.cpanplus/5.14.4/build/qDuRuoWQow/Imager-1.024_002/ICO'
make[1]: Entering directory '/home/cpan/pit/bare/conf/perl-5.14.4/.cpanplus/5.14.4/build/qDuRuoWQow/Imager-1.024_002/JPEG'
"/home/cpan/pit/bare/perl-5.14.4/bin/perl" -MExtUtils::Command::MM -e 'cp_nonempty' -- JPEG.bs ../blib/arch/auto/Imager/File/JPEG/JPEG.bs 644
Manifying 1 pod document
make[1]: Leaving directory '/home/cpan/pit/bare/conf/perl-5.14.4/.cpanplus/5.14.4/build/qDuRuoWQow/Imager-1.024_002/JPEG'
make[1]: Entering directory '/home/cpan/pit/bare/conf/perl-5.14.4/.cpanplus/5.14.4/build/qDuRuoWQow/Imager-1.024_002/Mandelbrot'
"/home/cpan/pit/bare/perl-5.14.4/bin/perl" -MExtUtils::Command::MM -e 'cp_nonempty' -- Mandelbrot.bs ../blib/arch/auto/Imager/Filter/Mandelbrot/Mandelbrot.bs 644
Manifying 1 pod document
make[1]: Leaving directory '/home/cpan/pit/bare/conf/perl-5.14.4/.cpanplus/5.14.4/build/qDuRuoWQow/Imager-1.024_002/Mandelbrot'
make[1]: Entering directory '/home/cpan/pit/bare/conf/perl-5.14.4/.cpanplus/5.14.4/build/qDuRuoWQow/Imager-1.024_002/PNG'
"/home/cpan/pit/bare/perl-5.14.4/bin/perl" -MExtUtils::Command::MM -e 'cp_nonempty' -- PNG.bs ../blib/arch/auto/Imager/File/PNG/PNG.bs 644
Manifying 1 pod document
make[1]: Leaving directory '/home/cpan/pit/bare/conf/perl-5.14.4/.cpanplus/5.14.4/build/qDuRuoWQow/Imager-1.024_002/PNG'
make[1]: Entering directory '/home/cpan/pit/bare/conf/perl-5.14.4/.cpanplus/5.14.4/build/qDuRuoWQow/Imager-1.024_002/SGI'
"/home/cpan/pit/bare/perl-5.14.4/bin/perl" -MExtUtils::Command::MM -e 'cp_nonempty' -- SGI.bs ../blib/arch/auto/Imager/File/SGI/SGI.bs 644
Manifying 1 pod document
make[1]: Leaving directory '/home/cpan/pit/bare/conf/perl-5.14.4/.cpanplus/5.14.4/build/qDuRuoWQow/Imager-1.024_002/SGI'
make[1]: Entering directory '/home/cpan/pit/bare/conf/perl-5.14.4/.cpanplus/5.14.4/build/qDuRuoWQow/Imager-1.024_002/TIFF'
"/home/cpan/pit/bare/perl-5.14.4/bin/perl" -MExtUtils::Command::MM -e 'cp_nonempty' -- TIFF.bs ../blib/arch/auto/Imager/File/TIFF/TIFF.bs 644
Manifying 1 pod document
make[1]: Leaving directory '/home/cpan/pit/bare/conf/perl-5.14.4/.cpanplus/5.14.4/build/qDuRuoWQow/Imager-1.024_002/TIFF'
make[1]: Entering directory '/home/cpan/pit/bare/conf/perl-5.14.4/.cpanplus/5.14.4/build/qDuRuoWQow/Imager-1.024_002/W32'
make[1]: Nothing to be done for 'all'.
make[1]: Leaving directory '/home/cpan/pit/bare/conf/perl-5.14.4/.cpanplus/5.14.4/build/qDuRuoWQow/Imager-1.024_002/W32'
make[1]: Entering directory '/home/cpan/pit/bare/conf/perl-5.14.4/.cpanplus/5.14.4/build/qDuRuoWQow/Imager-1.024_002/CountColor'
"/home/cpan/pit/bare/perl-5.14.4/bin/perl" -MExtUtils::Command::MM -e 'cp_nonempty' -- CountColor.bs ../blib/arch/auto/Imager/CountColor/CountColor.bs 644
PERL_DL_NONLAZY=1 "/home/cpan/pit/bare/perl-5.14.4/bin/perl" "-MExtUtils::Command::MM" "-MTest::Harness" "-e" "undef *Test::Harness::Switches; test_harness(0, '../blib/lib', '../blib/arch')" t/*.t
t/t00countcolor.t .. ok
All tests successful.
Files=1, Tests=9,  0 wallclock secs ( 0.01 usr  0.00 sys +  0.06 cusr  0.01 csys =  0.08 CPU)
Result: PASS
make[1]: Leaving directory '/home/cpan/pit/bare/conf/perl-5.14.4/.cpanplus/5.14.4/build/qDuRuoWQow/Imager-1.024_002/CountColor'
make[1]: Entering directory '/home/cpan/pit/bare/conf/perl-5.14.4/.cpanplus/5.14.4/build/qDuRuoWQow/Imager-1.024_002/DynTest'
"/home/cpan/pit/bare/perl-5.14.4/bin/perl" -MExtUtils::Command::MM -e 'cp_nonempty' -- DynTest.bs ../blib/arch/auto/Imager/Filter/DynTest/DynTest.bs 644
PERL_DL_NONLAZY=1 "/home/cpan/pit/bare/perl-5.14.4/bin/perl" "-MExtUtils::Command::MM" "-MTest::Harness" "-e" "undef *Test::Harness::Switches; test_harness(0, '../blib/lib', '../blib/arch')" t/*.t
t/t00dyntest.t .. ok
All tests successful.
Files=1, Tests=4,  0 wallclock secs ( 0.01 usr  0.00 sys +  0.06 cusr  0.02 csys =  0.09 CPU)
Result: PASS
make[1]: Leaving directory '/home/cpan/pit/bare/conf/perl-5.14.4/.cpanplus/5.14.4/build/qDuRuoWQow/Imager-1.024_002/DynTest'
make[1]: Entering directory '/home/cpan/pit/bare/conf/perl-5.14.4/.cpanplus/5.14.4/build/qDuRuoWQow/Imager-1.024_002/FT2'
"/home/cpan/pit/bare/perl-5.14.4/bin/perl" -MExtUtils::Command::MM -e 'cp_nonempty' -- FT2.bs ../blib/arch/auto/Imager/Font/FT2/FT2.bs 644
PERL_DL_NONLAZY=1 "/home/cpan/pit/bare/perl-5.14.4/bin/perl" "-MExtUtils::Command::MM" "-MTest::Harness" "-e" "undef *Test::Harness::Switches; test_harness(0, '../blib/lib', '../blib/arch')" t/*.t
FreeType2 runtime 2.13.0 compile-time 2.13.0
t/t10ft2.t ..... ok
t/t20thread.t .. skipped: can't test Imager's lack of threads support with no threads
t/t90std.t ..... ok
All tests successful.
Files=3, Tests=226,  1 wallclock secs ( 0.03 usr  0.01 sys +  0.45 cusr  0.17 csys =  0.66 CPU)
Result: PASS
make[1]: Leaving directory '/home/cpan/pit/bare/conf/perl-5.14.4/.cpanplus/5.14.4/build/qDuRuoWQow/Imager-1.024_002/FT2'
make[1]: Entering directory '/home/cpan/pit/bare/conf/perl-5.14.4/.cpanplus/5.14.4/build/qDuRuoWQow/Imager-1.024_002/Flines'
"/home/cpan/pit/bare/perl-5.14.4/bin/perl" -MExtUtils::Command::MM -e 'cp_nonempty' -- Flines.bs ../blib/arch/auto/Imager/Filter/Flines/Flines.bs 644
PERL_DL_NONLAZY=1 "/home/cpan/pit/bare/perl-5.14.4/bin/perl" "-MExtUtils::Command::MM" "-MTest::Harness" "-e" "undef *Test::Harness::Switches; test_harness(0, '../blib/lib', '../blib/arch')" t/*.t
t/t00flines.t .. ok
All tests successful.
Files=1, Tests=3,  0 wallclock secs ( 0.01 usr  0.00 sys +  0.05 cusr  0.02 csys =  0.08 CPU)
Result: PASS
make[1]: Leaving directory '/home/cpan/pit/bare/conf/perl-5.14.4/.cpanplus/5.14.4/build/qDuRuoWQow/Imager-1.024_002/Flines'
make[1]: Entering directory '/home/cpan/pit/bare/conf/perl-5.14.4/.cpanplus/5.14.4/build/qDuRuoWQow/Imager-1.024_002/GIF'
make[1]: Nothing to be done for 'test_dynamic'.
make[1]: Leaving directory '/home/cpan/pit/bare/conf/perl-5.14.4/.cpanplus/5.14.4/build/qDuRuoWQow/Imager-1.024_002/GIF'
make[1]: Entering directory '/home/cpan/pit/bare/conf/perl-5.14.4/.cpanplus/5.14.4/build/qDuRuoWQow/Imager-1.024_002/ICO'
"/home/cpan/pit/bare/perl-5.14.4/bin/perl" -MExtUtils::Command::MM -e 'cp_nonempty' -- ICO.bs ../blib/arch/auto/Imager/File/ICO/ICO.bs 644
PERL_DL_NONLAZY=1 "/home/cpan/pit/bare/perl-5.14.4/bin/perl" "-MExtUtils::Command::MM" "-MTest::Harness" "-e" "undef *Test::Harness::Switches; test_harness(0, '../blib/lib', '../blib/arch')" t/*.t
t/t10icon.t ......... ok
t/t20readone.t ...... ok
t/t21readmult.t ..... ok
t/t30cursor.t ....... ok
t/t40readcurone.t ... ok
t/t41curmultread.t .. ok
t/t50readfail.t ..... ok
t/t60writefail.t .... ok
t/t70icosing.t ...... ok
t/t71icomult.t ...... ok
t/t72cursing.t ...... ok
t/t73curmult.t ...... ok
All tests successful.
Files=12, Tests=253,  1 wallclock secs ( 0.06 usr  0.01 sys +  0.84 cusr  0.15 csys =  1.06 CPU)
Result: PASS
make[1]: Leaving directory '/home/cpan/pit/bare/conf/perl-5.14.4/.cpanplus/5.14.4/build/qDuRuoWQow/Imager-1.024_002/ICO'
make[1]: Entering directory '/home/cpan/pit/bare/conf/perl-5.14.4/.cpanplus/5.14.4/build/qDuRuoWQow/Imager-1.024_002/JPEG'
"/home/cpan/pit/bare/perl-5.14.4/bin/perl" -MExtUtils::Command::MM -e 'cp_nonempty' -- JPEG.bs ../blib/arch/auto/Imager/File/JPEG/JPEG.bs 644
PERL_DL_NONLAZY=1 "/home/cpan/pit/bare/perl-5.14.4/bin/perl" "-MExtUtils::Command::MM" "-MTest::Harness" "-e" "undef *Test::Harness::Switches; test_harness(0, '../blib/lib', '../blib/arch')" t/*.t
t/t00load.t ... ok
# libjpeg version: libjpeg-turbo version 2.1.5.1 api 80
t/t10jpeg.t ... ok
t/t20limit.t .. ok
All tests successful.
Files=3, Tests=188,  1 wallclock secs ( 0.04 usr  0.01 sys +  0.53 cusr  0.14 csys =  0.72 CPU)
Result: PASS
make[1]: Leaving directory '/home/cpan/pit/bare/conf/perl-5.14.4/.cpanplus/5.14.4/build/qDuRuoWQow/Imager-1.024_002/JPEG'
make[1]: Entering directory '/home/cpan/pit/bare/conf/perl-5.14.4/.cpanplus/5.14.4/build/qDuRuoWQow/Imager-1.024_002/Mandelbrot'
"/home/cpan/pit/bare/perl-5.14.4/bin/perl" -MExtUtils::Command::MM -e 'cp_nonempty' -- Mandelbrot.bs ../blib/arch/auto/Imager/Filter/Mandelbrot/Mandelbrot.bs 644
PERL_DL_NONLAZY=1 "/home/cpan/pit/bare/perl-5.14.4/bin/perl" "-MExtUtils::Command::MM" "-MTest::Harness" "-e" "undef *Test::Harness::Switches; test_harness(0, '../blib/lib', '../blib/arch')" t/*.t
t/t00mandel.t .. ok
All tests successful.
Files=1, Tests=3,  0 wallclock secs ( 0.01 usr  0.00 sys +  0.06 cusr  0.01 csys =  0.08 CPU)
Result: PASS
make[1]: Leaving directory '/home/cpan/pit/bare/conf/perl-5.14.4/.cpanplus/5.14.4/build/qDuRuoWQow/Imager-1.024_002/Mandelbrot'
make[1]: Entering directory '/home/cpan/pit/bare/conf/perl-5.14.4/.cpanplus/5.14.4/build/qDuRuoWQow/Imager-1.024_002/PNG'
"/home/cpan/pit/bare/perl-5.14.4/bin/perl" -MExtUtils::Command::MM -e 'cp_nonempty' -- PNG.bs ../blib/arch/auto/Imager/File/PNG/PNG.bs 644
PERL_DL_NONLAZY=1 "/home/cpan/pit/bare/perl-5.14.4/bin/perl" "-MExtUtils::Command::MM" "-MTest::Harness" "-e" "undef *Test::Harness::Switches; test_harness(0, '../blib/lib', '../blib/arch')" t/*.t
t/00load.t .. ok
# Library version 10639
t/10png.t ... ok
All tests successful.
Files=2, Tests=260,  1 wallclock secs ( 0.03 usr  0.00 sys +  0.48 cusr  0.06 csys =  0.57 CPU)
Result: PASS
make[1]: Leaving directory '/home/cpan/pit/bare/conf/perl-5.14.4/.cpanplus/5.14.4/build/qDuRuoWQow/Imager-1.024_002/PNG'
make[1]: Entering directory '/home/cpan/pit/bare/conf/perl-5.14.4/.cpanplus/5.14.4/build/qDuRuoWQow/Imager-1.024_002/SGI'
"/home/cpan/pit/bare/perl-5.14.4/bin/perl" -MExtUtils::Command::MM -e 'cp_nonempty' -- SGI.bs ../blib/arch/auto/Imager/File/SGI/SGI.bs 644
PERL_DL_NONLAZY=1 "/home/cpan/pit/bare/perl-5.14.4/bin/perl" "-MExtUtils::Command::MM" "-MTest::Harness" "-e" "undef *Test::Harness::Switches; test_harness(0, '../blib/lib', '../blib/arch')" t/*.t
t/00load.t ... ok
t/10read.t ... ok
t/20write.t .. ok
t/30limit.t .. ok
All tests successful.
Files=4, Tests=175,  1 wallclock secs ( 0.06 usr  0.00 sys +  0.40 cusr  0.08 csys =  0.54 CPU)
Result: PASS
make[1]: Leaving directory '/home/cpan/pit/bare/conf/perl-5.14.4/.cpanplus/5.14.4/build/qDuRuoWQow/Imager-1.024_002/SGI'
make[1]: Entering directory '/home/cpan/pit/bare/conf/perl-5.14.4/.cpanplus/5.14.4/build/qDuRuoWQow/Imager-1.024_002/TIFF'
"/home/cpan/pit/bare/perl-5.14.4/bin/perl" -MExtUtils::Command::MM -e 'cp_nonempty' -- TIFF.bs ../blib/arch/auto/Imager/File/TIFF/TIFF.bs 644
PERL_DL_NONLAZY=1 "/home/cpan/pit/bare/perl-5.14.4/bin/perl" "-MExtUtils::Command::MM" "-MTest::Harness" "-e" "undef *Test::Harness::Switches; test_harness(0, '../blib/lib', '../blib/arch')" t/*.t
# libtiff binary release 4.5.1
# build version date 20230609
# build version 4.5.1
t/10tiff.t .. ok
All tests successful.
Files=1, Tests=258,  0 wallclock secs ( 0.04 usr  0.01 sys +  0.42 cusr  0.10 csys =  0.57 CPU)
Result: PASS
make[1]: Leaving directory '/home/cpan/pit/bare/conf/perl-5.14.4/.cpanplus/5.14.4/build/qDuRuoWQow/Imager-1.024_002/TIFF'
make[1]: Entering directory '/home/cpan/pit/bare/conf/perl-5.14.4/.cpanplus/5.14.4/build/qDuRuoWQow/Imager-1.024_002/W32'
make[1]: Nothing to be done for 'test_dynamic'.
make[1]: Leaving directory '/home/cpan/pit/bare/conf/perl-5.14.4/.cpanplus/5.14.4/build/qDuRuoWQow/Imager-1.024_002/W32'
PERL_DL_NONLAZY=1 "/home/cpan/pit/bare/perl-5.14.4/bin/perl" "-MExtUtils::Command::MM" "-MTest::Harness" "-e" "undef *Test::Harness::Switches; test_harness(0, 'blib/lib', 'blib/arch')" t/*.t t/*/*.t
t/000-load.t ......................... ok
t/100-base/010-introvert.t ........... ok
t/100-base/020-color.t ............... ok
t/100-base/030-countc.t .............. ok
t/100-base/040-extra8.t .............. ok
t/100-base/050-data8.t ............... ok
t/100-base/100-linear.t .............. ok
t/100-base/800-tr18561.t ............. ok
t/100-base/801-tr18561b.t ............ ok
t/150-type/020-sixteen.t ............. ok
t/150-type/030-double.t .............. ok
t/150-type/040-palette.t ............. ok
t/150-type/050-float.t ............... ok
t/150-type/060-lin16.t ............... ok
t/150-type/070-lindbl.t .............. ok
t/150-type/100-masked.t .............. ok
t/150-type/300-extra16.t ............. ok
t/150-type/310-extradbl.t ............ ok
t/150-type/320-extramask.t ........... ok
t/200-file/010-iolayer.t ............. ok
t/200-file/100-files.t ............... ok
t/200-file/200-nojpeg.t .............. skipped: have jpeg support - this tests the lack of it
t/200-file/210-nopng.t ............... skipped: png available, and this tests the lack of it
t/200-file/220-nogif.t ............... ok
t/200-file/230-notiff.t .............. skipped: tiff support available - this tests the lack of it
t/200-file/300-raw.t ................. ok
t/200-file/310-pnm.t ................. ok
t/200-file/320-bmp.t ................. ok
t/200-file/330-tga.t ................. ok
t/200-file/400-basic.t ............... ok
t/200-file/450-preload.t ............. ok
t/250-draw/010-draw.t ................ ok
t/250-draw/020-flood.t ............... ok
t/250-draw/030-paste.t ............... ok
t/250-draw/040-rubthru.t ............. ok
t/250-draw/050-polyaa.t .............. ok
t/250-draw/060-polypoly.t ............ ok
t/250-draw/100-fill.t ................ ok
t/250-draw/200-compose.t ............. ok
t/300-transform/010-scale.t .......... ok
t/300-transform/020-combine.t ........ ok
t/300-transform/030-copyflip.t ....... ok
t/300-transform/040-crop.t ........... ok
t/300-transform/050-convert.t ........ ok
t/300-transform/060-map.t ............ ok
t/300-transform/200-trimcolorlist.t .. ok
t/300-transform/210-trim.t ........... ok
t/300-transform/500-trans.t .......... skipped: No Affix::Infix2Postfix
t/300-transform/600-trans2.t ......... ok
t/300-transform/610-postfix.t ........ ok
t/300-transform/620-infix.t .......... ok
t/300-transform/630-assem.t .......... ok
t/350-font/010-font.t ................ ok
t/350-font/020-tt.t .................. ok
t/350-font/030-ttoo.t ................ ok
t/350-font/040-ttstd.t ............... skipped: No tt available
t/350-font/100-texttools.t ........... ok
t/400-filter/010-filters.t ........... ok
t/400-filter/020-autolevels.t ........ ok
t/450-api/100-inline.t ............... skipped: Inline required for testing API
t/450-api/110-inlinectx.t ............ skipped: Inline required for testing API
t/450-api/130-cpp.t .................. skipped: Inline::CPP required for testing C++ compatibility
t/850-thread/010-base.t .............. skipped: can't test Imager's threads support with no threads
t/850-thread/100-error.t ............. skipped: can't test Imager's threads support with no threads
t/850-thread/110-log.t ............... skipped: can't test Imager's threads support with no threads
t/900-util/010-test.t ................ ok
t/900-util/020-error.t ............... ok
t/900-util/030-log.t ................. ok
t/900-util/040-limit.t ............... skipped: can't test Imager's threads support with no threads
t/900-util/050-matrix.t .............. ok
t/900-util/060-extutil.t ............. ok
t/900-util/060-hlines.t .............. ok
t/950-kwalitee/010-pod.t ............. skipped: Test::Pod 1.00 required for testing POD
t/950-kwalitee/020-samples.t ......... ok
t/950-kwalitee/030-podcover.t ........ skipped: Test::Pod::Coverage 1.08 required for POD coverage
t/950-kwalitee/040-strict.t .......... ok
t/950-kwalitee/050-meta.t ............ ok
t/950-kwalitee/060-podstruct.t ....... skipped: Pod::Parser 1.50 required for podlinkcheck
t/950-kwalitee/070-mymeta.t .......... ok
t/950-kwalitee/080-nousevars.t ....... ok
All tests successful.
Files=80, Tests=8703, 12 wallclock secs ( 0.93 usr  0.11 sys +  9.04 cusr  1.58 csys = 11.66 CPU)
Result: PASS


PREREQUISITES:

Here is a list of prerequisites you specified and versions we
managed to load:

	  Module Name                        Have     Want
	  Exporter                        5.64_03     5.57
	  ExtUtils::MakeMaker                7.70        0
	  Scalar::Util                       1.23     1.00
	  Test::More                     1.302195     0.99
	  XSLoader                           0.13        0

Perl module toolchain versions installed:
	Module Name                        Have
	CPANPLUS                         0.9914
	CPANPLUS::Dist::Build              0.90
	Cwd                                3.75
	ExtUtils::CBuilder             0.280236
	ExtUtils::Command                  7.70
	ExtUtils::Install                  2.22
	ExtUtils::MakeMaker                7.70
	ExtUtils::Manifest                 1.75
	ExtUtils::ParseXS                  3.44
	File::Spec                         3.75
	Module::Build                    0.4234
	Pod::Parser                        1.37
	Pod::Simple                        3.16
	Test2                          1.302195
	Test::Harness                      3.44
	Test::More                     1.302195
	version                          0.9929

******************************** NOTE ********************************
The comments above are created mechanically, possibly without manual
checking by the sender.  As there are many people performing automatic
tests on each upload to CPAN, it is likely that you will receive
identical messages about the same problem.

If you believe that the message is mistaken, please reply to the first
one with correction and/or additional informations, and do not take
it personally.  We appreciate your patience. :)
**********************************************************************

Additional comments:


This report was machine-generated by CPANPLUS::Dist::YACSmoke 1.08.
Powered by minismokebox version 0.68

CPANPLUS is prefering Build.PL

------------------------------
ENVIRONMENT AND OTHER CONTEXT
------------------------------

Environment variables:

    AUTOMATED_TESTING = 1
    LANG = C.UTF-8
    LC_COLLATE = C
    NONINTERACTIVE_TESTING = 1
    PATH = /home/cpan/pit/jail/94BsHSAtb9/bin:/usr/local/sbin:/usr/local/bin:/usr/sbin:/usr/bin:/sbin:/bin
    PERL5LIB = /home/cpan/pit/jail/94BsHSAtb9/lib/perl5:/home/cpan/pit/bare/conf/perl-5.14.4/.cpanplus/5.14.4/build/qDuRuoWQow/Imager-1.024_002/blib/lib:/home/cpan/pit/bare/conf/perl-5.14.4/.cpanplus/5.14.4/build/qDuRuoWQow/Imager-1.024_002/blib/arch
    PERL5_CPANPLUS_IS_RUNNING = 27629
    PERL5_CPANPLUS_IS_VERSION = 0.9914
    PERL5_MINISMOKEBOX = 0.68
    PERL5_YACSMOKE_BASE = /home/cpan/pit/bare/conf/perl-5.14.4
    PERL_EXTUTILS_AUTOINSTALL = --defaultdeps
    PERL_LOCAL_LIB_ROOT = /home/cpan/pit/jail/94BsHSAtb9
    PERL_MB_OPT = --install_base "/home/cpan/pit/jail/94BsHSAtb9"
    PERL_MM_OPT = INSTALL_BASE=/home/cpan/pit/jail/94BsHSAtb9
    PERL_MM_USE_DEFAULT = 1
    SHELL = /bin/bash
    TERM = screen

Perl special variables (and OS-specific diagnostics, for MSWin32):

    Perl: $^X = /home/cpan/pit/bare/perl-5.14.4/bin/perl
    UID:  $<  = 1001
    EUID: $>  = 1001
    GID:  $(  = 1001 1001
    EGID: $)  = 1001 1001


-------------------------------


--

Summary of my perl5 (revision 5 version 14 subversion 4) configuration:
   
  Platform:
    osname=linux, osvers=5.10.16-0-lts, archname=x86_64-linux
    uname='linux agaric 5.10.16-0-lts #1-alpine smp wed, 17 feb 2021 08:17:06 utc x86_64 linux '
    config_args='-des -Dprefix=/home/cpan/pit/bare/perl-5.14.4'
    hint=recommended, useposix=true, d_sigaction=define
    useithreads=undef, usemultiplicity=undef
    useperlio=define, d_sfio=undef, uselargefiles=define, usesocks=undef
    use64bitint=define, use64bitall=define, uselongdouble=undef
    usemymalloc=n, bincompat5005=undef
  Compiler:
    cc='cc', ccflags ='-D_GNU_SOURCE -fwrapv -fno-strict-aliasing -pipe -fstack-protector -D_LARGEFILE_SOURCE -D_FILE_OFFSET_BITS=64',
    optimize='-O2',
    cppflags='-D_GNU_SOURCE -fwrapv -fno-strict-aliasing -pipe -fstack-protector'
    ccversion='', gccversion='10.2.1 20201203', gccosandvers=''
    intsize=4, longsize=8, ptrsize=8, doublesize=8, byteorder=12345678
    d_longlong=define, longlongsize=8, d_longdbl=define, longdblsize=16
    ivtype='long', ivsize=8, nvtype='double', nvsize=8, Off_t='off_t', lseeksize=8
    alignbytes=8, prototype=define
  Linker and Libraries:
    ld='cc', ldflags =' -fstack-protector -L/usr/local/lib'
    libpth=/usr/local/lib /lib/../lib /usr/lib/../lib /lib /usr/lib
    libs=-lgdbm -ldl -lm -lcrypt -lutil -lc -lgdbm_compat
    perllibs=-ldl -lm -lcrypt -lutil -lc
    libc=/usr/lib/libc.a, so=so, useshrplib=false, libperl=libperl.a
    gnulibc_version=''
  Dynamic Linking:
    dlsrc=dl_dlopen.xs, dlext=so, d_dlsymun=undef, ccdlflags='-Wl,-E'
    cccdlflags='-fPIC', lddlflags='-shared -O2 -L/usr/local/lib -fstack-protector'


Characteristics of this binary (from libperl): 
  Compile-time options: PERL_DONT_CREATE_GVSV PERL_MALLOC_WRAP
                        PERL_PRESERVE_IVUV USE_64_BIT_ALL USE_64_BIT_INT
                        USE_LARGE_FILES USE_PERLIO USE_PERL_ATOF
  Locally applied patches:
	Devel::PatchPerl 2.08
  Built under linux
  Compiled at Mar 11 2021 22:08:39
  %ENV:
    PERL5LIB="/home/cpan/pit/jail/94BsHSAtb9/lib/perl5:/home/cpan/pit/bare/conf/perl-5.14.4/.cpanplus/5.14.4/build/qDuRuoWQow/Imager-1.024_002/blib/lib:/home/cpan/pit/bare/conf/perl-5.14.4/.cpanplus/5.14.4/build/qDuRuoWQow/Imager-1.024_002/blib/arch"
    PERL5_CPANPLUS_IS_RUNNING="27629"
    PERL5_CPANPLUS_IS_VERSION="0.9914"
    PERL5_MINISMOKEBOX="0.68"
    PERL5_YACSMOKE_BASE="/home/cpan/pit/bare/conf/perl-5.14.4"
    PERL_EXTUTILS_AUTOINSTALL="--defaultdeps"
    PERL_LOCAL_LIB_ROOT="/home/cpan/pit/jail/94BsHSAtb9"
    PERL_MB_OPT="--install_base "/home/cpan/pit/jail/94BsHSAtb9""
    PERL_MM_OPT="INSTALL_BASE=/home/cpan/pit/jail/94BsHSAtb9"
    PERL_MM_USE_DEFAULT="1"
  @INC:
    /home/cpan/pit/jail/94BsHSAtb9/lib/perl5/5.14.4/x86_64-linux
    /home/cpan/pit/jail/94BsHSAtb9/lib/perl5/5.14.4
    /home/cpan/pit/jail/94BsHSAtb9/lib/perl5/x86_64-linux
    /home/cpan/pit/jail/94BsHSAtb9/lib/perl5
    /home/cpan/pit/bare/conf/perl-5.14.4/.cpanplus/5.14.4/build/qDuRuoWQow/Imager-1.024_002/blib/lib
    /home/cpan/pit/bare/conf/perl-5.14.4/.cpanplus/5.14.4/build/qDuRuoWQow/Imager-1.024_002/blib/arch
    /home/cpan/pit/bare/perl-5.14.4/lib/site_perl/5.14.4/x86_64-linux
    /home/cpan/pit/bare/perl-5.14.4/lib/site_perl/5.14.4
    /home/cpan/pit/bare/perl-5.14.4/lib/5.14.4/x86_64-linux
    /home/cpan/pit/bare/perl-5.14.4/lib/5.14.4
    .