Test-FTP-Server v0.013 Perl 5 v5.24.2 amd64-freebsd

Status
Pass
From
Slaven Rezić (SREZIC)
Dist
Test-FTP-Server v0.013
Platform
Perl 5 v5.24.2 amd64-freebsd
Date
2020-05-22T03:12:22
ID
0dea7e68-9bda-11ea-8922-c2671f24ea8f
This distribution has been tested as part of the CPAN Testers
project, supporting the Perl programming language.  See
http://wiki.cpantesters.org/ for more information or email
questions to cpan-testers-discuss@perl.org


--
Dear Taku Amano,

This is a computer-generated report for Test-FTP-Server-0.013
on perl 5.24.2, created by CPAN-Reporter-1.2018.

Thank you for uploading your work to CPAN.  Congratulations!
All tests were successful.

Sections of this report:

    * Tester comments
    * Program output
    * Prerequisites
    * Environment and other context

------------------------------
TESTER COMMENTS
------------------------------

Additional comments from tester:

none provided

------------------------------
PROGRAM OUTPUT
------------------------------

Output from '/usr/bin/make test':

PERL_DL_NONLAZY=1 "/usr/perl5.24.2p/bin/perl5.24.2" "-MExtUtils::Command::MM" "-MTest::Harness" "-e" "undef *Test::Harness::Switches; test_harness(0, 'inc', 'blib/lib', 'blib/arch')" t/*.t
t/00_compile.t .. ok
[Test::TCP] Child process does not block(PID: 33021, PPID: 33019) at /home/cpansand/.cpan/build/2020052205/Test-FTP-Server-0.013-7QUb0R/inc/Test/TCP.pm line 103.
[Test::TCP] Child process does not block(PID: 33022, PPID: 33019) at /home/cpansand/.cpan/build/2020052205/Test-FTP-Server-0.013-7QUb0R/inc/Test/TCP.pm line 103, <STDIN> line 3.
t/01_run.t ...... ok
[Test::TCP] Child process does not block(PID: 33025, PPID: 33023) at /home/cpansand/.cpan/build/2020052205/Test-FTP-Server-0.013-7QUb0R/inc/Test/TCP.pm line 103.
[Test::TCP] Child process does not block(PID: 33026, PPID: 33023) at /home/cpansand/.cpan/build/2020052205/Test-FTP-Server-0.013-7QUb0R/inc/Test/TCP.pm line 103, <STDIN> line 16.
t/02_root.t ..... ok
[Test::TCP] Child process does not block(PID: 33029, PPID: 33027) at /home/cpansand/.cpan/build/2020052205/Test-FTP-Server-0.013-7QUb0R/inc/Test/TCP.pm line 103.
[Test::TCP] Child process does not block(PID: 33030, PPID: 33027) at /home/cpansand/.cpan/build/2020052205/Test-FTP-Server-0.013-7QUb0R/inc/Test/TCP.pm line 103, <STDIN> line 18.
t/03_sandbox.t .. ok
All tests successful.
Files=4, Tests=30,  2 wallclock secs ( 0.01 usr  0.02 sys +  0.20 cusr  0.66 csys =  0.88 CPU)
Result: PASS

------------------------------
PREREQUISITES
------------------------------

Prerequisite modules loaded:

requires:

    Module                Need     Have    
    --------------------- -------- --------
    Net::FTPServer        0        1.125   
    perl                  5.006001 5.024002

build_requires:

    Module                Need     Have    
    --------------------- -------- --------
    ExtUtils::MakeMaker   6.59     7.10_02 
    File::Copy::Recursive 0        0.44    
    Net::FTP              0        3.08_01 
    Test::More            0.88     1.302140
    Test::TCP             0        2.19    

configure_requires:

    Module                Need     Have    
    --------------------- -------- --------
    ExtUtils::MakeMaker   6.59     7.10_02 


------------------------------
ENVIRONMENT AND OTHER CONTEXT
------------------------------

Environment variables:

    LC_ALL = de_DE.ISO8859-1
    PATH = /usr/local/bin:/usr/bin:/bin:/usr/local/sbin:/usr/sbin:/sbin:/home/cpansand/bin/freebsd10.3:/home/cpansand/bin/sh:/home/cpansand/bin:/usr/games:/home/cpansand/devel:/home/eserte/src/srezic-misc/scripts
    PERL5LIB = /home/cpansand/.cpan/build/2020052205/Net-FTPServer-1.125-3RiWeW/blib/arch:/home/cpansand/.cpan/build/2020052205/Net-FTPServer-1.125-3RiWeW/blib/lib:/home/cpansand/.cpan/build/2020052205/BSD-Resource-1.2911-tv2TR5/blib/arch:/home/cpansand/.cpan/build/2020052205/BSD-Resource-1.2911-tv2TR5/blib/lib
    PERL5OPT = 
    PERL5_CPANPLUS_IS_RUNNING = 32629
    PERL5_CPAN_IS_RUNNING = 32629
    PERL5_CPAN_IS_RUNNING_IN_RECURSION = 27251,32629
    PERLDOC = -MPod::Perldoc::ToTextOverstrike
    PERL_BATCH = yes
    PERL_CANARY_STABILITY_NOPROMPT = 1
    PERL_CPAN_REPORTER_CONFIG = /var/tmp/cpansmoker-1023/2020052205/cpanreporter_000_config.ini
    PERL_EXTUTILS_AUTOINSTALL = --defaultdeps
    SHELL = /usr/local/bin/zsh
    TERM = screen
    TMPDIR = /var/tmp/cpansmoker-1023/2020052205

Perl special variables (and OS-specific diagnostics, for MSWin32):

    $^X = /usr/perl5.24.2p/bin/perl5.24.2
    $UID/$EUID = 1023 / 1023
    $GID = 1023 1023
    $EGID = 1023 1023

Perl module toolchain versions installed:

    Module              Have      
    ------------------- ----------
    CPAN                2.11_01   
    CPAN::Meta          2.150010  
    Cwd                 3.75      
    ExtUtils::CBuilder  0.280225  
    ExtUtils::Command   7.10_02   
    ExtUtils::Install   2.04      
    ExtUtils::MakeMaker 7.10_02   
    ExtUtils::Manifest  1.71      
    ExtUtils::ParseXS   3.31      
    File::Spec          3.75      
    JSON                2.94      
    JSON::PP            2.27300_01
    Module::Build       0.4224    
    Module::Signature   n/a       
    Parse::CPAN::Meta   2.150010  
    Test::Harness       3.36_01   
    Test::More          1.302140  
    YAML                1.23      
    YAML::Syck          1.30      
    version             0.9924    


--

Summary of my perl5 (revision 5 version 24 subversion 2) configuration:
   
  Platform:
    osname=freebsd, osvers=10.3-release-p11, archname=amd64-freebsd
    uname='freebsd cvrsnica-freebsd-101.herceg.de 10.3-release-p11 freebsd 10.3-release-p11 #0: mon oct 24 18:49:24 utc 2016 root@amd64-builder.daemonology.net:usrobjusrsrcsysgeneric amd64 '
    config_args='-ds -e -Dprefix=/usr/perl5.24.2p -Dcf_email=srezic@cpan.org -Doptimize=-O2 -pipe'
    hint=recommended, useposix=true, d_sigaction=define
    useithreads=undef, usemultiplicity=undef
    use64bitint=define, use64bitall=define, uselongdouble=undef
    usemymalloc=n, bincompat5005=undef
  Compiler:
    cc='cc', ccflags ='-DHAS_FPSETMASK -DHAS_FLOATINGPOINT_H -fno-strict-aliasing -pipe -fstack-protector -I/usr/local/include -D_FORTIFY_SOURCE=2',
    optimize='-O2 -pipe',
    cppflags='-DHAS_FPSETMASK -DHAS_FLOATINGPOINT_H -fno-strict-aliasing -pipe -fstack-protector -I/usr/local/include'
    ccversion='', gccversion='4.2.1 Compatible FreeBSD Clang 3.4.1 (tags/RELEASE_34/dot1-final 208032)', gccosandvers=''
    intsize=4, longsize=8, ptrsize=8, doublesize=8, byteorder=12345678, doublekind=3
    d_longlong=define, longlongsize=8, d_longdbl=define, longdblsize=16, longdblkind=3
    ivtype='long', ivsize=8, nvtype='double', nvsize=8, Off_t='off_t', lseeksize=8
    alignbytes=8, prototype=define
  Linker and Libraries:
    ld='cc', ldflags ='-pthread -Wl,-E  -fstack-protector -L/usr/local/lib'
    libpth=/usr/lib /usr/local/lib /usr/include/clang/3.4.1 /usr/lib
    libs=-lpthread -lgdbm -lm -lcrypt -lutil -lc
    perllibs=-lpthread -lm -lcrypt -lutil -lc
    libc=, so=so, useshrplib=false, libperl=libperl.a
    gnulibc_version=''
  Dynamic Linking:
    dlsrc=dl_dlopen.xs, dlext=so, d_dlsymun=undef, ccdlflags=' '
    cccdlflags='-DPIC -fPIC', lddlflags='-shared  -L/usr/local/lib -fstack-protector'


Characteristics of this binary (from libperl): 
  Compile-time options: HAS_TIMES PERLIO_LAYERS PERL_COPY_ON_WRITE
                        PERL_DONT_CREATE_GVSV
                        PERL_HASH_FUNC_ONE_AT_A_TIME_HARD PERL_MALLOC_WRAP
                        PERL_PRESERVE_IVUV USE_64_BIT_ALL USE_64_BIT_INT
                        USE_LARGE_FILES USE_LOCALE USE_LOCALE_COLLATE
                        USE_LOCALE_CTYPE USE_LOCALE_NUMERIC USE_LOCALE_TIME
                        USE_PERLIO USE_PERL_ATOF
  Built under freebsd
  Compiled at Jul 29 2017 11:20:18
  %ENV:
    PERL5LIB="/home/cpansand/.cpan/build/2020052205/Net-FTPServer-1.125-3RiWeW/blib/arch:/home/cpansand/.cpan/build/2020052205/Net-FTPServer-1.125-3RiWeW/blib/lib:/home/cpansand/.cpan/build/2020052205/BSD-Resource-1.2911-tv2TR5/blib/arch:/home/cpansand/.cpan/build/2020052205/BSD-Resource-1.2911-tv2TR5/blib/lib"
    PERL5OPT=""
    PERL5_CPANPLUS_IS_RUNNING="32629"
    PERL5_CPAN_IS_RUNNING="32629"
    PERL5_CPAN_IS_RUNNING_IN_RECURSION="27251,32629"
    PERLDOC="-MPod::Perldoc::ToTextOverstrike"
    PERL_BATCH="yes"
    PERL_CANARY_STABILITY_NOPROMPT="1"
    PERL_CPAN_REPORTER_CONFIG="/var/tmp/cpansmoker-1023/2020052205/cpanreporter_000_config.ini"
    PERL_EXTUTILS_AUTOINSTALL="--defaultdeps"
  @INC:
    /home/cpansand/.cpan/build/2020052205/Net-FTPServer-1.125-3RiWeW/blib/arch
    /home/cpansand/.cpan/build/2020052205/Net-FTPServer-1.125-3RiWeW/blib/lib
    /home/cpansand/.cpan/build/2020052205/BSD-Resource-1.2911-tv2TR5/blib/arch
    /home/cpansand/.cpan/build/2020052205/BSD-Resource-1.2911-tv2TR5/blib/lib
    /usr/perl5.24.2p/lib/site_perl/5.24.2/amd64-freebsd
    /usr/perl5.24.2p/lib/site_perl/5.24.2
    /usr/perl5.24.2p/lib/5.24.2/amd64-freebsd
    /usr/perl5.24.2p/lib/5.24.2
    .