Back
From: metabase:user:0d96120c-29e2-11e5-b049-ede3035d37de
Subject: PASS MooseX-App-Cmd-0.31 v5.23.1 GNU/Linux
Date: 2015-08-02T14:23:36Z
This distribution has been tested as part of the CPAN Testers
project, supporting the Perl programming language. See
http://wiki.cpantesters.org/ for more information or email
questions to cpan-testers-discuss@perl.org
--
Dear Karen Etheridge,
This is a computer-generated report for MooseX-App-Cmd-0.31
on perl 5.23.1, created by CPAN-Reporter-1.2014.
Thank you for uploading your work to CPAN. Congratulations!
All tests were successful.
Sections of this report:
* Tester comments
* Program output
* Prerequisites
* Environment and other context
------------------------------
TESTER COMMENTS
------------------------------
Additional comments from tester:
this report is from an automated smoke testing program
and was not reviewed by a human for accuracy
------------------------------
PROGRAM OUTPUT
------------------------------
Output from '/usr/bin/make test':
PERL_DL_NONLAZY=1 "/home/jmaslak/perl5/perlbrew/perls/perl-5.23.1-ld/bin/perl5.23.1" "-MExtUtils::Command::MM" "-MTest::Harness" "-e" "undef *Test::Harness::Switches; test_harness(0, 'blib/lib', 'blib/arch')" t/*.t
#
# Versions for all modules listed in MYMETA.json (including optional ones):
#
# === Configure Requires ===
#
# Module Want Have
# ------------------- ---- -------
# ExtUtils::MakeMaker any 7.04_01
#
# === Build Requires ===
#
# Module Want Have
# ------------------- ---- -------
# ExtUtils::MakeMaker any 7.04_01
#
# === Test Requires ===
#
# Module Want Have
# ------------------- ---- --------
# Data::Dumper any 2.158
# ExtUtils::MakeMaker any 7.04_01
# File::Spec any 3.56
# Test::More 0.88 1.001014
# Test::Output any 1.03
# YAML any 1.15
# base any 2.22
# lib any 0.63
# strict any 1.09
# warnings any 1.33
#
# === Test Recommends ===
#
# Module Want Have
# ---------- -------- --------
# CPAN::Meta 2.120900 2.150005
#
# === Test Suggests ===
#
# Module Want Have
# ---------------------- ---- ----
# MooseX::ConfigFromFile any 0.13
#
# === Runtime Requires ===
#
# Module Want Have
# ------------------------- ----- ------
# App::Cmd 0.321 0.327
# App::Cmd::Command any 0.327
# English any 1.09
# File::Basename any 2.85
# Getopt::Long::Descriptive 0.091 0.099
# Moose any 2.1405
# Moose::Object any 2.1405
# MooseX::Getopt any 0.68
# namespace::autoclean any 0.26
#
# === Other Modules ===
#
# Module Have
# ------------- ----
# Pod::Coverage 0.23
#
t/00-report-prereqs.t ... ok
t/basic.t ............... ok
t/build_emulates_new.t .. ok
t/configfile.t .......... ok
t/moose.t ............... ok
t/zzz-check-breaks.t .... ok
All tests successful.
Files=6, Tests=21, 3 wallclock secs ( 0.04 usr 0.03 sys + 2.35 cusr 0.32 csys = 2.74 CPU)
Result: PASS
------------------------------
PREREQUISITES
------------------------------
Prerequisite modules loaded:
requires:
Module Need Have
------------------------- -------- --------
App::Cmd 0.321 0.327
App::Cmd::Command 0 0.327
English 0 1.09
File::Basename 0 2.85
Getopt::Long::Descriptive 0.091 0.099
Moose 0 2.1405
Moose::Object 0 2.1405
MooseX::Getopt 0 0.68
namespace::autoclean 0 0.26
perl 5.008005 5.023001
build_requires:
Module Need Have
------------------------- -------- --------
base 0 2.22
Data::Dumper 0 2.158
ExtUtils::MakeMaker 0 7.04_01
File::Spec 0 3.56
lib 0 0.63
strict 0 1.09
Test::More 0.88 1.001014
Test::Output 0 1.03
warnings 0 1.33
YAML 0 1.15
configure_requires:
Module Need Have
------------------------- -------- --------
ExtUtils::MakeMaker 0 7.04_01
perl 5.006 5.023001
opt_build_requires:
Module Need Have
------------------------- -------- --------
CPAN::Meta 2.120900 2.150005
------------------------------
ENVIRONMENT AND OTHER CONTEXT
------------------------------
Environment variables:
AUTOMATED_TESTING = 1
LANG = en_US.UTF-8
NONINTERACTIVE_TESTING = 1
PATH = /home/jmaslak/perl5/perlbrew/bin:/home/jmaslak/perl5/perlbrew/perls/perl-5.23.1-ld/bin:/home/jmaslak/perltest/bin:/home/jmaslak/perltest/bin:/home/jmaslak/perltest/bin:/home/jmaslak/perl5/perlbrew/bin:/home/jmaslak/perl5/perlbrew/perls/perl-5.23.1/bin:/usr/local/bin:/usr/bin:/usr/local/sbin:/usr/sbin:/usr/sbin:~/perltest/bin
PERL5LIB = /home/jmaslak/.cpan/build/LCFG-Build-VCS-0.2.1-D25en2/blib/arch:/home/jmaslak/.cpan/build/LCFG-Build-VCS-0.2.1-D25en2/blib/lib:/home/jmaslak/.cpan/build/LCFG-Build-PkgSpec-0.1.0-pcZgnf/blib/arch:/home/jmaslak/.cpan/build/LCFG-Build-PkgSpec-0.1.0-pcZgnf/blib/lib:/home/jmaslak/.cpan/build/Data-Structure-Util-0.16-VmMVMq/blib/arch:/home/jmaslak/.cpan/build/Data-Structure-Util-0.16-VmMVMq/blib/lib:/home/jmaslak/.cpan/build/YAML-Syck-1.29-ka6zPM/blib/arch:/home/jmaslak/.cpan/build/YAML-Syck-1.29-ka6zPM/blib/lib:/home/jmaslak/.cpan/build/Devel-Leak-0.03-WMjSZ_/blib/arch:/home/jmaslak/.cpan/build/Devel-Leak-0.03-WMjSZ_/blib/lib
PERL5OPT =
PERL5_CPANPLUS_IS_RUNNING = 26112
PERL5_CPAN_IS_RUNNING = 26112
PERL5_CPAN_IS_RUNNING_IN_RECURSION = 8393,26112
PERLBREW_BASHRC_VERSION = 0.73
PERLBREW_HOME = /home/jmaslak/.perlbrew
PERLBREW_LIB =
PERLBREW_MANPATH = /home/jmaslak/perl5/perlbrew/perls/perl-5.23.1-ld/man
PERLBREW_PATH = /home/jmaslak/perl5/perlbrew/bin:/home/jmaslak/perl5/perlbrew/perls/perl-5.23.1-ld/bin
PERLBREW_PERL = perl-5.23.1-ld
PERLBREW_ROOT = /home/jmaslak/perl5/perlbrew
PERLBREW_VERSION = 0.73
PERL_CR_SMOKER_CURRENT = LCFG-Build-Tools-0.4.5
PERL_EXTUTILS_AUTOINSTALL = --defaultdeps
PERL_LOCAL_LIB_ROOT =
PERL_MM_USE_DEFAULT = 1
SHELL = /bin/bash
TERM = screen
Perl special variables (and OS-specific diagnostics, for MSWin32):
$^X = /home/jmaslak/perl5/perlbrew/perls/perl-5.23.1-ld/bin/perl5.23.1
$UID/$EUID = 1000 / 1000
$GID = 1000 10 1000
$EGID = 1000 10 1000
Perl module toolchain versions installed:
Module Have
------------------- --------
CPAN 2.11
CPAN::Meta 2.150005
Cwd 3.56
ExtUtils::CBuilder 0.280223
ExtUtils::Command 1.20
ExtUtils::Install 2.04
ExtUtils::MakeMaker 7.04_01
ExtUtils::Manifest 1.70
ExtUtils::ParseXS 3.28
File::Spec 3.56
JSON 2.90
JSON::PP 2.27300
Module::Build 0.4214
Module::Signature n/a
Parse::CPAN::Meta 1.4417
Test::Harness 3.35
Test::More 1.001014
YAML 1.15
YAML::Syck 1.29
version 0.9909
--
Summary of my perl5 (revision 5 version 23 subversion 1) configuration:
Platform:
osname=linux, osvers=4.1.0-x86_64-linode59, archname=x86_64-linux-ld
uname='linux cpantest.antelope.net 4.1.0-x86_64-linode59 #1 smp mon jun 22 10:39:23 edt 2015 x86_64 x86_64 x86_64 gnulinux '
config_args='-de -Dprefix=/home/jmaslak/perl5/perlbrew/perls/perl-5.23.1-ld -Duselongdouble -Dusedevel -Aeval:scriptdir=/home/jmaslak/perl5/perlbrew/perls/perl-5.23.1-ld/bin'
hint=recommended, useposix=true, d_sigaction=define
useithreads=undef, usemultiplicity=undef
use64bitint=define, use64bitall=define, uselongdouble=define
usemymalloc=n, bincompat5005=undef
Compiler:
cc='cc', ccflags ='-fwrapv -fno-strict-aliasing -pipe -fstack-protector-strong -I/usr/local/include -D_LARGEFILE_SOURCE -D_FILE_OFFSET_BITS=64 -D_FORTIFY_SOURCE=2',
optimize='-O2',
cppflags='-fwrapv -fno-strict-aliasing -pipe -fstack-protector-strong -I/usr/local/include'
ccversion='', gccversion='4.8.3 20140911 (Red Hat 4.8.3-9)', gccosandvers=''
intsize=4, longsize=8, ptrsize=8, doublesize=8, byteorder=12345678, doublekind=3
d_longlong=define, longlongsize=8, d_longdbl=define, longdblsize=16, longdblkind=3
ivtype='long', ivsize=8, nvtype='long double', nvsize=16, Off_t='off_t', lseeksize=8
alignbytes=16, prototype=define
Linker and Libraries:
ld='cc', ldflags =' -fstack-protector-strong -L/usr/local/lib'
libpth=/usr/local/lib /usr/lib /lib/../lib64 /usr/lib/../lib64 /lib /lib64 /usr/lib64 /usr/local/lib64
libs=-lpthread -lnsl -ldl -lm -lcrypt -lutil -lc
perllibs=-lpthread -lnsl -ldl -lm -lcrypt -lutil -lc
libc=libc-2.17.so, so=so, useshrplib=false, libperl=libperl.a
gnulibc_version='2.17'
Dynamic Linking:
dlsrc=dl_dlopen.xs, dlext=so, d_dlsymun=undef, ccdlflags='-Wl,-E'
cccdlflags='-fPIC', lddlflags='-shared -O2 -L/usr/local/lib -fstack-protector-strong'
Characteristics of this binary (from libperl):
Compile-time options: HAS_TIMES PERLIO_LAYERS PERL_COPY_ON_WRITE
PERL_DONT_CREATE_GVSV
PERL_HASH_FUNC_ONE_AT_A_TIME_HARD PERL_MALLOC_WRAP
PERL_PRESERVE_IVUV PERL_USE_DEVEL USE_64_BIT_ALL
USE_64_BIT_INT USE_LARGE_FILES USE_LOCALE
USE_LOCALE_COLLATE USE_LOCALE_CTYPE
USE_LOCALE_NUMERIC USE_LOCALE_TIME USE_LONG_DOUBLE
USE_PERLIO USE_PERL_ATOF
Locally applied patches:
Devel::PatchPerl 1.38
Built under linux
Compiled at Jul 26 2015 04:54:15
%ENV:
PERL5LIB="/home/jmaslak/.cpan/build/LCFG-Build-VCS-0.2.1-D25en2/blib/arch:/home/jmaslak/.cpan/build/LCFG-Build-VCS-0.2.1-D25en2/blib/lib:/home/jmaslak/.cpan/build/LCFG-Build-PkgSpec-0.1.0-pcZgnf/blib/arch:/home/jmaslak/.cpan/build/LCFG-Build-PkgSpec-0.1.0-pcZgnf/blib/lib:/home/jmaslak/.cpan/build/Data-Structure-Util-0.16-VmMVMq/blib/arch:/home/jmaslak/.cpan/build/Data-Structure-Util-0.16-VmMVMq/blib/lib:/home/jmaslak/.cpan/build/YAML-Syck-1.29-ka6zPM/blib/arch:/home/jmaslak/.cpan/build/YAML-Syck-1.29-ka6zPM/blib/lib:/home/jmaslak/.cpan/build/Devel-Leak-0.03-WMjSZ_/blib/arch:/home/jmaslak/.cpan/build/Devel-Leak-0.03-WMjSZ_/blib/lib"
PERL5OPT=""
PERL5_CPANPLUS_IS_RUNNING="26112"
PERL5_CPAN_IS_RUNNING="26112"
PERL5_CPAN_IS_RUNNING_IN_RECURSION="8393,26112"
PERLBREW_BASHRC_VERSION="0.73"
PERLBREW_HOME="/home/jmaslak/.perlbrew"
PERLBREW_LIB=""
PERLBREW_MANPATH="/home/jmaslak/perl5/perlbrew/perls/perl-5.23.1-ld/man"
PERLBREW_PATH="/home/jmaslak/perl5/perlbrew/bin:/home/jmaslak/perl5/perlbrew/perls/perl-5.23.1-ld/bin"
PERLBREW_PERL="perl-5.23.1-ld"
PERLBREW_ROOT="/home/jmaslak/perl5/perlbrew"
PERLBREW_VERSION="0.73"
PERL_CR_SMOKER_CURRENT="LCFG-Build-Tools-0.4.5"
PERL_EXTUTILS_AUTOINSTALL="--defaultdeps"
PERL_LOCAL_LIB_ROOT=""
PERL_MM_USE_DEFAULT="1"
@INC:
/home/jmaslak/.cpan/build/LCFG-Build-VCS-0.2.1-D25en2/blib/arch
/home/jmaslak/.cpan/build/LCFG-Build-VCS-0.2.1-D25en2/blib/lib
/home/jmaslak/.cpan/build/LCFG-Build-PkgSpec-0.1.0-pcZgnf/blib/arch
/home/jmaslak/.cpan/build/LCFG-Build-PkgSpec-0.1.0-pcZgnf/blib/lib
/home/jmaslak/.cpan/build/Data-Structure-Util-0.16-VmMVMq/blib/arch
/home/jmaslak/.cpan/build/Data-Structure-Util-0.16-VmMVMq/blib/lib
/home/jmaslak/.cpan/build/YAML-Syck-1.29-ka6zPM/blib/arch
/home/jmaslak/.cpan/build/YAML-Syck-1.29-ka6zPM/blib/lib
/home/jmaslak/.cpan/build/Devel-Leak-0.03-WMjSZ_/blib/arch
/home/jmaslak/.cpan/build/Devel-Leak-0.03-WMjSZ_/blib/lib
/home/jmaslak/perl5/perlbrew/perls/perl-5.23.1-ld/lib/site_perl/5.23.1/x86_64-linux-ld
/home/jmaslak/perl5/perlbrew/perls/perl-5.23.1-ld/lib/site_perl/5.23.1
/home/jmaslak/perl5/perlbrew/perls/perl-5.23.1-ld/lib/5.23.1/x86_64-linux-ld
/home/jmaslak/perl5/perlbrew/perls/perl-5.23.1-ld/lib/5.23.1
.