Net-DNS-Resolver-Unbound v1.31_03 Perl 5 v5.16.3 amd64-freebsd-thread-multi

Status
Pass
From
Slaven Rezić
Dist
Net-DNS-Resolver-Unbound v1.31_03
Platform
Perl 5 v5.16.3 amd64-freebsd-thread-multi
Date
2025-02-01 20:28:14
ID
0fdc0a5c-e0db-11ef-9b13-16e46d8775ea
This distribution has been tested as part of the CPAN Testers
project, supporting the Perl programming language.  See
http://wiki.cpantesters.org/ for more information or email
questions to cpan-testers-discuss@perl.org


--
Dear Dick Franks,

This is a computer-generated report for Net-DNS-Resolver-Unbound-1.31_03
on perl 5.16.3, created by CPAN-Reporter-1.2019.

Thank you for uploading your work to CPAN.  Congratulations!
All tests were successful.

Sections of this report:

    * Tester comments
    * Program output
    * Prerequisites
    * Environment and other context

------------------------------
TESTER COMMENTS
------------------------------

Additional comments from tester:

none provided

------------------------------
PROGRAM OUTPUT
------------------------------

Output from '/usr/bin/make test':

"/usr/perl5.16.3t/bin/perl" -MExtUtils::Command::MM -e 'cp_nonempty' -- Unbound.bs blib/arch/auto/Net/DNS/Resolver/Unbound/Unbound.bs 644
PERL_DL_NONLAZY=1 HARNESS_OPTIONS=j1:c "/usr/perl5.16.3t/bin/perl" "-It" "-MExtUtils::Command::MM" "-MTest::Harness" "-e" "undef *Test::Harness::Switches; test_harness(0, 'blib/lib', 'blib/arch')" t/*.t
t/00-install.t ....... ok
# 
# SHA1 digest
# 3c3ab286275bf2f358941e14cd8e88551ff81ca0	Net::DNS.pm
# 536e4218aeea9c0a28960e3f12a0625aa781657d	Net::DNS::Domain.pm
# 91817363833f6bd936ac38997d553300950b2382	Net::DNS::DomainName.pm
# 3fc184b0d99d02f1f50e172509155dc9b0c42f51	Net::DNS::Extlang.pm
# 8eb0b7848e6070047d637955ee263c6081d2bba3	Net::DNS::Header.pm
# cba2e2f5de01cf4175bcdf777ed0ddf2e17ef1d4	Net::DNS::Packet.pm
# d4a7734b69a1238aca565ee2d0dccb3baf537cc6	Net::DNS::Parameters.pm
# ea8a7ae0dbb9d1803dc17976e5d23dfba22f0f5e	Net::DNS::Question.pm
# 75402fba250f0032a1c2ea03d2fcf5530ea0586b	Net::DNS::RR.pm
# d690884c22f03eede9ab08e49aed190f47219038	Net::DNS::Resolver.pm
# 42d5ef0c13906a5cead9040adc6c6f91b01143f4	Net::DNS::Resolver::Base.pm
# 3ce80407fef7cac79415c83edf0ba20e098fb6fb	Net::DNS::Resolver::UNIX.pm
# 6a3edb110e463c778787132960a2cdc309706134	Net::DNS::Resolver::Unbound.pm
# 822c7a287e9efa30ce141ef73126f3715304b2b2	Net::DNS::Update.pm
# b52dad3ebcd9023cf439d8ed432962b8fc09f476	base.pm
t/00-integrity.t ..... ok
# 
# These tests were run using:
# 	Net::DNS                        1.49
# 	Net::DNS::Resolver::Unbound     1.31_03
# 	Net::DNS::Resolver::libunbound  1.5.3
# 	Carp                            1.50
# 	DynaLoader                      1.14
# 	ExtUtils::MakeMaker             7.70
# 	File::Find                      1.20
# 	File::Spec                      3.75
# 	IO::File                        1.55
# 	Test::More                      1.302209
# 	base                            2.18
# 	constant                        1.33
# 	integer                         1.00
# 	strict                          1.07
# 	warnings                        1.13
t/00-load.t .......... ok
t/00-pod.t ........... ok
t/10-context.t ....... ok
t/20-synchronous.t ... ok
t/25-decode.t ........ ok
t/30-asynchronous.t .. ok
t/35-bgread.t ........ ok
All tests successful.
Files=9, Tests=87,  3 wallclock secs ( 0.02 usr  0.03 sys +  0.95 cusr  0.12 csys =  1.12 CPU)
Result: PASS

------------------------------
PREREQUISITES
------------------------------

Prerequisite modules loaded:

requires:

    Module              Need     Have    
    ------------------- -------- --------
    base                2.13     2.18    
    Carp                1.1      1.50    
    constant            1.17     1.33    
    DynaLoader          1.09     1.14    
    integer             1        1.00    
    Net::DNS            1.19     1.49    
    perl                5.008009 5.016003
    strict              1.03     1.07    
    warnings            1.0501   1.13    

build_requires:

    Module              Need     Have    
    ------------------- -------- --------
    ExtUtils::MakeMaker 0        7.70    
    File::Find          1.13     1.20    
    File::Spec          3.29     3.75    
    IO::File            1.14     1.55    
    Test::More          0.8      1.302209

configure_requires:

    Module              Need     Have    
    ------------------- -------- --------
    Config              0        0       
    ExtUtils::MakeMaker 6.48     7.70    


------------------------------
ENVIRONMENT AND OTHER CONTEXT
------------------------------

Environment variables:

    LC_ALL = de_DE.ISO8859-1
    PATH = /usr/local/bin:/usr/bin:/bin:/usr/local/sbin:/usr/sbin:/sbin:/home/cpansand/bin/freebsd9.3:/home/cpansand/bin/sh:/home/cpansand/bin:/usr/games:/home/cpansand/devel:/usr/home/eserte/src/srezic-misc/scripts
    PERL5LIB = /home/cpansand/.cpan/build/2025020120/Net-DNS-1.49-0/blib/arch:/home/cpansand/.cpan/build/2025020120/Net-DNS-1.49-0/blib/lib
    PERL5OPT = 
    PERL5_CPANPLUS_IS_RUNNING = 20135
    PERL5_CPAN_IS_RUNNING = 20135
    PERL5_CPAN_IS_RUNNING_IN_RECURSION = 17408,20135
    PERLDOC = -MPod::Perldoc::ToTextOverstrike
    PERL_BATCH = yes
    PERL_CANARY_STABILITY_NOPROMPT = 1
    PERL_CPAN_REPORTER_CONFIG = /var/tmp/cpansmoker-1023/2025020120/cpanreporter_000_config.ini
    PERL_EXTUTILS_AUTOINSTALL = --defaultdeps
    PERL_USE_UNSAFE_INC = 1
    SHELL = /usr/local/bin/zsh
    TERM = screen
    TMPDIR = /var/tmp/cpansmoker-1023/2025020120

Perl special variables (and OS-specific diagnostics, for MSWin32):

    $^X = /usr/perl5.16.3t/bin/perl
    $UID/$EUID = 1023 / 1023
    $GID = 1023 1023
    $EGID = 1023 1023

Perl module toolchain versions installed:

    Module              Have    
    ------------------- --------
    CPAN                2.36    
    CPAN::Meta          2.150010
    Cwd                 3.75    
    ExtUtils::CBuilder  0.280236
    ExtUtils::Command   7.70    
    ExtUtils::Install   2.22    
    ExtUtils::MakeMaker 7.70    
    ExtUtils::Manifest  1.75    
    ExtUtils::ParseXS   3.51    
    File::Spec          3.75    
    JSON                4.10    
    JSON::PP            4.16    
    Module::Build       0.4234  
    Module::Signature   0.89    
    Parse::CPAN::Meta   2.150010
    Test2               1.302209
    Test::Harness       3.50    
    Test::More          1.302209
    YAML                1.30    
    YAML::Syck          1.34    
    version             0.9932  


--

Summary of my perl5 (revision 5 version 16 subversion 3) configuration:
   
  Platform:
    osname=freebsd, osvers=9.2-release-p4, archname=amd64-freebsd-thread-multi
    uname='freebsd cvrsnica-freebsd-92 9.2-release-p4 freebsd 9.2-release-p4 #0: tue apr 8 18:08:22 utc 2014 root@amd64-builder.daemonology.net:usrobjusrsrcsysgeneric amd64 '
    config_args='-ds -e -Dprefix=/usr/perl5.16.3t -Dusethreads'
    hint=recommended, useposix=true, d_sigaction=define
    useithreads=define, usemultiplicity=define
    useperlio=define, d_sfio=undef, uselargefiles=define, usesocks=undef
    use64bitint=define, use64bitall=define, uselongdouble=undef
    usemymalloc=n, bincompat5005=undef
  Compiler:
    cc='cc', ccflags ='-DHAS_FPSETMASK -DHAS_FLOATINGPOINT_H -fno-strict-aliasing -pipe -fstack-protector -I/usr/local/include',
    optimize='-O',
    cppflags='-DHAS_FPSETMASK -DHAS_FLOATINGPOINT_H -fno-strict-aliasing -pipe -fstack-protector -I/usr/local/include'
    ccversion='', gccversion='4.2.1 20070831 patched [FreeBSD]', gccosandvers=''
    intsize=4, longsize=8, ptrsize=8, doublesize=8, byteorder=12345678
    d_longlong=define, longlongsize=8, d_longdbl=define, longdblsize=16
    ivtype='long', ivsize=8, nvtype='double', nvsize=8, Off_t='off_t', lseeksize=8
    alignbytes=8, prototype=define
  Linker and Libraries:
    ld='cc', ldflags ='-pthread -Wl,-E  -fstack-protector -L/usr/local/lib'
    libpth=/usr/lib /usr/local/lib
    libs=-lgdbm -lm -lcrypt
    perllibs=-lm -lcrypt
    libc=, so=so, useshrplib=false, libperl=libperl.a
    gnulibc_version=''
  Dynamic Linking:
    dlsrc=dl_dlopen.xs, dlext=so, d_dlsymun=undef, ccdlflags=' '
    cccdlflags='-DPIC -fPIC', lddlflags='-shared  -L/usr/local/lib -fstack-protector'


Characteristics of this binary (from libperl): 
  Compile-time options: HAS_TIMES MULTIPLICITY PERLIO_LAYERS
                        PERL_DONT_CREATE_GVSV PERL_IMPLICIT_CONTEXT
                        PERL_MALLOC_WRAP PERL_PRESERVE_IVUV USE_64_BIT_ALL
                        USE_64_BIT_INT USE_ITHREADS USE_LARGE_FILES
                        USE_LOCALE USE_LOCALE_COLLATE USE_LOCALE_CTYPE
                        USE_LOCALE_NUMERIC USE_PERLIO USE_PERL_ATOF
                        USE_REENTRANT_API
  Built under freebsd
  Compiled at May 16 2014 07:49:48
  %ENV:
    PERL5LIB="/home/cpansand/.cpan/build/2025020120/Net-DNS-1.49-0/blib/arch:/home/cpansand/.cpan/build/2025020120/Net-DNS-1.49-0/blib/lib"
    PERL5OPT=""
    PERL5_CPANPLUS_IS_RUNNING="20135"
    PERL5_CPAN_IS_RUNNING="20135"
    PERL5_CPAN_IS_RUNNING_IN_RECURSION="17408,20135"
    PERLDOC="-MPod::Perldoc::ToTextOverstrike"
    PERL_BATCH="yes"
    PERL_CANARY_STABILITY_NOPROMPT="1"
    PERL_CPAN_REPORTER_CONFIG="/var/tmp/cpansmoker-1023/2025020120/cpanreporter_000_config.ini"
    PERL_EXTUTILS_AUTOINSTALL="--defaultdeps"
    PERL_USE_UNSAFE_INC="1"
  @INC:
    /home/cpansand/.cpan/build/2025020120/Net-DNS-1.49-0/blib/arch
    /home/cpansand/.cpan/build/2025020120/Net-DNS-1.49-0/blib/lib
    /usr/perl5.16.3t/lib/site_perl/5.16.3/amd64-freebsd-thread-multi
    /usr/perl5.16.3t/lib/site_perl/5.16.3
    /usr/perl5.16.3t/lib/5.16.3/amd64-freebsd-thread-multi
    /usr/perl5.16.3t/lib/5.16.3
    .