Back
From: metabase:user:00e8548a-0e72-11e3-8ee3-df0a9c418065
Subject: PASS MooseX-App-Cmd-0.27 v5.18.2 GNU/Linux
Date: 2014-04-04T01:18:46Z
This distribution has been tested as part of the CPAN Testers
project, supporting the Perl programming language. See
http://wiki.cpantesters.org/ for more information or email
questions to cpan-testers-discuss@perl.org
--
Dear Mark Gardner,
This is a computer-generated report for MooseX-App-Cmd-0.27
on perl 5.18.2, created by CPAN-Reporter-1.2011.
Thank you for uploading your work to CPAN. Congratulations!
All tests were successful.
Sections of this report:
* Tester comments
* Program output
* Prerequisites
* Environment and other context
------------------------------
TESTER COMMENTS
------------------------------
Additional comments from tester:
this report is from an automated smoke testing program
and was not reviewed by a human for accuracy
------------------------------
PROGRAM OUTPUT
------------------------------
Output from '/usr/bin/make test':
PERL_DL_NONLAZY=1 /root/perl5/perlbrew/perls/perl-5.18.2/bin/perl "-MExtUtils::Command::MM" "-MTest::Harness" "-e" "undef *Test::Harness::Switches; test_harness(0, 'blib/lib', 'blib/arch')" t/*.t
t/00-compile.t .......................... ok
# Testing with Perl 5.018002, /root/perl5/perlbrew/perls/perl-5.18.2/bin/perl
# Any::Moose version is 0.21
# App::Cmd version is 0.323
# App::Cmd::Command version is 0.323
# Carp version is 1.3301
# Data::Dumper version is 2.151
# English version is 1.06_01
# ExtUtils::MakeMaker version is 6.94
# File::Basename version is 2.84
# File::Spec version is 3.40
# Getopt::Long::Descriptive version is 0.097
# IO::Handle version is 1.34
# IPC::Open3 version is 1.13
# MouseX::Getopt version is 0.35
# Scalar::Util version is 1.38
# Test::More version is 1.001003
# Test::Output version is 1.03
# Test::use::ok version is 0.11
# YAML version is 0.90
# base version is 2.18
# lib version is 0.63
# namespace::clean version is 0.25
# strict version is 1.07
# warnings version is 1.18
t/000-report-versions.t ................. ok
t/author-critic.t ....................... skipped: these tests are for testing by the author
t/author-test-eol.t ..................... skipped: these tests are for testing by the author
t/basic.t ............................... ok
t/build_emulates_new.t .................. ok
t/configfile.t .......................... ok
t/moose.t ............................... ok
t/mouse.t ............................... ok
t/release-changes_has_content.t ......... skipped: these tests are for release candidate testing
t/release-cpan-changes.t ................ skipped: these tests are for release candidate testing
t/release-dist-manifest.t ............... skipped: these tests are for release candidate testing
t/release-distmeta.t .................... skipped: these tests are for release candidate testing
t/release-kwalitee.t .................... skipped: these tests are for release candidate testing
t/release-localbrew-perl-latest-TEST.t .. skipped: these tests are for release candidate testing
t/release-meta-json.t ................... skipped: these tests are for release candidate testing
t/release-minimum-version.t ............. skipped: these tests are for release candidate testing
t/release-mojibake.t .................... skipped: these tests are for release candidate testing
t/release-no-tabs.t ..................... skipped: these tests are for release candidate testing
t/release-pod-coverage.t ................ skipped: these tests are for release candidate testing
t/release-pod-linkcheck.t ............... skipped: these tests are for release candidate testing
t/release-pod-syntax.t .................. skipped: these tests are for release candidate testing
t/release-portability.t ................. skipped: these tests are for release candidate testing
t/release-synopsis.t .................... skipped: these tests are for release candidate testing
t/release-test-version.t ................ skipped: these tests are for release candidate testing
t/release-unused-vars.t ................. skipped: these tests are for release candidate testing
All tests successful.
Files=26, Tests=47, 2 wallclock secs ( 0.07 usr 0.02 sys + 1.86 cusr 0.16 csys = 2.11 CPU)
Result: PASS
------------------------------
PREREQUISITES
------------------------------
Prerequisite modules loaded:
requires:
Module Need Have
------------------------- ----- --------
Any::Moose 0 0.21
App::Cmd 0.321 0.323
App::Cmd::Command 0 0.323
English 0 1.06_01
File::Basename 0 2.84
Getopt::Long::Descriptive 0.091 0.097
MouseX::Getopt 0 0.35
namespace::clean 0 0.25
Test::use::ok 0 0.11
build_requires:
Module Need Have
------------------------- ----- --------
base 0 2.18
Carp 0 1.3301
Data::Dumper 0 2.151
ExtUtils::MakeMaker 0 6.94
File::Spec 0 3.40
IO::Handle 0 1.34
IPC::Open3 0 1.13
lib 0 0.63
Scalar::Util 0 1.38
strict 0 1.07
Test::More 0.94 1.001003
Test::Output 0 1.03
warnings 0 1.18
YAML 0 0.90
configure_requires:
Module Need Have
------------------------- ----- --------
ExtUtils::MakeMaker 6.30 6.94
------------------------------
ENVIRONMENT AND OTHER CONTEXT
------------------------------
Environment variables:
AUTOMATED_TESTING = 1
LANG = en_US.UTF-8
PATH = /root/perl5/perlbrew/bin:/root/perl5/perlbrew/perls/perl-5.18.2/bin:/usr/kerberos/sbin:/usr/kerberos/bin:/usr/local/sbin:/usr/local/bin:/sbin:/bin:/usr/sbin:/usr/bin:/root/bin
PERL5LIB =
PERL5OPT =
PERL5_CPANPLUS_IS_RUNNING = 29663
PERL5_CPAN_IS_RUNNING = 29663
PERL5_CPAN_IS_RUNNING_IN_RECURSION = 30366,29663
PERLBREW_BASHRC_VERSION = 0.67
PERLBREW_HOME = /root/.perlbrew
PERLBREW_MANPATH = /root/perl5/perlbrew/perls/perl-5.18.2/man
PERLBREW_PATH = /root/perl5/perlbrew/bin:/root/perl5/perlbrew/perls/perl-5.18.2/bin
PERLBREW_PERL = perl-5.18.2
PERLBREW_ROOT = /root/perl5/perlbrew
PERLBREW_VERSION = 0.67
PERL_CR_SMOKER_CURRENT = Task-BeLike-LESPEA-2.005000
PERL_EXTUTILS_AUTOINSTALL = --defaultdeps
PERL_MM_USE_DEFAULT = 1
SHELL = /bin/bash
TERM = linux
Perl special variables (and OS-specific diagnostics, for MSWin32):
$^X = /root/perl5/perlbrew/perls/perl-5.18.2/bin/perl
$UID/$EUID = 0 / 0
$GID = 0 0 1 2 3 4 6 10
$EGID = 0 0 1 2 3 4 6 10
Perl module toolchain versions installed:
Module Have
------------------- --------
CPAN 2.05
CPAN::Meta 2.140640
Cwd 3.40
ExtUtils::CBuilder 0.280210
ExtUtils::Command 1.17
ExtUtils::Install 1.64
ExtUtils::MakeMaker 6.94
ExtUtils::Manifest 1.63
ExtUtils::ParseXS 3.24
File::Spec 3.40
JSON 2.90
JSON::PP 2.27203
Module::Build 0.4205
Module::Signature n/a
Parse::CPAN::Meta 1.4414
Test::Harness 3.30
Test::More 1.001003
YAML 0.90
YAML::Syck 1.27
version 0.9908
--
Summary of my perl5 (revision 5 version 18 subversion 2) configuration:
Platform:
osname=linux, osvers=2.6.18_14.20.2-custom, archname=x86_64-linux
uname='linux mh4500 2.6.18_14.20.2-custom #1 smp mon feb 17 11:07:21 gmt 2014 x86_64 x86_64 x86_64 gnulinux '
config_args='-de -Dprefix=/root/perl5/perlbrew/perls/perl-5.18.2 -Aeval:scriptdir=/root/perl5/perlbrew/perls/perl-5.18.2/bin'
hint=recommended, useposix=true, d_sigaction=define
useithreads=undef, usemultiplicity=undef
useperlio=define, d_sfio=undef, uselargefiles=define, usesocks=undef
use64bitint=define, use64bitall=define, uselongdouble=undef
usemymalloc=n, bincompat5005=undef
Compiler:
cc='cc', ccflags ='-fno-strict-aliasing -pipe -fstack-protector -I/usr/local/include -D_LARGEFILE_SOURCE -D_FILE_OFFSET_BITS=64',
optimize='-O2',
cppflags='-fno-strict-aliasing -pipe -fstack-protector -I/usr/local/include'
ccversion='', gccversion='4.1.2 20080704 (Red Hat 4.1.2-54)', gccosandvers=''
intsize=4, longsize=8, ptrsize=8, doublesize=8, byteorder=12345678
d_longlong=define, longlongsize=8, d_longdbl=define, longdblsize=16
ivtype='long', ivsize=8, nvtype='double', nvsize=8, Off_t='off_t', lseeksize=8
alignbytes=8, prototype=define
Linker and Libraries:
ld='cc', ldflags =' -fstack-protector -L/usr/local/lib'
libpth=/usr/local/lib /lib /usr/lib /lib64 /usr/lib64 /usr/local/lib64
libs=-lnsl -ldl -lm -lcrypt -lutil -lc
perllibs=-lnsl -ldl -lm -lcrypt -lutil -lc
libc=libc-2.5.so, so=so, useshrplib=false, libperl=libperl.a
gnulibc_version='2.5'
Dynamic Linking:
dlsrc=dl_dlopen.xs, dlext=so, d_dlsymun=undef, ccdlflags='-Wl,-E'
cccdlflags='-fPIC', lddlflags='-shared -O2 -L/usr/local/lib -fstack-protector'
Characteristics of this binary (from libperl):
Compile-time options: HAS_TIMES PERLIO_LAYERS PERL_DONT_CREATE_GVSV
PERL_HASH_FUNC_ONE_AT_A_TIME_HARD PERL_MALLOC_WRAP
PERL_PRESERVE_IVUV PERL_SAWAMPERSAND USE_64_BIT_ALL
USE_64_BIT_INT USE_LARGE_FILES USE_LOCALE
USE_LOCALE_COLLATE USE_LOCALE_CTYPE
USE_LOCALE_NUMERIC USE_PERLIO USE_PERL_ATOF
Built under linux
Compiled at Apr 3 2014 09:37:24
%ENV:
PERL5LIB=""
PERL5OPT=""
PERL5_CPANPLUS_IS_RUNNING="29663"
PERL5_CPAN_IS_RUNNING="29663"
PERL5_CPAN_IS_RUNNING_IN_RECURSION="30366,29663"
PERLBREW_BASHRC_VERSION="0.67"
PERLBREW_HOME="/root/.perlbrew"
PERLBREW_MANPATH="/root/perl5/perlbrew/perls/perl-5.18.2/man"
PERLBREW_PATH="/root/perl5/perlbrew/bin:/root/perl5/perlbrew/perls/perl-5.18.2/bin"
PERLBREW_PERL="perl-5.18.2"
PERLBREW_ROOT="/root/perl5/perlbrew"
PERLBREW_VERSION="0.67"
PERL_CR_SMOKER_CURRENT="Task-BeLike-LESPEA-2.005000"
PERL_EXTUTILS_AUTOINSTALL="--defaultdeps"
PERL_MM_USE_DEFAULT="1"
@INC:
/root/perl5/perlbrew/perls/perl-5.18.2/lib/site_perl/5.18.2/x86_64-linux
/root/perl5/perlbrew/perls/perl-5.18.2/lib/site_perl/5.18.2
/root/perl5/perlbrew/perls/perl-5.18.2/lib/5.18.2/x86_64-linux
/root/perl5/perlbrew/perls/perl-5.18.2/lib/5.18.2
.