Report for Test-WWW-Mechanize-Catalyst-0.54

Back
From: metabase:user:fc502086-3162-11e0-be77-a7476c46bbd7
Subject: PASS Test-WWW-Mechanize-Catalyst-0.54 v5.10.1 GNU/Linux
Date: 2011-08-08T10:20:44Z

This distribution has been tested as part of the CPAN Testers
project, supporting the Perl programming language.  See
http://wiki.cpantesters.org/ for more information or email
questions to cpan-testers-discuss@perl.org


--
Dear Tomas Doran,

This is a computer-generated report for Test-WWW-Mechanize-Catalyst-0.54
on perl 5.10.1, created by CPAN-Reporter-1.1902.

Thank you for uploading your work to CPAN.  Congratulations!
All tests were successful.

Sections of this report:

    * Tester comments
    * Program output
    * Prerequisites
    * Environment and other context

------------------------------
TESTER COMMENTS
------------------------------

Additional comments from tester:

none provided

------------------------------
PROGRAM OUTPUT
------------------------------

Output from '/usr/bin/make test':

PERL_DL_NONLAZY=1 /home/j3nnn1/perl5/perlbrew/perls/perl-5.10.1/bin/perl "-MExtUtils::Command::MM" "-e" "test_harness(0, 'inc', 'blib/lib', 'blib/arch')" t/*.t
t/auth-test.t ........... ok
t/cookies.t ............. ok
# 
# ###################################################################
# Starting an external Catalyst HTTP server on port 7357
# To change the port, please set the TWMC_TEST_PORT env variable.
# (The server will be automatically shut-down right after the tests).
# ###################################################################
t/multi_content_type.t .. ok
t/pod.t ................. ok
t/redirect.t ............ ok
t/simple.t .............. ok
t/two_app.t ............. ok
t/useragent.t ........... ok
t/white_label.t ......... ok
All tests successful.
Files=9, Tests=92, 10 wallclock secs ( 0.05 usr  0.04 sys +  9.17 cusr  0.68 csys =  9.94 CPU)
Result: PASS

------------------------------
PREREQUISITES
------------------------------

Prerequisite modules loaded:

requires:

    Module                                   Need  Have   
    ---------------------------------------- ----- -------
    Catalyst                                 5.00  5.80033
    Catalyst::Plugin::Session::State::Cookie 0     0.17   
    Catalyst::Plugin::Session::Store::Dummy  0     0      
    ExtUtils::MakeMaker                      6.42  6.55_02
    LWP                                      5.816 6.02   
    Moose                                    0.67  2.0202 
    namespace::clean                         0.09  0.20   
    Test::Exception                          0     0.31   
    Test::More                               0     0.98   
    Test::WWW::Mechanize                     1.14  1.34   
    WWW::Mechanize                           1.54  1.68   

configure_requires:

    Module                                   Need  Have   
    ---------------------------------------- ----- -------
    ExtUtils::MakeMaker                      6.42  6.55_02


------------------------------
ENVIRONMENT AND OTHER CONTEXT
------------------------------

Environment variables:

    LANG = es_VE.UTF-8
    LC_ALL = 
    LC_COLLATE = C
    LD_LIBRARY_PATH = /usr/lib/oracle/xe/app/oracle/product/10.2.0/server/lib:
    PATH = /home/j3nnn1/perl5/bin:/home/j3nnn1/perl5/perlbrew/bin:/home/j3nnn1/perl5/perlbrew/perls/perl-5.10.1/bin:/usr/lib/oracle/xe/app/oracle/product/10.2.0/server/bin:/bin:/usr/bin:/sbin:/usr/sbin:/usr/bin/site_perl:/usr/lib/perl5/site_perl/bin:/usr/bin/vendor_perl:/usr/bin/core_perl
    PATH_WITHOUT_PERLBREW = /usr/lib/oracle/xe/app/oracle/product/10.2.0/server/bin:/bin:/usr/bin:/sbin:/usr/sbin:/usr/bin/site_perl:/usr/lib/perl5/site_perl/bin:/usr/bin/vendor_perl:/usr/bin/core_perl
    PERL5LIB = /home/j3nnn1/perl5/lib/perl5/x86_64-linux:/home/j3nnn1/perl5/lib/perl5
    PERL5OPT = 
    PERL5_CPANPLUS_IS_RUNNING = 3566
    PERL5_CPAN_IS_RUNNING = 3566
    PERLBREW_PATH = /home/j3nnn1/perl5/perlbrew/bin:/home/j3nnn1/perl5/perlbrew/perls/perl-5.10.1/bin
    PERLBREW_PERL = perl-5.10.1
    PERLBREW_ROOT = /home/j3nnn1/perl5/perlbrew
    PERLBREW_VERSION = 0.15
    PERL_LOCAL_LIB_ROOT = /home/j3nnn1/perl5
    PERL_MB_OPT = --install_base /home/j3nnn1/perl5
    PERL_MM_OPT = INSTALL_BASE=/home/j3nnn1/perl5
    SHELL = /bin/bash
    TERM = xterm

Perl special variables (and OS-specific diagnostics, for MSWin32):

    $^X = /home/j3nnn1/perl5/perlbrew/perls/perl-5.10.1/bin/perl
    $UID/$EUID = 1000 / 1000
    $GID = 100 3 7 10 82 90 91 92 93 95 96 97 99 100 108 150 1000
    $EGID = 100 3 7 10 82 90 91 92 93 95 96 97 99 100 108 150 1000

Perl module toolchain versions installed:

    Module              Have    
    ------------------- --------
    CPAN                1.9402  
    Cwd                 3.30    
    ExtUtils::CBuilder  0.280202
    ExtUtils::Command   1.16    
    ExtUtils::Install   1.54    
    ExtUtils::MakeMaker 6.55_02 
    ExtUtils::Manifest  1.56    
    ExtUtils::ParseXS   2.2206  
    File::Spec          3.30    
    Module::Build       0.3800  
    Module::Signature   n/a     
    Test::Harness       3.17    
    Test::More          0.98    
    YAML                0.72    
    YAML::Syck          n/a     
    version             0.91    


--

Summary of my perl5 (revision 5 version 10 subversion 1) configuration:
   
  Platform:
    osname=linux, osvers=2.6.37-arch, archname=x86_64-linux
    uname='linux diotima 2.6.37-arch #1 smp preempt sat jan 29 20:00:33 cet 2011 x86_64 intel(r) pentium(r) dual cpu t3200 @ 2.00ghz genuineintel gnulinux '
    config_args='-de -Dprefix=/home/j3nnn1/perl5/perlbrew/perls/perl-5.10.1'
    hint=recommended, useposix=true, d_sigaction=define
    useithreads=undef, usemultiplicity=undef
    useperlio=define, d_sfio=undef, uselargefiles=define, usesocks=undef
    use64bitint=define, use64bitall=define, uselongdouble=undef
    usemymalloc=n, bincompat5005=undef
  Compiler:
    cc='cc', ccflags ='-fno-strict-aliasing -pipe -fstack-protector -I/usr/local/include -D_LARGEFILE_SOURCE -D_FILE_OFFSET_BITS=64',
    optimize='-O2',
    cppflags='-fno-strict-aliasing -pipe -fstack-protector -I/usr/local/include'
    ccversion='', gccversion='4.5.2 20110127 (prerelease)', gccosandvers=''
    intsize=4, longsize=8, ptrsize=8, doublesize=8, byteorder=12345678
    d_longlong=define, longlongsize=8, d_longdbl=define, longdblsize=16
    ivtype='long', ivsize=8, nvtype='double', nvsize=8, Off_t='off_t', lseeksize=8
    alignbytes=8, prototype=define
  Linker and Libraries:
    ld='cc', ldflags =' -fstack-protector -L/usr/local/lib'
    libpth=/usr/local/lib /lib /usr/lib
    libs=-lnsl -lgdbm -ldb -ldl -lm -lcrypt -lutil -lc -lgdbm_compat
    perllibs=-lnsl -ldl -lm -lcrypt -lutil -lc
    libc=/lib/libc-2.13.so, so=so, useshrplib=false, libperl=libperl.a
    gnulibc_version='2.13'
  Dynamic Linking:
    dlsrc=dl_dlopen.xs, dlext=so, d_dlsymun=undef, ccdlflags='-Wl,-E'
    cccdlflags='-fPIC', lddlflags='-shared -O2 -L/usr/local/lib -fstack-protector'


Characteristics of this binary (from libperl): 
  Compile-time options: PERL_DONT_CREATE_GVSV PERL_MALLOC_WRAP USE_64_BIT_ALL
                        USE_64_BIT_INT USE_LARGE_FILES USE_PERLIO
  Built under linux
  Compiled at Feb  5 2011 01:25:54
  %ENV:
    PERL5LIB="/home/j3nnn1/perl5/lib/perl5/x86_64-linux:/home/j3nnn1/perl5/lib/perl5"
    PERL5OPT=""
    PERL5_CPANPLUS_IS_RUNNING="3566"
    PERL5_CPAN_IS_RUNNING="3566"
    PERLBREW_PATH="/home/j3nnn1/perl5/perlbrew/bin:/home/j3nnn1/perl5/perlbrew/perls/perl-5.10.1/bin"
    PERLBREW_PERL="perl-5.10.1"
    PERLBREW_ROOT="/home/j3nnn1/perl5/perlbrew"
    PERLBREW_VERSION="0.15"
    PERL_LOCAL_LIB_ROOT="/home/j3nnn1/perl5"
    PERL_MB_OPT="--install_base /home/j3nnn1/perl5"
    PERL_MM_OPT="INSTALL_BASE=/home/j3nnn1/perl5"
  @INC:
    /home/j3nnn1/perl5/lib/perl5/x86_64-linux
    /home/j3nnn1/perl5/lib/perl5/x86_64-linux
    /home/j3nnn1/perl5/lib/perl5
    /home/j3nnn1/perl5/perlbrew/perls/perl-5.10.1/lib/5.10.1/x86_64-linux
    /home/j3nnn1/perl5/perlbrew/perls/perl-5.10.1/lib/5.10.1
    /home/j3nnn1/perl5/perlbrew/perls/perl-5.10.1/lib/site_perl/5.10.1/x86_64-linux
    /home/j3nnn1/perl5/perlbrew/perls/perl-5.10.1/lib/site_perl/5.10.1
    .