Text-Tradition-Directory v1.3 Perl 5 v5.27.9 x86_64-linux

Status
Pass
From
Slaven Rezić (SREZIC)
Dist
Text-Tradition-Directory v1.3
Platform
Perl 5 v5.27.9 x86_64-linux
Date
2018-02-21T13:49:46
ID
139c6a36-170e-11e8-b3ae-e4b3a8b2a957
This distribution has been tested as part of the CPAN Testers
project, supporting the Perl programming language.  See
http://wiki.cpantesters.org/ for more information or email
questions to cpan-testers-discuss@perl.org


--
Dear Tara Andrews,

This is a computer-generated report for Text-Tradition-Directory-1.3
on perl 5.27.9, created by CPAN-Reporter-1.2018.

Thank you for uploading your work to CPAN.  Congratulations!
All tests were successful.

Sections of this report:

    * Tester comments
    * Program output
    * Prerequisites
    * Environment and other context

------------------------------
TESTER COMMENTS
------------------------------

Additional comments from tester:

none provided

------------------------------
PROGRAM OUTPUT
------------------------------

Output from '/usr/bin/make test':

PERL_DL_NONLAZY=1 "/opt/perl-5.27.9/bin/perl5.27.9" "-MExtUtils::Command::MM" "-MTest::Harness" "-e" "undef *Test::Harness::Switches; test_harness(0, 'inc', 'blib/lib', 'blib/arch')" t/*.t
t/00dependencies.t ................ ok
t/02pod.t ......................... ok
t/03podcoverage.t ................. skipped: set TEST_POD to enable this test
t/load-save-speed.t ............... skipped: Skipping performance tests under prove/make, run manually to test performance improvements
t/mysql_utf8.t .................... skipped: Please set TT_MYSQL_TEST to an appropriate db to run this test
Class::MOP::load_class is deprecated at /opt/perl-5.27.9/lib/site_perl/5.27.9/x86_64-linux/Class/MOP.pm line 69.
	Class::MOP::load_class("Authen::Passphrase::SaltedDigest") called at /opt/perl-5.27.9/lib/site_perl/5.27.9/KiokuX/User/Util.pm line 35
	KiokuX::User::Util::crypt_password("UserPass") called at /home/cpansand/.cpan/build/2018022112/Text-Tradition-Directory-1.3-0/blib/lib/Text/Tradition/Directory.pm line 455
	Text::Tradition::Directory::add_user(Text::Tradition::Directory=HASH(0x5623a141c588), HASH(0x5623a2f2a7e8)) called at t/text_tradition_directory.t line 40
t/text_tradition_directory.t ...... ok
Class::MOP::load_class is deprecated at /opt/perl-5.27.9/lib/site_perl/5.27.9/x86_64-linux/Class/MOP.pm line 69, <DATA> line 41.
	Class::MOP::load_class("Authen::Passphrase::SaltedDigest") called at /opt/perl-5.27.9/lib/site_perl/5.27.9/KiokuX/User/Util.pm line 35
	KiokuX::User::Util::crypt_password("bloggspass") called at /home/cpansand/.cpan/build/2018022112/Text-Tradition-Directory-1.3-0/blib/lib/Text/Tradition/Directory.pm line 455
	Text::Tradition::Directory::add_user(Text::Tradition::Directory=HASH(0x56481885b940), HASH(0x56481a61b078)) called at t/text_tradition_user.t line 35
t/text_tradition_user.t ........... ok
Class::MOP::load_class is deprecated at /opt/perl-5.27.9/lib/site_perl/5.27.9/x86_64-linux/Class/MOP.pm line 69, <DATA> line 41.
	Class::MOP::load_class("Authen::Passphrase::SaltedDigest") called at /opt/perl-5.27.9/lib/site_perl/5.27.9/KiokuX/User/Util.pm line 35
	KiokuX::User::Util::crypt_password("bloggspass") called at /home/cpansand/.cpan/build/2018022112/Text-Tradition-Directory-1.3-0/blib/lib/Text/Tradition/Directory.pm line 455
	Text::Tradition::Directory::add_user(Text::Tradition::Directory=HASH(0x5592f2a6f1d0), HASH(0x5592f2a58bf0)) called at t/text_tradition_user_collapse.t line 29
t/text_tradition_user_collapse.t .. ok
t/userrestore.t ................... ok
All tests successful.
Files=9, Tests=101, 10 wallclock secs ( 0.01 usr  0.04 sys +  7.72 cusr  0.56 csys =  8.33 CPU)
Result: PASS

------------------------------
PREREQUISITES
------------------------------

Prerequisite modules loaded:

requires:

    Module                         Need  Have    
    ------------------------------ ----- --------
    Class::Load                    0     0.24    
    DBI                            0     1.640   
    JSON                           0     2.97001 
    KiokuDB::Backend::DBI          0     1.23    
    KiokuDB::GC::Naive             0     0.57    
    KiokuDB::TypeMap               0     0.57    
    KiokuDB::TypeMap::Entry::Naive 0     0.57    
    KiokuX::Model                  0     0.02    
    KiokuX::User::Util             0     0       
    Moose                          0     2.2010  
    Moose::Role                    0     2.2010  
    namespace::clean               0     0.27    
    perl                           5.012 5.027009
    Safe::Isa                      0     1.000008
    Text::Tradition                1.1   2.1.0   
    TryCatch                       0     1.003002
    YAML::XS                       0     0.69    

build_requires:

    Module                         Need  Have    
    ------------------------------ ----- --------
    ExtUtils::MakeMaker            6.59  7.32    
    Test::Memory::Cycle            0     1.06    
    Test::More::UTF8               0     0.05    
    Test::Warn                     0     0.32    

configure_requires:

    Module                         Need  Have    
    ------------------------------ ----- --------
    ExtUtils::MakeMaker            6.59  7.32    


------------------------------
ENVIRONMENT AND OTHER CONTEXT
------------------------------

Environment variables:

    LANG = C
    LC_ALL = de_DE.UTF-8
    PATH = /usr/local/bin:/usr/bin:/bin:/usr/local/sbin:/usr/sbin:/sbin:/home/cpansand/bin/linux-gnu:/home/cpansand/bin/sh:/home/cpansand/bin:/usr/games:/home/cpansand/devel:/home/eserte/src/srezic-misc/scripts
    PERL5LIB = 
    PERL5OPT = 
    PERL5_CPANPLUS_IS_RUNNING = 14417
    PERL5_CPAN_IS_RUNNING = 14417
    PERL5_CPAN_IS_RUNNING_IN_RECURSION = 2890,14417
    PERLDOC = -MPod::Perldoc::ToTextOverstrike
    PERL_BATCH = yes
    PERL_CANARY_STABILITY_NOPROMPT = 1
    PERL_CPAN_REPORTER_CONFIG = /var/tmp/cpansmoker-1023/2018022112/cpanreporter_000_config.ini
    PERL_EXTUTILS_AUTOINSTALL = --defaultdeps
    PERL_PARALLEL_SMOKER = yes
    PERL_USE_UNSAFE_INC = 1
    SHELL = /usr/bin/zsh
    TERM = screen
    TMPDIR = /var/tmp/cpansmoker-1023/2018022112

Perl special variables (and OS-specific diagnostics, for MSWin32):

    $^X = /opt/perl-5.27.9/bin/perl5.27.9
    $UID/$EUID = 1023 / 1023
    $GID = 1023 1023
    $EGID = 1023 1023

Perl module toolchain versions installed:

    Module              Have    
    ------------------- --------
    CPAN                2.20    
    CPAN::Meta          2.150010
    Cwd                 3.74    
    ExtUtils::CBuilder  0.280230
    ExtUtils::Command   7.32    
    ExtUtils::Install   2.14    
    ExtUtils::MakeMaker 7.32    
    ExtUtils::Manifest  1.70    
    ExtUtils::ParseXS   3.38    
    File::Spec          3.74    
    JSON                2.97001 
    JSON::PP            2.97001 
    Module::Build       0.4224  
    Module::Signature   0.81    
    Parse::CPAN::Meta   2.150010
    Test::Harness       3.39    
    Test::More          1.302122
    YAML                1.24    
    YAML::Syck          1.30    
    version             0.9918  


--

Summary of my perl5 (revision 5 version 27 subversion 9) configuration:
   
  Platform:
    osname=linux
    osvers=4.9.0-3-amd64
    archname=x86_64-linux
    uname='linux debian9 4.9.0-3-amd64 #1 smp debian 4.9.30-2+deb9u5 (2017-09-19) x86_64 gnulinux '
    config_args='-ds -e -Dprefix=/opt/perl-5.27.9 -Dusedevel -Dusemallocwrap=no -Dcf_email=srezic@cpan.org'
    hint=recommended
    useposix=true
    d_sigaction=define
    useithreads=undef
    usemultiplicity=undef
    use64bitint=define
    use64bitall=define
    uselongdouble=undef
    usemymalloc=n
    default_inc_excludes_dot=define
    bincompat5005=undef
  Compiler:
    cc='cc'
    ccflags ='-fwrapv -fno-strict-aliasing -pipe -fstack-protector-strong -I/usr/local/include -D_LARGEFILE_SOURCE -D_FILE_OFFSET_BITS=64 -D_FORTIFY_SOURCE=2'
    optimize='-O2'
    cppflags='-fwrapv -fno-strict-aliasing -pipe -fstack-protector-strong -I/usr/local/include'
    ccversion=''
    gccversion='6.3.0 20170516'
    gccosandvers=''
    intsize=4
    longsize=8
    ptrsize=8
    doublesize=8
    byteorder=12345678
    doublekind=3
    d_longlong=define
    longlongsize=8
    d_longdbl=define
    longdblsize=16
    longdblkind=3
    ivtype='long'
    ivsize=8
    nvtype='double'
    nvsize=8
    Off_t='off_t'
    lseeksize=8
    alignbytes=8
    prototype=define
  Linker and Libraries:
    ld='cc'
    ldflags =' -fstack-protector-strong -L/usr/local/lib'
    libpth=/usr/local/lib /usr/lib/gcc/x86_64-linux-gnu/6/include-fixed /usr/include/x86_64-linux-gnu /usr/lib /lib/x86_64-linux-gnu /lib/../lib /usr/lib/x86_64-linux-gnu /usr/lib/../lib /lib
    libs=-lpthread -lnsl -lgdbm -ldb -ldl -lm -lcrypt -lutil -lc -lgdbm_compat
    perllibs=-lpthread -lnsl -ldl -lm -lcrypt -lutil -lc
    libc=libc-2.24.so
    so=so
    useshrplib=false
    libperl=libperl.a
    gnulibc_version='2.24'
  Dynamic Linking:
    dlsrc=dl_dlopen.xs
    dlext=so
    d_dlsymun=undef
    ccdlflags='-Wl,-E'
    cccdlflags='-fPIC'
    lddlflags='-shared -O2 -L/usr/local/lib -fstack-protector-strong'


Characteristics of this binary (from libperl): 
  Compile-time options:
    HAS_TIMES
    PERLIO_LAYERS
    PERL_COPY_ON_WRITE
    PERL_DONT_CREATE_GVSV
    PERL_OP_PARENT
    PERL_PRESERVE_IVUV
    PERL_USE_DEVEL
    USE_64_BIT_ALL
    USE_64_BIT_INT
    USE_LARGE_FILES
    USE_LOCALE
    USE_LOCALE_COLLATE
    USE_LOCALE_CTYPE
    USE_LOCALE_NUMERIC
    USE_LOCALE_TIME
    USE_PERLIO
    USE_PERL_ATOF
  Built under linux
  Compiled at Feb 20 2018 21:05:34
  %ENV:
    PERL5LIB=""
    PERL5OPT=""
    PERL5_CPANPLUS_IS_RUNNING="14417"
    PERL5_CPAN_IS_RUNNING="14417"
    PERL5_CPAN_IS_RUNNING_IN_RECURSION="2890,14417"
    PERLDOC="-MPod::Perldoc::ToTextOverstrike"
    PERL_BATCH="yes"
    PERL_CANARY_STABILITY_NOPROMPT="1"
    PERL_CPAN_REPORTER_CONFIG="/var/tmp/cpansmoker-1023/2018022112/cpanreporter_000_config.ini"
    PERL_EXTUTILS_AUTOINSTALL="--defaultdeps"
    PERL_PARALLEL_SMOKER="yes"
    PERL_USE_UNSAFE_INC="1"
  @INC:
    /opt/perl-5.27.9/lib/site_perl/5.27.9/x86_64-linux
    /opt/perl-5.27.9/lib/site_perl/5.27.9
    /opt/perl-5.27.9/lib/5.27.9/x86_64-linux
    /opt/perl-5.27.9/lib/5.27.9
    .