Report for Test-WWW-Mechanize-Catalyst-0.60

Back
From: metabase:user:314402c4-2aae-11df-837a-5e0a49663a4f
Subject: PASS Test-WWW-Mechanize-Catalyst-0.60 v5.18.2 FreeBSD
Date: 2015-01-27T07:06:56Z

This distribution has been tested as part of the CPAN Testers
project, supporting the Perl programming language.  See
http://wiki.cpantesters.org/ for more information or email
questions to cpan-testers-discuss@perl.org


--
Dear John Napiorkowski,

This is a computer-generated report for Test-WWW-Mechanize-Catalyst-0.60
on perl 5.18.2, created by CPAN-Reporter-1.2011.

Thank you for uploading your work to CPAN.  Congratulations!
All tests were successful.

Sections of this report:

    * Tester comments
    * Program output
    * Prerequisites
    * Environment and other context

------------------------------
TESTER COMMENTS
------------------------------

Additional comments from tester:

none provided

------------------------------
PROGRAM OUTPUT
------------------------------

Output from '/usr/bin/make test':

PERL_DL_NONLAZY=1 "/usr/perl5.18.2/bin/perl5.18.2" "-MExtUtils::Command::MM" "-MTest::Harness" "-e" "undef *Test::Harness::Switches; test_harness(0, 'inc', 'blib/lib', 'blib/arch')" t/*.t
t/auth-test.t ........... ok
t/cookies.t ............. ok
t/decoded_content.t ..... ok
# 
# ###################################################################
# Starting an external Catalyst HTTP server on port 7357
# To change the port, please set the TWMC_TEST_PORT env variable.
# (The server will be automatically shut-down right after the tests).
# ###################################################################
HTTP::Server::PSGI: Accepting connections at http://0:7357/
t/multi_content_type.t .. ok
t/pod.t ................. ok
t/redirect.t ............ ok
t/simple.t .............. ok
t/two_app.t ............. ok
t/useragent.t ........... ok
t/utf8.t ................ ok
t/white_label.t ......... ok
All tests successful.
Files=11, Tests=109, 51 wallclock secs ( 0.15 usr  0.05 sys + 27.55 cusr  4.58 csys = 32.33 CPU)
Result: PASS

------------------------------
PREREQUISITES
------------------------------

Prerequisite modules loaded:

requires:

    Module                                   Need     Have
    ---------------------------------------- -------- ----
  ! Catalyst                                 5.90         
  ! Class::Load                              0.19         
  ! LWP                                      5.816        
  ! Moose                                    0.67         
  ! namespace::clean                         0.09         
  ! perl                                     5.008004     
  ! Test::WWW::Mechanize                     1.14         
  ! WWW::Mechanize                           1.54         

build_requires:

    Module                                   Need     Have
    ---------------------------------------- -------- ----
  ! Catalyst::Plugin::Session::State::Cookie 0            
  ! Catalyst::Plugin::Session::Store::Dummy  0            
  ! ExtUtils::MakeMaker                      6.59         
  ! Test::Exception                          0            
  ! Test::More                               0.88         
  ! Test::utf8                               0            

configure_requires:

    Module                                   Need     Have
    ---------------------------------------- -------- ----
  ! ExtUtils::MakeMaker                      6.59         


------------------------------
ENVIRONMENT AND OTHER CONTEXT
------------------------------

Environment variables:

    DBIC_NO_WARN_BAD_PERL = 1
    LC_ALL = de_DE.ISO8859-1
    PATH = /usr/local/bin:/usr/bin:/bin:/usr/local/sbin:/usr/sbin:/sbin:/home/cpansand/bin/freebsd10.0:/home/cpansand/bin/sh:/home/cpansand/bin:/usr/games:/home/cpansand/devel:/home/eserte/src/srezic-misc/scripts
    PERL5LIB = /home/cpansand/.cpan/build/Perl-OSType-1.008-tT0Bkr/blib/arch:/home/cpansand/.cpan/build/Perl-OSType-1.008-tT0Bkr/blib/lib:/home/cpansand/.cpan/build/Labyrinth-Plugin-Review-Book-0.01-HzHXNL/blib/arch:/home/cpansand/.cpan/build/Labyrinth-Plugin-Review-Book-0.01-HzHXNL/blib/lib:/home/cpansand/.cpan/build/WWW-Scraper-ISBN-1.03-iJE9Eo/blib/arch:/home/cpansand/.cpan/build/WWW-Scraper-ISBN-1.03-iJE9Eo/blib/lib:/home/cpansand/.cpan/build/Labyrinth-Plugin-Review-1.00-OLnESF/blib/arch:/home/cpansand/.cpan/build/Labyrinth-Plugin-Review-1.00-OLnESF/blib/lib:/home/cpansand/.cpan/build/Webservice-Intercom-0.01-StjyMO/blib/arch:/home/cpansand/.cpan/build/Webservice-Intercom-0.01-StjyMO/blib/lib
    PERL5OPT = 
    PERL5_CPANPLUS_IS_RUNNING = 86254
    PERL5_CPAN_IS_RUNNING = 86254
    PERL5_CPAN_IS_RUNNING_IN_RECURSION = 86212,86254
    PERLDOC = -MPod::Perldoc::ToTextOverstrike
    PERL_BATCH = yes
    PERL_CPAN_REPORTER_CONFIG = /var/tmp/cpansmoker-1023/gwwLXT_2c1_config.ini
    PERL_EXTUTILS_AUTOINSTALL = --defaultdeps
    PERL_HTML_DISPLAY_CLASS = HTML::Display::Mozilla
    SHELL = /usr/local/bin/zsh
    TERM = screen
    TMPDIR = /var/tmp/cpansmoker-1023

Perl special variables (and OS-specific diagnostics, for MSWin32):

    $^X = /usr/perl5.18.2/bin/perl5.18.2
    $UID/$EUID = 1023 / 1023
    $GID = 1023 1023
    $EGID = 1023 1023

Perl module toolchain versions installed:

    Module Have
     


--

Summary of my perl5 (revision 5 version 18 subversion 2) configuration:
   
  Platform:
    osname=freebsd, osvers=10.0-release, archname=amd64-freebsd
    uname='freebsd cvrsnica-freebsd-10-64bit.herceg.de 10.0-release freebsd 10.0-release #0 r260789: thu jan 16 22:34:59 utc 2014 root@snap.freebsd.org:usrobjusrsrcsysgeneric amd64 '
    config_args='-ds -e -Dprefix=/usr/perl5.18.2'
    hint=recommended, useposix=true, d_sigaction=define
    useithreads=undef, usemultiplicity=undef
    useperlio=define, d_sfio=undef, uselargefiles=define, usesocks=undef
    use64bitint=define, use64bitall=define, uselongdouble=undef
    usemymalloc=n, bincompat5005=undef
  Compiler:
    cc='cc', ccflags ='-DHAS_FPSETMASK -DHAS_FLOATINGPOINT_H -fno-strict-aliasing -pipe -fstack-protector -I/usr/local/include',
    optimize='-O',
    cppflags='-DHAS_FPSETMASK -DHAS_FLOATINGPOINT_H -fno-strict-aliasing -pipe -fstack-protector -I/usr/local/include'
    ccversion='', gccversion='4.2.1 Compatible FreeBSD Clang 3.3 (tags/RELEASE_33/final 183502)', gccosandvers=''
    intsize=4, longsize=8, ptrsize=8, doublesize=8, byteorder=12345678
    d_longlong=define, longlongsize=8, d_longdbl=define, longdblsize=16
    ivtype='long', ivsize=8, nvtype='double', nvsize=8, Off_t='off_t', lseeksize=8
    alignbytes=8, prototype=define
  Linker and Libraries:
    ld='cc', ldflags ='-Wl,-E  -fstack-protector -L/usr/local/lib'
    libpth=/usr/lib /usr/local/lib
    libs=-lgdbm -lm -lcrypt -lutil -lc
    perllibs=-lm -lcrypt -lutil -lc
    libc=, so=so, useshrplib=false, libperl=libperl.a
    gnulibc_version=''
  Dynamic Linking:
    dlsrc=dl_dlopen.xs, dlext=so, d_dlsymun=undef, ccdlflags=' '
    cccdlflags='-DPIC -fPIC', lddlflags='-shared  -L/usr/local/lib -fstack-protector'


Characteristics of this binary (from libperl): 
  Compile-time options: HAS_TIMES PERLIO_LAYERS PERL_DONT_CREATE_GVSV
                        PERL_HASH_FUNC_ONE_AT_A_TIME_HARD PERL_MALLOC_WRAP
                        PERL_PRESERVE_IVUV PERL_SAWAMPERSAND USE_64_BIT_ALL
                        USE_64_BIT_INT USE_LARGE_FILES USE_LOCALE
                        USE_LOCALE_COLLATE USE_LOCALE_CTYPE
                        USE_LOCALE_NUMERIC USE_PERLIO USE_PERL_ATOF
  Built under freebsd
  Compiled at Feb 16 2014 21:09:14
  %ENV:
    PERL5LIB="/home/cpansand/.cpan/build/Perl-OSType-1.008-tT0Bkr/blib/arch:/home/cpansand/.cpan/build/Perl-OSType-1.008-tT0Bkr/blib/lib:/home/cpansand/.cpan/build/Labyrinth-Plugin-Review-Book-0.01-HzHXNL/blib/arch:/home/cpansand/.cpan/build/Labyrinth-Plugin-Review-Book-0.01-HzHXNL/blib/lib:/home/cpansand/.cpan/build/WWW-Scraper-ISBN-1.03-iJE9Eo/blib/arch:/home/cpansand/.cpan/build/WWW-Scraper-ISBN-1.03-iJE9Eo/blib/lib:/home/cpansand/.cpan/build/Labyrinth-Plugin-Review-1.00-OLnESF/blib/arch:/home/cpansand/.cpan/build/Labyrinth-Plugin-Review-1.00-OLnESF/blib/lib:/home/cpansand/.cpan/build/Webservice-Intercom-0.01-StjyMO/blib/arch:/home/cpansand/.cpan/build/Webservice-Intercom-0.01-StjyMO/blib/lib"
    PERL5OPT=""
    PERL5_CPANPLUS_IS_RUNNING="86254"
    PERL5_CPAN_IS_RUNNING="86254"
    PERL5_CPAN_IS_RUNNING_IN_RECURSION="86212,86254"
    PERLDOC="-MPod::Perldoc::ToTextOverstrike"
    PERL_BATCH="yes"
    PERL_CPAN_REPORTER_CONFIG="/var/tmp/cpansmoker-1023/gwwLXT_2c1_config.ini"
    PERL_EXTUTILS_AUTOINSTALL="--defaultdeps"
    PERL_HTML_DISPLAY_CLASS="HTML::Display::Mozilla"
  @INC:
    /home/cpansand/.cpan/build/Perl-OSType-1.008-tT0Bkr/blib/arch
    /home/cpansand/.cpan/build/Perl-OSType-1.008-tT0Bkr/blib/lib
    /home/cpansand/.cpan/build/Labyrinth-Plugin-Review-Book-0.01-HzHXNL/blib/arch
    /home/cpansand/.cpan/build/Labyrinth-Plugin-Review-Book-0.01-HzHXNL/blib/lib
    /home/cpansand/.cpan/build/WWW-Scraper-ISBN-1.03-iJE9Eo/blib/arch
    /home/cpansand/.cpan/build/WWW-Scraper-ISBN-1.03-iJE9Eo/blib/lib
    /home/cpansand/.cpan/build/Labyrinth-Plugin-Review-1.00-OLnESF/blib/arch
    /home/cpansand/.cpan/build/Labyrinth-Plugin-Review-1.00-OLnESF/blib/lib
    /home/cpansand/.cpan/build/Webservice-Intercom-0.01-StjyMO/blib/arch
    /home/cpansand/.cpan/build/Webservice-Intercom-0.01-StjyMO/blib/lib
    /usr/perl5.18.2/lib/site_perl/5.18.2/amd64-freebsd
    /usr/perl5.18.2/lib/site_perl/5.18.2
    /usr/perl5.18.2/lib/5.18.2/amd64-freebsd
    /usr/perl5.18.2/lib/5.18.2
    .