SPVM-Go v0.004 Perl 5 v5.24.0 x86_64-linux

Status
Pass
From
Slaven Rezić
Dist
SPVM-Go v0.004
Platform
Perl 5 v5.24.0 x86_64-linux
Date
2023-11-18 02:13:38
ID
161006be-85b8-11ee-9d52-d7066e8775ea
This distribution has been tested as part of the CPAN Testers
project, supporting the Perl programming language.  See
http://wiki.cpantesters.org/ for more information or email
questions to cpan-testers-discuss@perl.org


--
Dear Yuki Kimoto,

This is a computer-generated report for SPVM-Go-0.004
on perl 5.24.0, created by CPAN-Reporter-1.2018.

Thank you for uploading your work to CPAN.  Congratulations!
All tests were successful.

Sections of this report:

    * Tester comments
    * Program output
    * Prerequisites
    * Environment and other context

------------------------------
TESTER COMMENTS
------------------------------

Additional comments from tester:

none provided

------------------------------
PROGRAM OUTPUT
------------------------------

Output from '/usr/bin/make test':

PERL_DL_NONLAZY=1 "/opt/perl-5.24.0/bin/perl" "-MExtUtils::Command::MM" "-MTest::Harness" "-e" "undef *Test::Harness::Switches; test_harness(0, 'blib/lib', 'blib/arch')" t/*.t t/*/*.t t/*/*/*.t
t/Go-Channel.t ......... ok
[An exception thrown in a goroutine is converted to a warning]
Coroutine Error.
  TestCase::Go::Coroutine::anon::125::39-> at /home/cpansand/.cpan/build/2023111803/SPVM-Go-0.004-0/t/lib/SPVM/TestCase/Go/Coroutine.spvm line 129
t/Go-Coroutine.t ....... ok
t/Go-OS-Signal.t ....... ok
t/Go-Poll.t ............ ok
[Test Output]Non-blocking select returns undef
  at /home/cpansand/.cpan/build/2023111803/SPVM-Go-0.004-0/t/lib/SPVM/TestCase/Go/Select.spvm line 217
[Test Output]Non-blocking select returns undef
  at /home/cpansand/.cpan/build/2023111803/SPVM-Go-0.004-0/t/lib/SPVM/TestCase/Go/Select.spvm line 217
[Test Output]Non-blocking select returns undef
  at /home/cpansand/.cpan/build/2023111803/SPVM-Go-0.004-0/t/lib/SPVM/TestCase/Go/Select.spvm line 217
[Test Output]Non-blocking select returns undef
  at /home/cpansand/.cpan/build/2023111803/SPVM-Go-0.004-0/t/lib/SPVM/TestCase/Go/Select.spvm line 217
[Test Output]Non-blocking select returns undef
  at /home/cpansand/.cpan/build/2023111803/SPVM-Go-0.004-0/t/lib/SPVM/TestCase/Go/Select.spvm line 217
t/Go-Select.t .......... ok
t/Go-Sync-WaitGroup.t .. ok
[An exception thrown in a goroutine is converted to a warning]
Exception!.
  TestCase::Go::anon::66::11-> at /home/cpansand/.cpan/build/2023111803/SPVM-Go-0.004-0/t/lib/SPVM/TestCase/Go.spvm line 67
[An exception thrown in a goroutine is converted to a warning]
Error Method
  TestCase::Go->error at /home/cpansand/.cpan/build/2023111803/SPVM-Go-0.004-0/t/lib/SPVM/TestCase/Go.spvm line 102
  TestCase::Go::anon::82::11-> at /home/cpansand/.cpan/build/2023111803/SPVM-Go-0.004-0/t/lib/SPVM/TestCase/Go.spvm line 83
[Test Output]Proc time:1.5002429485321 at t/Go.t line 38.
t/Go.t ................. ok
All tests successful.
Files=7, Tests=38, 11 wallclock secs ( 0.02 usr  0.02 sys +  6.88 cusr  0.35 csys =  7.27 CPU)
Result: PASS

------------------------------
PREREQUISITES
------------------------------

Prerequisite modules loaded:

requires:

    Module              Need     Have    
    ------------------- -------- --------
    SPVM                0.989061 0.989061
    SPVM::Sys           0.500    0.500   
    SPVM::Thread        0.001    0.001   

build_requires:

    Module              Need     Have    
    ------------------- -------- --------
    ExtUtils::MakeMaker 0        7.24    

configure_requires:

    Module              Need     Have    
    ------------------- -------- --------
    SPVM                0.989061 0.989061


------------------------------
ENVIRONMENT AND OTHER CONTEXT
------------------------------

Environment variables:

    LANG = en_US.UTF-8
    LANGUAGE = en_US:en
    LC_ALL = en_US.UTF-8
    PATH = /usr/local/bin:/usr/bin:/bin:/usr/local/sbin:/usr/sbin:/sbin:/home/cpansand/bin/linux-gnu:/home/cpansand/bin/sh:/home/cpansand/bin:/usr/games:/home/cpansand/devel:/home/eserte/src/srezic-misc/scripts
    PERL5LIB = /home/cpansand/.cpan/build/2023111803/SPVM-Thread-0.001-0/blib/arch:/home/cpansand/.cpan/build/2023111803/SPVM-Thread-0.001-0/blib/lib:/home/cpansand/.cpan/build/2023111803/SPVM-Sys-0.500-0/blib/arch:/home/cpansand/.cpan/build/2023111803/SPVM-Sys-0.500-0/blib/lib:/home/cpansand/.cpan/build/2023111803/SPVM-Errno-0.090003-0/blib/arch:/home/cpansand/.cpan/build/2023111803/SPVM-Errno-0.090003-0/blib/lib:/home/cpansand/.cpan/build/2023111803/SPVM-Resource-SocketUtil-1.001-0/blib/arch:/home/cpansand/.cpan/build/2023111803/SPVM-Resource-SocketUtil-1.001-0/blib/lib:/home/cpansand/.cpan/build/2023111803/SPVM-0.989061-0/blib/arch:/home/cpansand/.cpan/build/2023111803/SPVM-0.989061-0/blib/lib:/home/cpansand/.cpan/build/2023111803/ExtUtils-CBuilder-0.280236-0/blib/arch:/home/cpansand/.cpan/build/2023111803/ExtUtils-CBuilder-0.280236-0/blib/lib
    PERL5OPT = 
    PERL5_CPANPLUS_IS_RUNNING = 25783
    PERL5_CPAN_IS_RUNNING = 25783
    PERL5_CPAN_IS_RUNNING_IN_RECURSION = 28193,25783
    PERLDOC = -MPod::Perldoc::ToTextOverstrike
    PERL_BATCH = yes
    PERL_CANARY_STABILITY_NOPROMPT = 1
    PERL_CPAN_REPORTER_CONFIG = /var/tmp/cpansmoker-1023/2023111801/cpanreporter_000_config.ini
    PERL_EXTUTILS_AUTOINSTALL = --defaultdeps
    PERL_USE_UNSAFE_INC = 1
    SHELL = /bin/zsh
    TERM = screen
    TMPDIR = /var/tmp/cpansmoker-1023/2023111801

Perl special variables (and OS-specific diagnostics, for MSWin32):

    $^X = /opt/perl-5.24.0/bin/perl
    $UID/$EUID = 1023 / 1023
    $GID = 1023 1023
    $EGID = 1023 1023

Perl module toolchain versions installed:

    Module              Have    
    ------------------- --------
    CPAN                2.28    
    CPAN::Meta          2.150010
    Cwd                 3.63    
    ExtUtils::CBuilder  0.280236
    ExtUtils::Command   7.24    
    ExtUtils::Install   2.04    
    ExtUtils::MakeMaker 7.24    
    ExtUtils::Manifest  1.70    
    ExtUtils::ParseXS   3.31    
    File::Spec          3.63    
    JSON                2.90    
    JSON::PP            2.27300 
    Module::Build       0.4220  
    Module::Signature   0.80    
    Parse::CPAN::Meta   2.150010
    Test::Harness       3.36    
    Test::More          1.302052
    YAML                1.17    
    YAML::Syck          1.29    
    version             0.9916  


--

Summary of my perl5 (revision 5 version 24 subversion 0) configuration:
   
  Platform:
    osname=linux, osvers=3.2.0-4-amd64, archname=x86_64-linux
    uname='linux cvrsnica-wheezy 3.2.0-4-amd64 #1 smp debian 3.2.54-2 x86_64 gnulinux '
    config_args='-ds -e -Dprefix=/opt/perl-5.24.0 -Dcf_email=srezic@cpan.org'
    hint=recommended, useposix=true, d_sigaction=define
    useithreads=undef, usemultiplicity=undef
    use64bitint=define, use64bitall=define, uselongdouble=undef
    usemymalloc=n, bincompat5005=undef
  Compiler:
    cc='cc', ccflags ='-fwrapv -fno-strict-aliasing -pipe -fstack-protector -I/usr/local/include -D_LARGEFILE_SOURCE -D_FILE_OFFSET_BITS=64 -D_FORTIFY_SOURCE=2',
    optimize='-O2',
    cppflags='-fwrapv -fno-strict-aliasing -pipe -fstack-protector -I/usr/local/include'
    ccversion='', gccversion='4.7.2', gccosandvers=''
    intsize=4, longsize=8, ptrsize=8, doublesize=8, byteorder=12345678, doublekind=3
    d_longlong=define, longlongsize=8, d_longdbl=define, longdblsize=16, longdblkind=3
    ivtype='long', ivsize=8, nvtype='double', nvsize=8, Off_t='off_t', lseeksize=8
    alignbytes=8, prototype=define
  Linker and Libraries:
    ld='cc', ldflags =' -fstack-protector -L/usr/local/lib'
    libpth=/usr/local/lib /usr/lib/gcc/x86_64-linux-gnu/4.7/include-fixed /usr/include/x86_64-linux-gnu /usr/lib /lib/x86_64-linux-gnu /lib/../lib /usr/lib/x86_64-linux-gnu /usr/lib/../lib /lib
    libs=-lpthread -lnsl -ldb -ldl -lm -lcrypt -lutil -lc
    perllibs=-lpthread -lnsl -ldl -lm -lcrypt -lutil -lc
    libc=libc-2.13.so, so=so, useshrplib=false, libperl=libperl.a
    gnulibc_version='2.13'
  Dynamic Linking:
    dlsrc=dl_dlopen.xs, dlext=so, d_dlsymun=undef, ccdlflags='-Wl,-E'
    cccdlflags='-fPIC', lddlflags='-shared -O2 -L/usr/local/lib -fstack-protector'


Characteristics of this binary (from libperl): 
  Compile-time options: HAS_TIMES PERLIO_LAYERS PERL_COPY_ON_WRITE
                        PERL_DONT_CREATE_GVSV
                        PERL_HASH_FUNC_ONE_AT_A_TIME_HARD PERL_MALLOC_WRAP
                        PERL_PRESERVE_IVUV USE_64_BIT_ALL USE_64_BIT_INT
                        USE_LARGE_FILES USE_LOCALE USE_LOCALE_COLLATE
                        USE_LOCALE_CTYPE USE_LOCALE_NUMERIC USE_LOCALE_TIME
                        USE_PERLIO USE_PERL_ATOF
  Built under linux
  Compiled at May 30 2016 08:43:25
  %ENV:
    PERL5LIB="/home/cpansand/.cpan/build/2023111803/SPVM-Thread-0.001-0/blib/arch:/home/cpansand/.cpan/build/2023111803/SPVM-Thread-0.001-0/blib/lib:/home/cpansand/.cpan/build/2023111803/SPVM-Sys-0.500-0/blib/arch:/home/cpansand/.cpan/build/2023111803/SPVM-Sys-0.500-0/blib/lib:/home/cpansand/.cpan/build/2023111803/SPVM-Errno-0.090003-0/blib/arch:/home/cpansand/.cpan/build/2023111803/SPVM-Errno-0.090003-0/blib/lib:/home/cpansand/.cpan/build/2023111803/SPVM-Resource-SocketUtil-1.001-0/blib/arch:/home/cpansand/.cpan/build/2023111803/SPVM-Resource-SocketUtil-1.001-0/blib/lib:/home/cpansand/.cpan/build/2023111803/SPVM-0.989061-0/blib/arch:/home/cpansand/.cpan/build/2023111803/SPVM-0.989061-0/blib/lib:/home/cpansand/.cpan/build/2023111803/ExtUtils-CBuilder-0.280236-0/blib/arch:/home/cpansand/.cpan/build/2023111803/ExtUtils-CBuilder-0.280236-0/blib/lib"
    PERL5OPT=""
    PERL5_CPANPLUS_IS_RUNNING="25783"
    PERL5_CPAN_IS_RUNNING="25783"
    PERL5_CPAN_IS_RUNNING_IN_RECURSION="28193,25783"
    PERLDOC="-MPod::Perldoc::ToTextOverstrike"
    PERL_BATCH="yes"
    PERL_CANARY_STABILITY_NOPROMPT="1"
    PERL_CPAN_REPORTER_CONFIG="/var/tmp/cpansmoker-1023/2023111801/cpanreporter_000_config.ini"
    PERL_EXTUTILS_AUTOINSTALL="--defaultdeps"
    PERL_USE_UNSAFE_INC="1"
  @INC:
    /home/cpansand/.cpan/build/2023111803/SPVM-Thread-0.001-0/blib/arch
    /home/cpansand/.cpan/build/2023111803/SPVM-Thread-0.001-0/blib/lib
    /home/cpansand/.cpan/build/2023111803/SPVM-Sys-0.500-0/blib/arch
    /home/cpansand/.cpan/build/2023111803/SPVM-Sys-0.500-0/blib/lib
    /home/cpansand/.cpan/build/2023111803/SPVM-Errno-0.090003-0/blib/arch
    /home/cpansand/.cpan/build/2023111803/SPVM-Errno-0.090003-0/blib/lib
    /home/cpansand/.cpan/build/2023111803/SPVM-Resource-SocketUtil-1.001-0/blib/arch
    /home/cpansand/.cpan/build/2023111803/SPVM-Resource-SocketUtil-1.001-0/blib/lib
    /home/cpansand/.cpan/build/2023111803/SPVM-0.989061-0/blib/arch
    /home/cpansand/.cpan/build/2023111803/SPVM-0.989061-0/blib/lib
    /home/cpansand/.cpan/build/2023111803/ExtUtils-CBuilder-0.280236-0/blib/arch
    /home/cpansand/.cpan/build/2023111803/ExtUtils-CBuilder-0.280236-0/blib/lib
    /opt/perl-5.24.0/lib/site_perl/5.24.0/x86_64-linux
    /opt/perl-5.24.0/lib/site_perl/5.24.0
    /opt/perl-5.24.0/lib/5.24.0/x86_64-linux
    /opt/perl-5.24.0/lib/5.24.0
    .