Net-DNS-Resolver-Unbound v1.21 Perl 5 v5.38.0 RC0 darwin-2level

Status
Pass
From
David Cantrell (DCANTRELL)
Dist
Net-DNS-Resolver-Unbound v1.21
Platform
Perl 5 v5.38.0 RC0 darwin-2level
Date
2023-06-10T07:26:25
ID
1b54ebb6-0760-11ee-a5ca-46e7ad9adbc8
This distribution has been tested as part of the CPAN Testers
project, supporting the Perl programming language.  See
http://wiki.cpantesters.org/ for more information or email
questions to cpan-testers-discuss@perl.org


--
Dear Dick Franks,

This is a computer-generated report for Net-DNS-Resolver-Unbound-1.21
on perl 5.38.0, created by CPAN-Reporter-1.2019.

Thank you for uploading your work to CPAN.  Congratulations!
All tests were successful.

Sections of this report:

    * Tester comments
    * Program output
    * Prerequisites
    * Environment and other context

------------------------------
TESTER COMMENTS
------------------------------

Additional comments from tester:

this report is from an automated smoke testing program
and was not reviewed by a human for accuracy

------------------------------
PROGRAM OUTPUT
------------------------------

Output from '/usr/bin/make test':

"/Users/cpantesting/cpantesting/perl-blead/bin/perl5.38.0" -MExtUtils::Command::MM -e 'cp_nonempty' -- Unbound.bs blib/arch/auto/Net/DNS/Resolver/Unbound/Unbound.bs 644
PERL_DL_NONLAZY=1 HARNESS_OPTIONS=j1:c "/Users/cpantesting/cpantesting/perl-blead/bin/perl5.38.0" "-It" "-MExtUtils::Command::MM" "-MTest::Harness" "-e" "undef *Test::Harness::Switches; test_harness(0, 'blib/lib', 'blib/arch')" t/*.t
t/00-install.t ....... ok
# 
# These tests were run using:
# 	Net::DNS                        1.39
# 	Net::DNS::Resolver::Unbound     1.21
# 	Net::DNS::Resolver::libunbound  1.17.1
# 	Carp                            1.54
# 	DynaLoader                      1.54
# 	ExtUtils::MakeMaker             7.70
# 	File::Find                      1.43
# 	File::Spec                      3.88
# 	IO::File                        1.52
# 	Test::More                      1.302194
t/00-load.t .......... ok
t/00-pod.t ........... ok
t/10-context.t ....... ok
t/20-synchronous.t ... ok
t/25-decode.t ........ ok
t/30-asynchronous.t .. ok
t/35-bgread.t ........ ok
All tests successful.
Files=8, Tests=58,  3 wallclock secs ( 0.05 usr  0.04 sys +  1.61 cusr  0.38 csys =  2.08 CPU)
Result: PASS

------------------------------
PREREQUISITES
------------------------------

Prerequisite modules loaded:

requires:

    Module              Need     Have    
    ------------------- -------- --------
    Carp                1.1      1.54    
    DynaLoader          1.09     1.54    
    Net::DNS            1.19     1.39    
    perl                5.008009 5.038000

build_requires:

    Module              Need     Have    
    ------------------- -------- --------
    ExtUtils::MakeMaker 0        7.70    
    File::Find          1.13     1.43    
    File::Spec          3.29     3.88    
    IO::File            1.14     1.52    
    Test::More          0.8      1.302194

configure_requires:

    Module              Need     Have    
    ------------------- -------- --------
    ExtUtils::MakeMaker 6.48     7.70    


------------------------------
ENVIRONMENT AND OTHER CONTEXT
------------------------------

Environment variables:

    AUTOMATED_TESTING = 1
    NONINTERACTIVE_TESTING = 1
    PATH = /Users/cpantesting/perl5/perlbrew/bin:/Users/cpantesting/perl5/perlbrew/perls/perl-5.32.0/bin:/usr/local/bin:/usr/bin:/bin:/usr/sbin:/sbin:/Library/Apple/usr/bin:/Users/cpantesting/.cargo/bin
    PERL = blead
    PERL5LIB = 
    PERL5OPT = 
    PERL5_CPANPLUS_IS_RUNNING = 88517
    PERL5_CPAN_IS_RUNNING = 88517
    PERLBREW_HOME = /Users/cpantesting/.perlbrew
    PERLBREW_MANPATH = /Users/cpantesting/perl5/perlbrew/perls/perl-5.32.0/man
    PERLBREW_PATH = /Users/cpantesting/perl5/perlbrew/bin:/Users/cpantesting/perl5/perlbrew/perls/perl-5.32.0/bin
    PERLBREW_PERL = perl-5.32.0
    PERLBREW_ROOT = /Users/cpantesting/perl5/perlbrew
    PERLBREW_SHELLRC_VERSION = 0.94
    PERLBREW_VERSION = 0.94
    PERLVER = blead
    PERL_INLINE_DIRECTORY = /Users/cpantesting/.Inline-blead
    PERL_MM_USE_DEFAULT = 1
    PERL_USE_UNSAFE_INC = 0
    SHELL = /bin/bash
    TERM = screen

Perl special variables (and OS-specific diagnostics, for MSWin32):

    $^X = /Users/cpantesting/cpantesting/perl-blead/bin/perl5.38.0
    $UID/$EUID = 503 / 503
    $GID = 20 20 12 61 703 702 701 100
    $EGID = 20 20 12 61 703 702 701 100

Perl module toolchain versions installed:

    Module              Have    
    ------------------- --------
    CPAN                2.36    
    CPAN::Meta          2.150010
    Cwd                 3.89    
    ExtUtils::CBuilder  0.280238
    ExtUtils::Command   7.70    
    ExtUtils::Install   2.22    
    ExtUtils::MakeMaker 7.70    
    ExtUtils::Manifest  1.73    
    ExtUtils::ParseXS   3.51    
    File::Spec          3.88    
    JSON                4.10    
    JSON::PP            4.16    
    Module::Build       0.4234  
    Module::Signature   n/a     
    Parse::CPAN::Meta   2.150010
    Test2               1.302194
    Test::Harness       3.44    
    Test::More          1.302194
    YAML                1.30    
    YAML::Syck          n/a     
    version             0.9929  


--

Summary of my perl5 (revision 5 version 38 subversion 0) configuration:
  Commit id: 059aeb7cca96b4d023c91fc999f946e12018c345
  Platform:
    osname=darwin
    osvers=21.6.0
    archname=darwin-2level
    uname='darwin harrow.local 21.6.0 darwin kernel version 21.6.0: mon aug 22 20:17:10 pdt 2022; root:xnu-8020.140.49~2release_x86_64 x86_64 '
    config_args='-de -Dprefix=/Users/cpantesting/cpantesting/perl-blead -Dusedevel'
    hint=recommended
    useposix=true
    d_sigaction=define
    useithreads=undef
    usemultiplicity=undef
    use64bitint=define
    use64bitall=define
    uselongdouble=undef
    usemymalloc=n
    default_inc_excludes_dot=define
  Compiler:
    cc='cc'
    ccflags ='-fno-common -DPERL_DARWIN -mmacosx-version-min=12.6 -DNO_POSIX_2008_LOCALE -fno-strict-aliasing -pipe -fstack-protector-strong -I/usr/local/include'
    optimize='-O3'
    cppflags='-fno-common -DPERL_DARWIN -mmacosx-version-min=12.6 -DNO_POSIX_2008_LOCALE -fno-strict-aliasing -pipe -fstack-protector-strong -I/usr/local/include'
    ccversion=''
    gccversion='Apple LLVM 14.0.0 (clang-1400.0.29.202)'
    gccosandvers=''
    intsize=4
    longsize=8
    ptrsize=8
    doublesize=8
    byteorder=12345678
    doublekind=3
    d_longlong=define
    longlongsize=8
    d_longdbl=define
    longdblsize=16
    longdblkind=3
    ivtype='long'
    ivsize=8
    nvtype='double'
    nvsize=8
    Off_t='off_t'
    lseeksize=8
    alignbytes=8
    prototype=define
  Linker and Libraries:
    ld='cc'
    ldflags =' -mmacosx-version-min=12.6 -fstack-protector-strong -L/usr/local/lib'
    libpth=/usr/local/lib /Applications/Xcode.app/Contents/Developer/Toolchains/XcodeDefault.xctoolchain/usr/lib/clang/14.0.0/lib /Applications/Xcode.app/Contents/Developer/Platforms/MacOSX.platform/Developer/SDKs/MacOSX.sdk/usr/lib /Applications/Xcode.app/Contents/Developer/Toolchains/XcodeDefault.xctoolchain/usr/lib /usr/lib
    libs=-lgdbm
    perllibs=
    libc=
    so=dylib
    useshrplib=false
    libperl=libperl.a
    gnulibc_version=''
  Dynamic Linking:
    dlsrc=dl_dlopen.xs
    dlext=bundle
    d_dlsymun=undef
    ccdlflags=' '
    cccdlflags=' '
    lddlflags=' -mmacosx-version-min=12.6 -bundle -undefined dynamic_lookup -L/usr/local/lib -fstack-protector-strong'


Characteristics of this binary (from libperl): 
  Compile-time options:
    HAS_LONG_DOUBLE
    HAS_STRTOLD
    HAS_TIMES
    PERLIO_LAYERS
    PERL_COPY_ON_WRITE
    PERL_DONT_CREATE_GVSV
    PERL_HASH_FUNC_SIPHASH13
    PERL_HASH_USE_SBOX32
    PERL_MALLOC_WRAP
    PERL_OP_PARENT
    PERL_PRESERVE_IVUV
    PERL_USE_DEVEL
    PERL_USE_SAFE_PUTENV
    USE_64_BIT_ALL
    USE_64_BIT_INT
    USE_LARGE_FILES
    USE_LOCALE
    USE_LOCALE_COLLATE
    USE_LOCALE_CTYPE
    USE_LOCALE_NUMERIC
    USE_LOCALE_TIME
    USE_PERLIO
    USE_PERL_ATOF
  Locally applied patches:
    RC0
  Built under darwin
  Compiled at Jun  9 2023 21:55:29
  %ENV:
    PERL="blead"
    PERL5LIB=""
    PERL5OPT=""
    PERL5_CPANPLUS_IS_RUNNING="88517"
    PERL5_CPAN_IS_RUNNING="88517"
    PERLBREW_HOME="/Users/cpantesting/.perlbrew"
    PERLBREW_MANPATH="/Users/cpantesting/perl5/perlbrew/perls/perl-5.32.0/man"
    PERLBREW_PATH="/Users/cpantesting/perl5/perlbrew/bin:/Users/cpantesting/perl5/perlbrew/perls/perl-5.32.0/bin"
    PERLBREW_PERL="perl-5.32.0"
    PERLBREW_ROOT="/Users/cpantesting/perl5/perlbrew"
    PERLBREW_SHELLRC_VERSION="0.94"
    PERLBREW_VERSION="0.94"
    PERLVER="blead"
    PERL_INLINE_DIRECTORY="/Users/cpantesting/.Inline-blead"
    PERL_MM_USE_DEFAULT="1"
    PERL_USE_UNSAFE_INC="0"
  @INC:
    /Users/cpantesting/cpantesting/perl-blead/lib/site_perl/5.38.0/darwin-2level
    /Users/cpantesting/cpantesting/perl-blead/lib/site_perl/5.38.0
    /Users/cpantesting/cpantesting/perl-blead/lib/5.38.0/darwin-2level
    /Users/cpantesting/cpantesting/perl-blead/lib/5.38.0