Tcl-pTk v1.07 Perl 5 v5.24.1 darwin-2level
- Status
- Pass
- From
- Slaven Rezić (SREZIC)
- Dist
-
Tcl-pTk v1.07
- Platform
- Perl 5 v5.24.1 darwin-2level
- Date
- 2020-04-18 10:05:21
- ID
- 1d0f807a-815c-11ea-8346-1b5b1f24ea8f
This distribution has been tested as part of the CPAN Testers
project, supporting the Perl programming language. See
http://wiki.cpantesters.org/ for more information or email
questions to cpan-testers-discuss@perl.org
--
Dear Christopher Alexander Chavez,
This is a computer-generated report for Tcl-pTk-1.07
on perl 5.24.1, created by CPAN-Reporter-1.2018.
Thank you for uploading your work to CPAN. Congratulations!
All tests were successful.
Sections of this report:
* Tester comments
* Program output
* Prerequisites
* Environment and other context
------------------------------
TESTER COMMENTS
------------------------------
Additional comments from tester:
none provided
------------------------------
PROGRAM OUTPUT
------------------------------
Output from '/usr/bin/make test':
PERL_DL_NONLAZY=1 "/opt/perl-5.24.1/bin/perl" "-MExtUtils::Command::MM" "-MTest::Harness" "-e" "undef *Test::Harness::Switches; test_harness(0, 'blib/lib', 'blib/arch')" t/*.t
t/after.t ..................... ok
t/afterDestroy.t .............. ok
t/afterIdle.t ................. ok
t/balloon.t ................... ok
Balloon should appear over 'Balloon Text' button
t/balloon2.t .................. ok
t/bgerror1.t .................. ok
t/bgerror2.t .................. ok
Error Dialog Should Show. This is expected
t/bgerror3.t .................. ok
t/bind.t ...................... ok
t/bindBreak.t ................. ok
t/bitmapSubClass.t ............ ok
t/browseEntry.t ............... ok
t/browseEntry2.t .............. ok
t/busy.t ...................... ok
t/callback.t .................. ok
t/callbackSet.t ............... ok
t/canFind.t ................... ok
t/canIndex.t .................. ok
t/canScale.t .................. ok
t/canvasFocusBusy.t ........... ok
t/checkradio.t ................ ok
t/cleanupCrashTest.t .......... ok
t/command.t ................... ok
t/configureReturn.t ........... ok
t/dialog.t .................... ok
t/dialogBox.t ................. ok
t/dialogBoxGeom.t ............. ok
t/dirtree.t ................... skipped: Tix Tcl package not available
t/dndlocal.t .................. ok
t/emptyMenuButtonSubclass.t ... ok
t/emptyMenuSubclass.t ......... ok
t/emptySubclass.t ............. ok
t/entry.t ..................... ok
t/entryPaste.t ................ ok
t/entryValidate.t ............. ok
t/fileevent.t ................. skipped: fileevent is unavailable, reason: Can't locate sys/ioctl.ph in @INC (did you run h2ph?) (@INC contains: /Users/slaven.rezic/.cpan/build/2020041811/Tcl-pTk-1.07-K6MIBE/blib/lib /Users/slaven.rezic/.cpan/build/2020041811/Tcl-pTk-1.07-K6MIBE/blib/arch /opt/perl-5.24.1/lib/site_perl/5.24.1/darwin-2level /opt/perl-5.24.1/lib/site_perl/5.24.1 /opt/perl-5.24.1/lib/5.24.1/darwin-2level /opt/perl-5.24.1/lib/5.24.1 .) at /Users/slaven.rezic/.cpan/build/2020041811/Tcl-pTk-1.07-K6MIBE/blib/lib/Tcl/pTk/Widget.pm line 2139.
t/fileevent2.t ................ skipped: fileevent is unavailable, reason: Can't locate sys/ioctl.ph in @INC (did you run h2ph?) (@INC contains: /Users/slaven.rezic/.cpan/build/2020041811/Tcl-pTk-1.07-K6MIBE/blib/lib /Users/slaven.rezic/.cpan/build/2020041811/Tcl-pTk-1.07-K6MIBE/blib/arch /opt/perl-5.24.1/lib/site_perl/5.24.1/darwin-2level /opt/perl-5.24.1/lib/site_perl/5.24.1 /opt/perl-5.24.1/lib/5.24.1/darwin-2level /opt/perl-5.24.1/lib/5.24.1 .) at /Users/slaven.rezic/.cpan/build/2020041811/Tcl-pTk-1.07-K6MIBE/blib/lib/Tcl/pTk/Widget.pm line 2139.
t/focusMethods.t .............. ok
t/font.t ...................... ok
t/font2.t ..................... ok
t/fontAttr.t .................. ok
t/frameForeground.t ........... ok
t/geomgr.t .................... ok
t/hlist.t ..................... skipped: Tix Tcl package not available
t/iconimage.t ................. ok
t/imageLoad.t ................. skipped: Tix Tcl package not available
t/itemStyle.t ................. skipped: Tix Tcl package not available
t/labEntry.t .................. ok
t/labEntryFacelift.t .......... ok
t/labEntryParentChild.t ....... ok
t/libLoad.t ................... skipped: Tix Tcl package not available
t/listbox.t ................... ok
t/mainloopMult.t .............. ok
t/menub-cascade.t ............. ok
t/menub_newMenu.t ............. ok
t/menubarpath.t ............... ok
t/menuitems.t ................. ok
t/messageBox.t ................ ok
t/moveResizeWindow.t .......... ok
t/moveToplevelWindow.t ........ ok
t/multMainWindow1.t ........... ok
t/multMainWindow2.t ........... ok
t/notebook.t .................. skipped: Tix Tcl package not available
t/notebook2.t ................. skipped: Tix Tcl package not available
t/onDestroy.t ................. ok
t/optmenu.t ................... ok
t/palette.t ................... ok
t/pane.t ...................... ok
t/patchTk.t ................... ok
t/photoGetImage.t ............. skipped: no Img extension available (can't find package Img at /Users/slaven.rezic/.cpan/build/2020041811/Tcl-pTk-1.07-K6MIBE/blib/lib/Tcl/pTk.pm line 1204.
t/photoImg.t .................. skipped: Tk Img extension not found
t/photoSubClass.t ............. ok
t/photoTk.t ................... ok
t/progBar.t ................... ok
t/protocol.t .................. ok
t/ptk-compat.t ................ ok
t/ptk-compat2.t ............... ok
t/repeat.t .................... ok
t/repeatSubReuse.t ............ ok
t/rt125058.t .................. ok
t/scrolled.t .................. ok
t/scrolledOptional.t .......... ok
t/selection.t ................. ok
t/slideMegaWidget.t ........... ok
t/slideMegaWidget2.t .......... ok
t/spreadsheetHideRows.t ....... ok
t/table.t ..................... ok
t/tableFacelift.t ............. ok
t/tableMatrixCallbacks.t ...... ok
t/tableMatrixCleanup.t ........ ok
t/tableMatrixDebug.t .......... ok
t/tableMatrixSpreadsheet.t .... ok
t/tclVersion.t ................ ok
t/text.t ...................... ok
t/text2-old.t ................. ok
t/text2.t ..................... ok
t/text3.t ..................... ok
t/textEdit.t .................. ok
t/textRO.t .................... ok
t/textSubwidget.t ............. ok
t/textUndo.t .................. ok
t/tileLabelFont.t ............. ok
t/tileTree.t .................. ok
t/tileWidget.t ................ ok
t/tixTree.t ................... skipped: Tix Tcl package not available
t/tk-mw.t ..................... ok
t/tkFacelift_BEsubclass.t ..... ok
t/tkFacelift_browseEntry.t .... ok
t/tkFacelift_frameSubclass.t .. ok
t/tkFacelift_mega1.t .......... ok
t/tkFacelift_notebook.t ....... ok
t/tkFacelift_simple.t ......... skipped: Tix Tcl package not available
t/tkHijack_BEsubclass.t ....... ok
t/tkHijack_bgerror1.t ......... ok
t/tkHijack_bgerror2.t ......... ok
t/tkHijack_bgerror3.t ......... ok
t/tkHijack_mega1.t ............ ok
t/tkHijack_simple.t ........... skipped: Tix Tcl package not available
t/tkHijack_spreadsheet.t ...... ok
t/trace.t ..................... ok
t/tree.t ...................... skipped: Tix Tcl package not available
t/ttkBrowseEntry.t ............ ok
t/ttkEntryValidate.t .......... ok
t/ttkTixNoteBook.t ............ ok
t/unicode.t ................... ok
t/virtualEv.t ................. ok
t/widgetDelete.t .............. ok
t/widgetName.t ................ ok
t/wmForget.t .................. skipped: Wm manage/forget unimplemented for Tk Aqua < 8.5.15
t/wmStackorder.t .............. ok
t/xevent.t .................... ok
t/zzPhoto.t ................... skipped: no Img extension available
All tests successful.
Test Summary Report
-------------------
t/fontAttr.t (Wstat: 0 Tests: 8 Failed: 0)
TODO passed: 1-8
t/wmStackorder.t (Wstat: 0 Tests: 10 Failed: 0)
TODO passed: 1-10
Files=132, Tests=492, 209 wallclock secs ( 0.45 usr 0.32 sys + 34.23 cusr 20.37 csys = 55.37 CPU)
Result: PASS
------------------------------
PREREQUISITES
------------------------------
Prerequisite modules loaded:
requires:
Module Need Have
------------------- ----- --------
Class::ISA 0.36 0.36
perl 5.008 5.024001
Sub::Name 0.05 0.21
Tcl 0.9 1.27
build_requires:
Module Need Have
------------------- ----- --------
ExtUtils::MakeMaker 0 7.10_02
configure_requires:
Module Need Have
------------------- ----- --------
ExtUtils::MakeMaker 0 7.10_02
------------------------------
ENVIRONMENT AND OTHER CONTEXT
------------------------------
Environment variables:
LANG = en_US.UTF-8
PATH = /usr/local/bin:/usr/bin:/bin:/usr/local/sbin:/usr/sbin:/sbin:/Users/slaven.rezic/bin/darwin18.0:/Users/slaven.rezic/bin/sh:/Users/slaven.rezic/bin:/Users/slaven.rezic/bin/pistachio-perl/bin:/usr/games:/Users/slaven.rezic/devel:/Users/slaven.rezic/work/drafts-slaven.rezic/misc:/Users/slaven.rezic/src/srezic-misc/scripts
PERL5LIB =
PERL5OPT =
PERL5_CPANPLUS_IS_RUNNING = 47606
PERL5_CPAN_IS_RUNNING = 47606
PERL5_CPAN_IS_RUNNING_IN_RECURSION = 47590,47606
PERLDOC = -MPod::Perldoc::ToTextOverstrike
PERL_BATCH = yes
PERL_CANARY_STABILITY_NOPROMPT = 1
PERL_CPAN_REPORTER_CONFIG = /var/tmp/cpansmoker-501/2020041811/cpanreporter_000_config.ini
PERL_EXTUTILS_AUTOINSTALL = --defaultdeps
SHELL = /bin/zsh
TERM = screen
TMPDIR = /var/tmp/cpansmoker-501/2020041811
Perl special variables (and OS-specific diagnostics, for MSWin32):
$^X = /opt/perl-5.24.1/bin/perl
$UID/$EUID = 501 / 501
$GID = 20 20 501 701 12 61 702 100 703
$EGID = 20 20 501 701 12 61 702 100 703
Perl module toolchain versions installed:
Module Have
------------------- ----------
CPAN 2.11_01
CPAN::Meta 2.150005
Cwd 3.63_01
ExtUtils::CBuilder 0.280225
ExtUtils::Command 7.10_02
ExtUtils::Install 2.04
ExtUtils::MakeMaker 7.10_02
ExtUtils::Manifest 1.70
ExtUtils::ParseXS 3.31
File::Spec 3.63_01
JSON 2.90
JSON::PP 4.04
Module::Build 0.4220
Module::Signature n/a
Parse::CPAN::Meta 1.4417_001
Test::Harness 3.36_01
Test::More 1.302075
YAML 1.22
YAML::Syck 1.29
version 0.9916
--
Summary of my perl5 (revision 5 version 24 subversion 1) configuration:
Platform:
osname=darwin, osvers=15.4.0, archname=darwin-2level
uname='darwin macbook.herceg.de 15.4.0 darwin kernel version 15.4.0: fri feb 26 22:08:05 pst 2016; root:xnu-3248.40.184~3release_x86_64 x86_64 '
config_args='-ds -e -Dprefix=/opt/perl-5.24.1 -Dcf_email=srezic@cpan.org'
hint=recommended, useposix=true, d_sigaction=define
useithreads=undef, usemultiplicity=undef
use64bitint=define, use64bitall=define, uselongdouble=undef
usemymalloc=n, bincompat5005=undef
Compiler:
cc='cc', ccflags ='-fno-common -DPERL_DARWIN -mmacosx-version-min=10.11 -fno-strict-aliasing -pipe -fstack-protector-strong -I/usr/local/include -DPERL_USE_SAFE_PUTENV',
optimize='-O3',
cppflags='-fno-common -DPERL_DARWIN -mmacosx-version-min=10.11 -fno-strict-aliasing -pipe -fstack-protector-strong -I/usr/local/include'
ccversion='', gccversion='4.2.1 Compatible Apple LLVM 7.3.0 (clang-703.0.31)', gccosandvers=''
intsize=4, longsize=8, ptrsize=8, doublesize=8, byteorder=12345678, doublekind=3
d_longlong=define, longlongsize=8, d_longdbl=define, longdblsize=16, longdblkind=3
ivtype='long', ivsize=8, nvtype='double', nvsize=8, Off_t='off_t', lseeksize=8
alignbytes=8, prototype=define
Linker and Libraries:
ld='cc', ldflags =' -mmacosx-version-min=10.11 -fstack-protector-strong -L/usr/local/lib'
libpth=/usr/local/lib /Library/Developer/CommandLineTools/usr/bin/../lib/clang/7.3.0/lib /Library/Developer/CommandLineTools/usr/lib /usr/lib
libs=-lpthread -ldbm -ldb -ldl -lm -lutil -lc
perllibs=-lpthread -ldl -lm -lutil -lc
libc=, so=dylib, useshrplib=false, libperl=libperl.a
gnulibc_version=''
Dynamic Linking:
dlsrc=dl_dlopen.xs, dlext=bundle, d_dlsymun=undef, ccdlflags=' '
cccdlflags=' ', lddlflags=' -mmacosx-version-min=10.11 -bundle -undefined dynamic_lookup -L/usr/local/lib -fstack-protector-strong'
Characteristics of this binary (from libperl):
Compile-time options: HAS_TIMES PERLIO_LAYERS PERL_COPY_ON_WRITE
PERL_DONT_CREATE_GVSV
PERL_HASH_FUNC_ONE_AT_A_TIME_HARD PERL_MALLOC_WRAP
PERL_PRESERVE_IVUV PERL_USE_SAFE_PUTENV
USE_64_BIT_ALL USE_64_BIT_INT USE_LARGE_FILES
USE_LOCALE USE_LOCALE_COLLATE USE_LOCALE_CTYPE
USE_LOCALE_NUMERIC USE_LOCALE_TIME USE_PERLIO
USE_PERL_ATOF
Built under darwin
Compiled at Feb 18 2017 15:13:35
%ENV:
PERL5LIB=""
PERL5OPT=""
PERL5_CPANPLUS_IS_RUNNING="47606"
PERL5_CPAN_IS_RUNNING="47606"
PERL5_CPAN_IS_RUNNING_IN_RECURSION="47590,47606"
PERLDOC="-MPod::Perldoc::ToTextOverstrike"
PERL_BATCH="yes"
PERL_CANARY_STABILITY_NOPROMPT="1"
PERL_CPAN_REPORTER_CONFIG="/var/tmp/cpansmoker-501/2020041811/cpanreporter_000_config.ini"
PERL_EXTUTILS_AUTOINSTALL="--defaultdeps"
@INC:
/opt/perl-5.24.1/lib/site_perl/5.24.1/darwin-2level
/opt/perl-5.24.1/lib/site_perl/5.24.1
/opt/perl-5.24.1/lib/5.24.1/darwin-2level
/opt/perl-5.24.1/lib/5.24.1
.