Net-RabbitMQ v0.1.5 Perl 5 v5.8.6 amd64-netbsd

Status
Pass
From
Apocalypse (APOCAL)
Dist
Net-RabbitMQ v0.1.5
Platform
Perl 5 v5.8.6 amd64-netbsd
Date
2010-04-26T00:46:15
ID
1e8c76ee-50cd-11df-9e93-570f7b45d684
This distribution has been tested as part of the CPAN Testers
project, supporting the Perl programming language.  See
http://wiki.cpantesters.org/ for more information or email
questions to cpan-testers-discuss@perl.org


--

Dear JESUS,
    
This is a computer-generated error report created automatically by
CPANPLUS, version 0.9003. Testers personal comments may appear 
at the end of this report.

MAKE TEST passed: PERL_DL_NONLAZY=1 /home/cpan/perls/perl_5.8.6_default/bin/perl "-MExtUtils::Command::MM" "-e" "test_harness(0, 'blib/lib', 'blib/arch')" t/*.t
t/001_declare_exchange.t .. ok
t/002_publish.t ........... ok
t/003_consume.t ........... ok
t/004_selfconsume.t ....... ok
t/005_noack.t ............. ok
t/006_txn.t ............... ok
t/007_get.t ............... ok
t/008_queue_declare.t ..... ok
All tests successful.
Files=8, Tests=77, 21 wallclock secs ( 0.07 usr  0.16 sys +  0.10 cusr  0.29 csys =  0.62 CPU)
Result: PASS

[MSG] [Sun Apr 25 17:46:09 2010] Sending test report for 'Net-RabbitMQ-0.1.5'

This report was machine-generated by CPANPLUS::Dist::YACSmoke 0.54.

------------------------------
ENVIRONMENT AND OTHER CONTEXT
------------------------------

Environment variables:

    AUTOMATED_TESTING = 1
    PATH = /home/cpan/bin:/bin:/sbin:/usr/bin:/usr/sbin:/usr/X11R7/bin:/usr/X11R6/bin:/usr/pkg/bin:/usr/pkg/sbin:/usr/games:/usr/local/bin:/usr/local/sbin
    PERL5LIB = :/home/cpan/cpanp_conf/perl_5.8.6_default/.cpanplus/5.8.6/build/Net-RabbitMQ-0.1.5/blib/lib:/home/cpan/cpanp_conf/perl_5.8.6_default/.cpanplus/5.8.6/build/Net-RabbitMQ-0.1.5/blib/arch
    PERL5_CPANIDX_URL = http://192.168.0.200:11110/CPANIDX/
    PERL5_CPANPLUS_IS_RUNNING = 21420
    PERL5_CPANPLUS_IS_VERSION = 0.9003
    PERL5_YACSMOKE_BASE = /home/cpan/cpanp_conf/perl_5.8.6_default
    PERL_CPANSMOKER_HOST = perl_5.8.6_default / NetBSD 5.0.1 amd64 (192.168.0.205)
    PERL_EXTUTILS_AUTOINSTALL = --defaultdeps
    PERL_MM_USE_DEFAULT = 1
    SHELL = /usr/pkg/bin/bash
    TERM = xterm

Perl special variables (and OS-specific diagnostics, for MSWin32):

    Perl: $^X = /home/cpan/perls/perl_5.8.6_default/bin/perl
    UID:  $<  = 1001
    EUID: $>  = 1001
    GID:  $(  = 100 100
    EGID: $)  = 100 100


-------------------------------


--

Summary of my perl5 (revision 5 version 8 subversion 6) configuration:
  Platform:
    osname=netbsd, osvers=5.0.1, archname=amd64-netbsd
    uname='netbsd netbsd64 5.0.1 netbsd 5.0.1 (generic) #0: thu jul 30 00:08:07 utc 2009 builds@b7.netbsd.org:homebuildsabnetbsd-5-0-1-releaseamd64200907292356z-objhomebuildsabnetbsd-5-0-1-releasesrcsysarchamd64compilegeneric amd64 '
    config_args='-des -Dprefix=/home/cpan/perls/perl_5.8.6_default -Ui_db'
    hint=recommended, useposix=true, d_sigaction=define
    usethreads=undef use5005threads=undef useithreads=undef usemultiplicity=undef
    useperlio=define d_sfio=undef uselargefiles=define usesocks=undef
    use64bitint=define use64bitall=define uselongdouble=undef
    usemymalloc=n, bincompat5005=undef
  Compiler:
    cc='cc', ccflags ='-fno-strict-aliasing -pipe -I/usr/pkg/include',
    optimize='-O',
    cppflags='-fno-strict-aliasing -pipe -I/usr/pkg/include'
    ccversion='', gccversion='4.1.3 20080704 prerelease (NetBSD nb2 20081120)', gccosandvers=''
    intsize=4, longsize=8, ptrsize=8, doublesize=8, byteorder=12345678
    d_longlong=define, longlongsize=8, d_longdbl=define, longdblsize=16
    ivtype='long', ivsize=8, nvtype='double', nvsize=8, Off_t='off_t', lseeksize=8
    alignbytes=8, prototype=define
  Linker and Libraries:
    ld='cc', ldflags =' -Wl,-rpath,/usr/pkg/lib -Wl,-rpath,/usr/local/lib -L/usr/pkg/lib'
    libpth=/usr/pkg/lib /lib /usr/lib
    libs=-lm -lcrypt -lutil -lc -lposix
    perllibs=-lm -lcrypt -lutil -lc -lposix
    libc=/lib/libc.so, so=so, useshrplib=false, libperl=libperl.a
    gnulibc_version=''
  Dynamic Linking:
    dlsrc=dl_dlopen.xs, dlext=so, d_dlsymun=undef, ccdlflags='-Wl,-E '
    cccdlflags='-DPIC -fPIC ', lddlflags='--whole-archive -shared  -L/usr/pkg/lib'


Characteristics of this binary (from libperl): 
  Compile-time options: USE_64_BIT_INT USE_64_BIT_ALL USE_LARGE_FILES
  Built under netbsd
  Compiled at Apr  1 2010 22:56:20
  %ENV:
    PERL5LIB=":/home/cpan/cpanp_conf/perl_5.8.6_default/.cpanplus/5.8.6/build/Net-RabbitMQ-0.1.5/blib/lib:/home/cpan/cpanp_conf/perl_5.8.6_default/.cpanplus/5.8.6/build/Net-RabbitMQ-0.1.5/blib/arch"
    PERL5_CPANIDX_URL="http://192.168.0.200:11110/CPANIDX/"
    PERL5_CPANPLUS_IS_RUNNING="21420"
    PERL5_CPANPLUS_IS_VERSION="0.9003"
    PERL5_YACSMOKE_BASE="/home/cpan/cpanp_conf/perl_5.8.6_default"
    PERL_CPANSMOKER_HOST="perl_5.8.6_default / NetBSD 5.0.1 amd64 (192.168.0.205)"
    PERL_EXTUTILS_AUTOINSTALL="--defaultdeps"
    PERL_MM_USE_DEFAULT="1"
  @INC:
    /home/cpan/cpanp_conf/perl_5.8.6_default/.cpanplus/5.8.6/build/Net-RabbitMQ-0.1.5/blib/lib
    /home/cpan/cpanp_conf/perl_5.8.6_default/.cpanplus/5.8.6/build/Net-RabbitMQ-0.1.5/blib/arch
    /home/cpan/perls/perl_5.8.6_default/lib/5.8.6/amd64-netbsd
    /home/cpan/perls/perl_5.8.6_default/lib/5.8.6
    /home/cpan/perls/perl_5.8.6_default/lib/site_perl/5.8.6/amd64-netbsd
    /home/cpan/perls/perl_5.8.6_default/lib/site_perl/5.8.6
    /home/cpan/perls/perl_5.8.6_default/lib/site_perl
    .