Report for Test-WWW-Mechanize-Catalyst-0.59

Back
From: metabase:user:320bfe00-2aae-11df-837a-5e0a49663a4f
Subject: PASS Test-WWW-Mechanize-Catalyst-0.59 v5.18.1 GNU/Linux
Date: 2014-01-28T20:24:01Z

This distribution has been tested as part of the CPAN Testers
project, supporting the Perl programming language.  See
http://wiki.cpantesters.org/ for more information or email
questions to cpan-testers-discuss@perl.org


--
Dear Dagfinn Ilmari Mannsaker,

This is a computer-generated report for Test-WWW-Mechanize-Catalyst-0.59
on perl 5.18.1, created by CPAN-Reporter-1.2010.

Thank you for uploading your work to CPAN.  Congratulations!
All tests were successful.

Sections of this report:

    * Tester comments
    * Program output
    * Prerequisites
    * Environment and other context

------------------------------
TESTER COMMENTS
------------------------------

Additional comments from tester:

this report is from an automated smoke testing program
and was not reviewed by a human for accuracy

------------------------------
PROGRAM OUTPUT
------------------------------

Output from '/usr/bin/make test':

PERL_DL_NONLAZY=1 /home/sand/src/perl/repoperls/installed-perls/perl/v5.18.1/a2da/bin/perl "-MExtUtils::Command::MM" "-MTest::Harness" "-e" "undef *Test::Harness::Switches; test_harness(0, 'inc', 'blib/lib', 'blib/arch')" t/*.t
Argument "5.90059_005" isn't numeric in numeric ge (>=) at lib/Test/WWW/Mechanize/Catalyst.pm line 174.
t/auth-test.t ........... ok
Argument "5.90059_005" isn't numeric in numeric ge (>=) at lib/Test/WWW/Mechanize/Catalyst.pm line 174.
t/cookies.t ............. ok
Argument "5.90059_005" isn't numeric in numeric ge (>=) at lib/Test/WWW/Mechanize/Catalyst.pm line 174.
t/decoded_content.t ..... ok
# 
# ###################################################################
# Starting an external Catalyst HTTP server on port 7357
# To change the port, please set the TWMC_TEST_PORT env variable.
# (The server will be automatically shut-down right after the tests).
# ###################################################################
HTTP::Server::PSGI: Accepting connections at http://0:7357/
t/multi_content_type.t .. ok
t/pod.t ................. ok
Argument "5.90059_005" isn't numeric in numeric ge (>=) at lib/Test/WWW/Mechanize/Catalyst.pm line 174.
t/redirect.t ............ ok
Argument "5.90059_005" isn't numeric in numeric ge (>=) at /tmp/loop_over_bdir-31267-2avV4w/Test-WWW-Mechanize-Catalyst-0.59-5ELfcJ/blib/lib/Test/WWW/Mechanize/Catalyst.pm line 174.
t/simple.t .............. ok
Argument "5.90059_005" isn't numeric in numeric ge (>=) at /tmp/loop_over_bdir-31267-2avV4w/Test-WWW-Mechanize-Catalyst-0.59-5ELfcJ/blib/lib/Test/WWW/Mechanize/Catalyst.pm line 174.
t/two_app.t ............. ok
Argument "5.90059_005" isn't numeric in numeric ge (>=) at lib/Test/WWW/Mechanize/Catalyst.pm line 174.
t/useragent.t ........... ok
Argument "5.90059_005" isn't numeric in numeric ge (>=) at /tmp/loop_over_bdir-31267-2avV4w/Test-WWW-Mechanize-Catalyst-0.59-5ELfcJ/blib/lib/Test/WWW/Mechanize/Catalyst.pm line 174.
t/white_label.t ......... ok
All tests successful.
Files=10, Tests=108, 36 wallclock secs ( 0.05 usr  0.02 sys +  8.42 cusr  0.91 csys =  9.40 CPU)
Result: PASS

------------------------------
PREREQUISITES
------------------------------

Prerequisite modules loaded:

requires:

    Module                                   Need     Have       
    ---------------------------------------- -------- -----------
    Catalyst                                 5.90     5.90059_005
    Class::Load                              0.19     0.20       
    LWP                                      5.816    6.05       
    Moose                                    0.67     2.1202     
    namespace::clean                         0.09     0.24       
    perl                                     5.008004 5.018001   
    Test::WWW::Mechanize                     1.14     1.44       
    WWW::Mechanize                           1.54     1.73       

build_requires:

    Module                                   Need     Have       
    ---------------------------------------- -------- -----------
    Catalyst::Plugin::Session::State::Cookie 0        0.17       
    Catalyst::Plugin::Session::Store::Dummy  0        0          
    ExtUtils::MakeMaker                      6.59     6.87_05    
    Test::Exception                          0        0.32       
    Test::More                               0.88     1.001002   
    Test::utf8                               0        1.01       

configure_requires:

    Module                                   Need     Have       
    ---------------------------------------- -------- -----------
    ExtUtils::MakeMaker                      6.59     6.87_05    


------------------------------
ENVIRONMENT AND OTHER CONTEXT
------------------------------

Environment variables:

    AUTOMATED_TESTING = 1
    LANG = en_US.UTF-8
    LANGUAGE = en_US:en
    PATH = /usr/lib/ccache:/home/sand/bin:/usr/local/bin:/usr/bin:/bin:/usr/bin/X11:/usr/games:/usr/local/perl/bin:/usr/X11/bin:/sbin:/usr/sbin
    PERL5LIB = 
    PERL5OPT = 
    PERL5_CPANPLUS_IS_RUNNING = 31268
    PERL5_CPAN_IS_RUNNING = 31268
    PERL_MM_USE_DEFAULT = 1
    SHELL = /usr/bin/zsh
    TERM = screen

Perl special variables (and OS-specific diagnostics, for MSWin32):

    $^X = /home/sand/src/perl/repoperls/installed-perls/perl/v5.18.1/a2da/bin/perl
    $UID/$EUID = 1005 / 1005
    $GID = 1005 1005
    $EGID = 1005 1005

Perl module toolchain versions installed:

    Module              Have    
    ------------------- --------
    CPAN                2.00    
    CPAN::Meta          2.133380
    Cwd                 3.40    
    ExtUtils::CBuilder  0.280212
    ExtUtils::Command   1.17    
    ExtUtils::Install   1.59    
    ExtUtils::MakeMaker 6.87_05 
    ExtUtils::Manifest  1.63    
    ExtUtils::ParseXS   3.22    
    File::Spec          3.40    
    JSON                2.90    
    JSON::PP            2.27203 
    Module::Build       0.4204  
    Module::Signature   0.73    
    Parse::CPAN::Meta   1.4409  
    Test::Harness       3.30    
    Test::More          1.001002
    YAML                0.88    
    YAML::Syck          1.27    
    version             0.9907  


--

Summary of my perl5 (revision 5 version 18 subversion 1) configuration:
  Commit id: 75c3005ee5b6ece3ad3c827cb300945f672c2bd1
  Platform:
    osname=linux, osvers=3.12-1-amd64, archname=x86_64-linux-thread-multi-ld
    uname='linux k83 3.12-1-amd64 #1 smp debian 3.12.6-2 (2013-12-29) x86_64 gnulinux '
    config_args='-Dprefix=/home/sand/src/perl/repoperls/installed-perls/perl/v5.18.1/a2da -Dmyhostname=k83 -Dinstallusrbinperl=n -Uversiononly -Dusedevel -des -Ui_db -Duseithreads -Duselongdouble -DDEBUGGING=-g'
    hint=recommended, useposix=true, d_sigaction=define
    useithreads=define, usemultiplicity=define
    useperlio=define, d_sfio=undef, uselargefiles=define, usesocks=undef
    use64bitint=define, use64bitall=define, uselongdouble=define
    usemymalloc=n, bincompat5005=undef
  Compiler:
    cc='cc', ccflags ='-D_REENTRANT -D_GNU_SOURCE -fno-strict-aliasing -pipe -fstack-protector -I/usr/local/include -D_LARGEFILE_SOURCE -D_FILE_OFFSET_BITS=64',
    optimize='-O2 -g',
    cppflags='-D_REENTRANT -D_GNU_SOURCE -fno-strict-aliasing -pipe -fstack-protector -I/usr/local/include'
    ccversion='', gccversion='4.8.2', gccosandvers=''
    intsize=4, longsize=8, ptrsize=8, doublesize=8, byteorder=12345678
    d_longlong=define, longlongsize=8, d_longdbl=define, longdblsize=16
    ivtype='long', ivsize=8, nvtype='long double', nvsize=16, Off_t='off_t', lseeksize=8
    alignbytes=16, prototype=define
  Linker and Libraries:
    ld='cc', ldflags =' -fstack-protector -L/usr/local/lib'
    libpth=/usr/local/lib /lib/x86_64-linux-gnu /lib/../lib /usr/lib/x86_64-linux-gnu /usr/lib/../lib /lib /usr/lib
    libs=-lnsl -lgdbm -ldb -ldl -lm -lcrypt -lutil -lpthread -lc -lgdbm_compat
    perllibs=-lnsl -ldl -lm -lcrypt -lutil -lpthread -lc
    libc=, so=so, useshrplib=false, libperl=libperl.a
    gnulibc_version='2.17'
  Dynamic Linking:
    dlsrc=dl_dlopen.xs, dlext=so, d_dlsymun=undef, ccdlflags='-Wl,-E'
    cccdlflags='-fPIC', lddlflags='-shared -O2 -g -L/usr/local/lib -fstack-protector'


Characteristics of this binary (from libperl): 
  Compile-time options: HAS_TIMES MULTIPLICITY PERLIO_LAYERS
                        PERL_DONT_CREATE_GVSV
                        PERL_HASH_FUNC_ONE_AT_A_TIME_HARD
                        PERL_IMPLICIT_CONTEXT PERL_MALLOC_WRAP
                        PERL_PRESERVE_IVUV PERL_SAWAMPERSAND PERL_USE_DEVEL
                        USE_64_BIT_ALL USE_64_BIT_INT USE_ITHREADS
                        USE_LARGE_FILES USE_LOCALE USE_LOCALE_COLLATE
                        USE_LOCALE_CTYPE USE_LOCALE_NUMERIC USE_LONG_DOUBLE
                        USE_PERLIO USE_PERL_ATOF USE_REENTRANT_API
  Built under linux
  Compiled at Jan 19 2014 10:38:37
  %ENV:
    PERL5LIB=""
    PERL5OPT=""
    PERL5_CPANPLUS_IS_RUNNING="31268"
    PERL5_CPAN_IS_RUNNING="31268"
    PERL_MM_USE_DEFAULT="1"
  @INC:
    /home/sand/src/perl/repoperls/installed-perls/perl/v5.18.1/a2da/lib/site_perl/5.18.1/x86_64-linux-thread-multi-ld
    /home/sand/src/perl/repoperls/installed-perls/perl/v5.18.1/a2da/lib/site_perl/5.18.1
    /home/sand/src/perl/repoperls/installed-perls/perl/v5.18.1/a2da/lib/5.18.1/x86_64-linux-thread-multi-ld
    /home/sand/src/perl/repoperls/installed-perls/perl/v5.18.1/a2da/lib/5.18.1
    .