App-Cache v0.37 Perl 5 v5.30.1 x86_64-linux

Status
Pass
From
Slaven Rezić
Dist
App-Cache v0.37
Platform
Perl 5 v5.30.1 x86_64-linux
Date
2020-10-15 23:14:07
ID
20243620-0f3c-11eb-b931-d6331f24ea8f
This distribution has been tested as part of the CPAN Testers
project, supporting the Perl programming language.  See
http://wiki.cpantesters.org/ for more information or email
questions to cpan-testers-discuss@perl.org


--
Dear Leon Brocard,

This is a computer-generated report for App-Cache-0.37
on perl 5.30.1, created by CPAN-Reporter-1.2018.

Thank you for uploading your work to CPAN.  Congratulations!
All tests were successful.

Sections of this report:

    * Tester comments
    * Program output
    * Prerequisites
    * Environment and other context

------------------------------
TESTER COMMENTS
------------------------------

Additional comments from tester:

none provided

------------------------------
PROGRAM OUTPUT
------------------------------

Output from '/usr/bin/make test':

PERL_DL_NONLAZY=1 "/opt/perl-5.30.1/bin/perl" "-MExtUtils::Command::MM" "-MTest::Harness" "-e" "undef *Test::Harness::Switches; test_harness(0, 'blib/lib', 'blib/arch')" t/*.t
t/pod.t ........... ok
t/pod_coverage.t .. ok
t/simple.t ........ ok
All tests successful.
Files=3, Tests=50,  7 wallclock secs ( 0.02 usr  0.01 sys +  0.62 cusr  0.08 csys =  0.73 CPU)
Result: PASS

------------------------------
PREREQUISITES
------------------------------

Prerequisite modules loaded:

requires:

    Module                         Need Have    
    ------------------------------ ---- --------
    Class::Accessor::Chained::Fast 0    0       
    File::Find::Rule               0    0.34    
    File::HomeDir                  0    1.004   
    File::stat                     0    1.08    
    HTTP::Cookies                  0    6.08    
    LWP::UserAgent                 0    6.46    
    Path::Class                    0    0.37    
    Storable                       0    3.15    
    Test::More                     0    1.302182

build_requires:

    Module                         Need Have    
    ------------------------------ ---- --------
    ExtUtils::MakeMaker            0    7.46    

configure_requires:

    Module                         Need Have    
    ------------------------------ ---- --------
    ExtUtils::MakeMaker            0    7.46    


------------------------------
ENVIRONMENT AND OTHER CONTEXT
------------------------------

Environment variables:

    LANG = en_US.UTF-8
    PATH = /usr/local/bin:/usr/bin:/bin:/usr/local/sbin:/usr/sbin:/sbin:/home/cpansand/bin/linux-gnu:/home/cpansand/bin/sh:/home/cpansand/bin:/usr/games:/home/cpansand/devel:/home/eserte/src/srezic-misc/scripts
    PERL5LIB = /home/cpansand/.cpan/build/2020101601/Archive-Any-0.0946-0/blib/arch:/home/cpansand/.cpan/build/2020101601/Archive-Any-0.0946-0/blib/lib:/home/cpansand/.cpan/build/2020101601/Carton-v1.0.34-0/blib/arch:/home/cpansand/.cpan/build/2020101601/Carton-v1.0.34-0/blib/lib:/home/cpansand/.cpan/build/2020101601/Attribute-Lexical-0.005-0/blib/arch:/home/cpansand/.cpan/build/2020101601/Attribute-Lexical-0.005-0/blib/lib:/home/cpansand/.cpan/build/2020101601/Test-Dir-1.16-0/blib/arch:/home/cpansand/.cpan/build/2020101601/Test-Dir-1.16-0/blib/lib
    PERL5OPT = 
    PERL5_CPANPLUS_IS_RUNNING = 1924203
    PERL5_CPAN_IS_RUNNING = 1924203
    PERL5_CPAN_IS_RUNNING_IN_RECURSION = 1915776,1924203
    PERLDOC = -MPod::Perldoc::ToTextOverstrike
    PERL_BATCH = yes
    PERL_CANARY_STABILITY_NOPROMPT = 1
    PERL_CPAN_REPORTER_CONFIG = /var/tmp/cpansmoker-1023/2020101600/cpanreporter_000_config.ini
    PERL_EXTUTILS_AUTOINSTALL = --defaultdeps
    PERL_USE_UNSAFE_INC = 1
    SHELL = /usr/bin/zsh
    TERM = screen
    TMPDIR = /var/tmp/cpansmoker-1023/2020101600

Perl special variables (and OS-specific diagnostics, for MSWin32):

    $^X = /opt/perl-5.30.1/bin/perl
    $UID/$EUID = 1023 / 1023
    $GID = 1023 1023
    $EGID = 1023 1023

Perl module toolchain versions installed:

    Module              Have    
    ------------------- --------
    CPAN                2.27    
    CPAN::Meta          2.150010
    Cwd                 3.78    
    ExtUtils::CBuilder  0.280234
    ExtUtils::Command   7.46    
    ExtUtils::Install   2.18    
    ExtUtils::MakeMaker 7.46    
    ExtUtils::Manifest  1.72    
    ExtUtils::ParseXS   3.40    
    File::Spec          3.78    
    JSON                4.02    
    JSON::PP            4.04    
    Module::Build       0.4229  
    Module::Signature   0.83    
    Parse::CPAN::Meta   2.150010
    Test::Harness       3.42    
    Test::More          1.302182
    YAML                1.29    
    YAML::Syck          1.31    
    version             0.9927  


--

Summary of my perl5 (revision 5 version 30 subversion 1) configuration:
   
  Platform:
    osname=linux
    osvers=4.18.0-80.11.2.el8_0.x86_64
    archname=x86_64-linux
    uname='linux centos8-2gb-nbg1 4.18.0-80.11.2.el8_0.x86_64 #1 smp tue sep 24 11:32:19 utc 2019 x86_64 x86_64 x86_64 gnulinux '
    config_args='-ds -e -Dprefix=/opt/perl-5.30.1 -Dcf_email=srezic@cpan.org'
    hint=recommended
    useposix=true
    d_sigaction=define
    useithreads=undef
    usemultiplicity=undef
    use64bitint=define
    use64bitall=define
    uselongdouble=undef
    usemymalloc=n
    default_inc_excludes_dot=define
    bincompat5005=undef
  Compiler:
    cc='cc'
    ccflags ='-fwrapv -fno-strict-aliasing -pipe -fstack-protector-strong -I/usr/local/include -D_LARGEFILE_SOURCE -D_FILE_OFFSET_BITS=64 -D_FORTIFY_SOURCE=2'
    optimize='-O2'
    cppflags='-fwrapv -fno-strict-aliasing -pipe -fstack-protector-strong -I/usr/local/include'
    ccversion=''
    gccversion='8.2.1 20180905 (Red Hat 8.2.1-3)'
    gccosandvers=''
    intsize=4
    longsize=8
    ptrsize=8
    doublesize=8
    byteorder=12345678
    doublekind=3
    d_longlong=define
    longlongsize=8
    d_longdbl=define
    longdblsize=16
    longdblkind=3
    ivtype='long'
    ivsize=8
    nvtype='double'
    nvsize=8
    Off_t='off_t'
    lseeksize=8
    alignbytes=8
    prototype=define
  Linker and Libraries:
    ld='cc'
    ldflags =' -fstack-protector-strong -L/usr/local/lib'
    libpth=/usr/local/lib /usr/lib /lib/../lib64 /usr/lib/../lib64 /lib /lib64 /usr/lib64 /usr/local/lib64
    libs=-lpthread -ldl -lm -lcrypt -lutil -lc
    perllibs=-lpthread -ldl -lm -lcrypt -lutil -lc
    libc=libc-2.28.so
    so=so
    useshrplib=false
    libperl=libperl.a
    gnulibc_version='2.28'
  Dynamic Linking:
    dlsrc=dl_dlopen.xs
    dlext=so
    d_dlsymun=undef
    ccdlflags='-Wl,-E'
    cccdlflags='-fPIC'
    lddlflags='-shared -O2 -L/usr/local/lib -fstack-protector-strong'


Characteristics of this binary (from libperl): 
  Compile-time options:
    HAS_TIMES
    PERLIO_LAYERS
    PERL_COPY_ON_WRITE
    PERL_DONT_CREATE_GVSV
    PERL_MALLOC_WRAP
    PERL_OP_PARENT
    PERL_PRESERVE_IVUV
    USE_64_BIT_ALL
    USE_64_BIT_INT
    USE_LARGE_FILES
    USE_LOCALE
    USE_LOCALE_COLLATE
    USE_LOCALE_CTYPE
    USE_LOCALE_NUMERIC
    USE_LOCALE_TIME
    USE_PERLIO
    USE_PERL_ATOF
  Built under linux
  Compiled at Nov 30 2019 16:48:48
  %ENV:
    PERL5LIB="/home/cpansand/.cpan/build/2020101601/Archive-Any-0.0946-0/blib/arch:/home/cpansand/.cpan/build/2020101601/Archive-Any-0.0946-0/blib/lib:/home/cpansand/.cpan/build/2020101601/Carton-v1.0.34-0/blib/arch:/home/cpansand/.cpan/build/2020101601/Carton-v1.0.34-0/blib/lib:/home/cpansand/.cpan/build/2020101601/Attribute-Lexical-0.005-0/blib/arch:/home/cpansand/.cpan/build/2020101601/Attribute-Lexical-0.005-0/blib/lib:/home/cpansand/.cpan/build/2020101601/Test-Dir-1.16-0/blib/arch:/home/cpansand/.cpan/build/2020101601/Test-Dir-1.16-0/blib/lib"
    PERL5OPT=""
    PERL5_CPANPLUS_IS_RUNNING="1924203"
    PERL5_CPAN_IS_RUNNING="1924203"
    PERL5_CPAN_IS_RUNNING_IN_RECURSION="1915776,1924203"
    PERLDOC="-MPod::Perldoc::ToTextOverstrike"
    PERL_BATCH="yes"
    PERL_CANARY_STABILITY_NOPROMPT="1"
    PERL_CPAN_REPORTER_CONFIG="/var/tmp/cpansmoker-1023/2020101600/cpanreporter_000_config.ini"
    PERL_EXTUTILS_AUTOINSTALL="--defaultdeps"
    PERL_USE_UNSAFE_INC="1"
  @INC:
    /home/cpansand/.cpan/build/2020101601/Archive-Any-0.0946-0/blib/arch
    /home/cpansand/.cpan/build/2020101601/Archive-Any-0.0946-0/blib/lib
    /home/cpansand/.cpan/build/2020101601/Carton-v1.0.34-0/blib/arch
    /home/cpansand/.cpan/build/2020101601/Carton-v1.0.34-0/blib/lib
    /home/cpansand/.cpan/build/2020101601/Attribute-Lexical-0.005-0/blib/arch
    /home/cpansand/.cpan/build/2020101601/Attribute-Lexical-0.005-0/blib/lib
    /home/cpansand/.cpan/build/2020101601/Test-Dir-1.16-0/blib/arch
    /home/cpansand/.cpan/build/2020101601/Test-Dir-1.16-0/blib/lib
    /opt/perl-5.30.1/lib/site_perl/5.30.1/x86_64-linux
    /opt/perl-5.30.1/lib/site_perl/5.30.1
    /opt/perl-5.30.1/lib/5.30.1/x86_64-linux
    /opt/perl-5.30.1/lib/5.30.1
    .