Sys-SigAction v0.23 Perl 5 v5.28.1 x86_64-linux
- Status
- Pass
- From
- Chris Hills
- Dist
-
Sys-SigAction v0.23
- Platform
- Perl 5 v5.28.1 x86_64-linux
- Date
- 2018-12-28 17:36:39
- ID
- 21c3efbe-0ac7-11e9-bf9d-5e81136823cb
This distribution has been tested as part of the CPAN Testers
project, supporting the Perl programming language. See
http://wiki.cpantesters.org/ for more information or email
questions to cpan-testers-discuss@perl.org
--
Dear LBAXTER,
This is a computer-generated report for Sys-SigAction-0.23
on perl 5.28.1, created by App::cpanminus::reporter 0.17 (1.7044).
Thank you for uploading your work to CPAN. Congratulations!
All tests were successful.
Sections of this report:
* Tester comments
* Program output
* Prerequisites
* Environment and other context
------------------------------
TESTER COMMENTS
------------------------------
Additional comments from tester:
none provided
------------------------------
PROGRAM OUTPUT
------------------------------
Output from '':
Building and testing Sys-SigAction-0.23
cp lib/Sys/SigAction/Alarm.pm blib/lib/Sys/SigAction/Alarm.pm
cp lib/Sys/SigAction.pm blib/lib/Sys/SigAction.pm
Manifying 1 pod document
PERL_DL_NONLAZY=1 "/home/chaz/.local/local/perl-5.28.1/bin/perl" "-MExtUtils::Command::MM" "-MTest::Harness" "-e" "undef *Test::Harness::Switches; test_harness(0, 'blib/lib', 'blib/arch')" t/*.t
t/alternatives.t ...... ok
t/inline_nested.t ..... ok
t/mask.t .............. ok
t/name.t .............. ok
t/number.t ............ ok
t/recursive_nested.t .. ok
NOTE: Setting safe=>1... with masked signals does not seem to work.
The problem is that the masked signals are not masked when safe=>1.
When safe=>0 they are.
If you have an application for safe=>1 and can come up with a patch
for this module that gets this test working, or a patch to the test
that shows how to fix it, please send it to me.
See the block below this one... which if executed would test safe mode
with masked signals... it is a clone of part of mask.t that proves this
is broken.
This test can be executed from the command line as follows:
SAFE_T=1 perl -Ilib t/safe.t
Lincoln
t/safe.t .............. ok
# delta time was 0.100120, timer was for 0.1 secconds
t/timeout.t ........... ok
All tests successful.
Files=8, Tests=87, 9 wallclock secs ( 0.03 usr 0.01 sys + 0.40 cusr 0.05 csys = 0.49 CPU)
Result: PASS
------------------------------
PREREQUISITES
------------------------------
Prerequisite modules loaded:
No requirements found
------------------------------
ENVIRONMENT AND OTHER CONTEXT
------------------------------
Environment variables:
LANG = en_US.UTF-8
PATH = /home/chaz/.local/bin:/home/chaz/bin:/home/chaz/perl5/bin:/home/chaz/.cargo/bin:/home/chaz/.local/bin:/home/chaz/bin:/home/chaz/perl5/bin:/home/chaz/.cargo/bin:/usr/local/bin:/usr/bin:/usr/local/sbin:/usr/sbin:/home/chaz/.composer/vendor/bin
PERL5LIB = /home/chaz/perl5/lib/perl5:/home/chaz/perl5/lib/perl5:
PERL_LOCAL_LIB_ROOT = :/home/chaz/perl5:/home/chaz/perl5
PERL_MB_OPT = --install_base /home/chaz/perl5
PERL_MM_OPT = INSTALL_BASE=/home/chaz/perl5
SHELL = /bin/bash
TERM = screen-256color
Perl special variables (and OS-specific diagnostics, for MSWin32):
EGID = 1000 10 1000
EUID = 1000
EXECUTABLE_NAME = /home/chaz/.local/local/perl-5.28.1/bin/perl
GID = 1000 10 1000
UID = 1000
Perl module toolchain versions installed:
Module Have
------------------- --------
CPAN 2.20
CPAN::Meta 2.150010
Cwd 3.74
ExtUtils::CBuilder 0.280230
ExtUtils::Command 7.34
ExtUtils::Install 2.14
ExtUtils::MakeMaker 7.34
ExtUtils::Manifest 1.70
ExtUtils::ParseXS 3.39
File::Spec 3.74
JSON 4.00
JSON::PP 2.97001
Module::Build 0.4224
Module::Signature n/a
Parse::CPAN::Meta 2.150010
Test::Harness 3.42
Test::More 1.302141
YAML 1.27
YAML::Syck 1.31
version 0.9923
--
Summary of my perl5 (revision 5 version 28 subversion 1) configuration:
Platform:
osname=linux
osvers=3.10.0-957.1.3.el7.x86_64
archname=x86_64-linux
uname='linux vps-4 3.10.0-957.1.3.el7.x86_64 #1 smp thu nov 29 14:49:43 utc 2018 x86_64 x86_64 x86_64 gnulinux '
config_args='-ds -e -Dprefix=/home/chaz/.local/local/perl-5.28.1 -Dcc=zapcc'
hint=recommended
useposix=true
d_sigaction=define
useithreads=undef
usemultiplicity=undef
use64bitint=define
use64bitall=define
uselongdouble=undef
usemymalloc=n
default_inc_excludes_dot=define
bincompat5005=undef
Compiler:
cc='zapcc'
ccflags ='-fno-strict-aliasing -pipe -fstack-protector-strong -I/usr/local/include -D_LARGEFILE_SOURCE -D_FILE_OFFSET_BITS=64 -D_FORTIFY_SOURCE=2'
optimize='-O2'
cppflags='-fno-strict-aliasing -pipe -fstack-protector-strong -I/usr/local/include'
ccversion=''
gccversion='4.2.1 Compatible zapcc Clang 7.0.0 (https://github.com/yrnkrn/zapcc) (https://github.com/yrnkrn/zapcc.git cba7186bacde34ecd99e617b3989d384f4ee40d7)'
gccosandvers=''
intsize=4
longsize=8
ptrsize=8
doublesize=8
byteorder=12345678
doublekind=3
d_longlong=define
longlongsize=8
d_longdbl=define
longdblsize=16
longdblkind=3
ivtype='long'
ivsize=8
nvtype='double'
nvsize=8
Off_t='off_t'
lseeksize=8
alignbytes=8
prototype=define
Linker and Libraries:
ld='zapcc'
ldflags =' -fstack-protector-strong -L/usr/local/lib'
libpth=/usr/local/lib /usr/lib /lib/../lib64 /usr/lib/../lib64 /lib /lib64 /usr/lib64 /usr/local/lib64
libs=-lpthread -lnsl -lgdbm -ldb -ldl -lm -lcrypt -lutil -lc -lgdbm_compat
perllibs=-lpthread -lnsl -ldl -lm -lcrypt -lutil -lc
libc=libc-2.17.so
so=so
useshrplib=false
libperl=libperl.a
gnulibc_version='2.17'
Dynamic Linking:
dlsrc=dl_dlopen.xs
dlext=so
d_dlsymun=undef
ccdlflags='-Wl,-E'
cccdlflags='-fPIC'
lddlflags='-shared -O2 -L/usr/local/lib -fstack-protector-strong'
Characteristics of this binary (from libperl):
Compile-time options:
HAS_TIMES
PERLIO_LAYERS
PERL_COPY_ON_WRITE
PERL_DONT_CREATE_GVSV
PERL_MALLOC_WRAP
PERL_OP_PARENT
PERL_PRESERVE_IVUV
USE_64_BIT_ALL
USE_64_BIT_INT
USE_LARGE_FILES
USE_LOCALE
USE_LOCALE_COLLATE
USE_LOCALE_CTYPE
USE_LOCALE_NUMERIC
USE_LOCALE_TIME
USE_PERLIO
USE_PERL_ATOF
Built under linux
Compiled at Dec 25 2018 13:32:32
%ENV:
PERL5LIB="/home/chaz/perl5/lib/perl5:/home/chaz/perl5/lib/perl5:"
PERL_LOCAL_LIB_ROOT=":/home/chaz/perl5:/home/chaz/perl5"
PERL_MB_OPT="--install_base /home/chaz/perl5"
PERL_MM_OPT="INSTALL_BASE=/home/chaz/perl5"
@INC:
/home/chaz/perl5/lib/perl5/x86_64-linux
/home/chaz/perl5/lib/perl5
/home/chaz/perl5/lib/perl5/x86_64-linux
/home/chaz/perl5/lib/perl5
/home/chaz/.local/local/perl-5.28.1/lib/site_perl/5.28.1/x86_64-linux
/home/chaz/.local/local/perl-5.28.1/lib/site_perl/5.28.1
/home/chaz/.local/local/perl-5.28.1/lib/5.28.1/x86_64-linux
/home/chaz/.local/local/perl-5.28.1/lib/5.28.1